BEGIN:VCALENDAR
VERSION:2.0
PRODID:-//CRC 326 - GAUS - ECPv6.15.20//NONSGML v1.0//EN
CALSCALE:GREGORIAN
METHOD:PUBLISH
X-WR-CALNAME:CRC 326 - GAUS
X-ORIGINAL-URL:https://crc326gaus.de
X-WR-CALDESC:Events for CRC 326 - GAUS
REFRESH-INTERVAL;VALUE=DURATION:PT1H
X-Robots-Tag:noindex
X-PUBLISHED-TTL:PT1H
BEGIN:VTIMEZONE
TZID:Europe/Berlin
BEGIN:DAYLIGHT
TZOFFSETFROM:+0100
TZOFFSETTO:+0200
TZNAME:CEST
DTSTART:20240331T010000
END:DAYLIGHT
BEGIN:STANDARD
TZOFFSETFROM:+0200
TZOFFSETTO:+0100
TZNAME:CET
DTSTART:20241027T010000
END:STANDARD
BEGIN:DAYLIGHT
TZOFFSETFROM:+0100
TZOFFSETTO:+0200
TZNAME:CEST
DTSTART:20250330T010000
END:DAYLIGHT
BEGIN:STANDARD
TZOFFSETFROM:+0200
TZOFFSETTO:+0100
TZNAME:CET
DTSTART:20251026T010000
END:STANDARD
BEGIN:DAYLIGHT
TZOFFSETFROM:+0100
TZOFFSETTO:+0200
TZNAME:CEST
DTSTART:20260329T010000
END:DAYLIGHT
BEGIN:STANDARD
TZOFFSETFROM:+0200
TZOFFSETTO:+0100
TZNAME:CET
DTSTART:20261025T010000
END:STANDARD
END:VTIMEZONE
BEGIN:VEVENT
DTSTART;TZID=Europe/Berlin:20251014T140000
DTEND;TZID=Europe/Berlin:20251014T153000
DTSTAMP:20260423T101900
CREATED:20250915T105759Z
LAST-MODIFIED:20251020T072830Z
UID:11647-1760450400-1760455800@crc326gaus.de
SUMMARY:Tame Local Langlands
DESCRIPTION:Talk 1: The Kottwitz set B(GL_n)\nArieh Zimmerman (Boston College) \nZoom (612 2072 7363\, Password: largest six digit prime number)
URL:https://crc326gaus.de/event/tame-local-langlands-141025/
LOCATION:Darmstadt\, Room 401 and Zoom\, Schlossgartenstraße 7\, Darmstadt\, 64289\, Germany
CATEGORIES:GAUS-AG
END:VEVENT
BEGIN:VEVENT
DTSTART;TZID=Europe/Berlin:20251015T140000
DTEND;TZID=Europe/Berlin:20251015T180000
DTSTAMP:20260423T101900
CREATED:20251009T085158Z
LAST-MODIFIED:20251218T122159Z
UID:11837-1760536800-1760551200@crc326gaus.de
SUMMARY:p-adic Simpson correspondence
DESCRIPTION:Talk 0: Ruth Wild (Goethe Universität Frankfurt): Introduction \nTalk 1: Benjamin Steklov (Goethe Universität Frankfurt): Rigid and perfectoid spaces \nTalk 2: Magnus Carlson (Goethe Universität Frankfurt): v-topology \n  \n 
URL:https://crc326gaus.de/event/p-adic-simpson-correspondence/
LOCATION:Frankfurt\, Robert-Mayer-Str. 6-8\, Raum 309
CATEGORIES:GAUS-AG
END:VEVENT
BEGIN:VEVENT
DTSTART;TZID=Europe/Berlin:20251016T091500
DTEND;TZID=Europe/Berlin:20251016T104500
DTSTAMP:20260423T101900
CREATED:20251015T130732Z
LAST-MODIFIED:20251118T134043Z
UID:11951-1760606100-1760611500@crc326gaus.de
SUMMARY:Konstruktion von Galoisüberlagerungen mithilfe starr-analytischer Verklebung
DESCRIPTION:Talk 1: Einführung\nAlexander Schmidt (Universität Heidelberg)
URL:https://crc326gaus.de/event/konstruktion-von-galoisuberlagerungen-mithilfe-starr-analytischer-verklebung/
LOCATION:Heidelberg\, MATHEMATIKON\, SR 7\, INF 205\, Heidelberg\, 69120\, Germany
CATEGORIES:GAUS-AG
END:VEVENT
BEGIN:VEVENT
DTSTART;TZID=Europe/Berlin:20251017T133000
DTEND;TZID=Europe/Berlin:20251017T150000
DTSTAMP:20260423T101900
CREATED:20250916T124552Z
LAST-MODIFIED:20250916T124552Z
UID:11688-1760707800-1760713200@crc326gaus.de
SUMMARY:Solid Locally Analytic Representations in Mixed Characteristic
DESCRIPTION:Dr. Gal Porat (Einstein Institute of Mathematics\, Hebrew University of Jerusalem) \nAbstract:\nLocally analytic representations of p-adic Lie groups with Q_p coefficients are powerful tools in p-adic Hodge theory and the p-adic Langlands program. This perspective reveals important differential structures\, such as the Sen and Casimir operators.\nA few years ago\, Rodrigues Jacinto and Rodriguez Camargo developed a “solid” version of this theory using the language of condensed mathematics\, which provides more robust homological tools (comparison theorems\, spectral sequences…) for studying these representations.\nThis talk will present ongoing work that extends this solid theory to a much broader class of mixed characteristic coefficients\, such as F_p((X)) or Z_p[[X]]<p/x>\, as well as semilinear representations. I will conclude by exploring how these ideas relate to mixed characteristic phenomena in p-adic Hodge theory and the Langlands program.
URL:https://crc326gaus.de/event/solid-locally-analytic-representations-in-mixed-characteristic/
LOCATION:Heidelberg\, Mathematikon\, SR A and Livestream
CATEGORIES:GAUS-Seminar
END:VEVENT
BEGIN:VEVENT
DTSTART;TZID=Europe/Berlin:20251020T090000
DTEND;TZID=Europe/Berlin:20251022T130000
DTSTAMP:20260423T101900
CREATED:20251013T124748Z
LAST-MODIFIED:20251013T124907Z
UID:11918-1760950800-1761138000@crc326gaus.de
SUMMARY:"Motives and Higher Categories "
DESCRIPTION:The workshop will feature 12 talks by the following speakers: \n  \nWilliam Balderama \nJulius Frank \nNiklas Kipp \nAhina Nandy \nLucas Piessevaux \nFlorian Riedel \nVictor Saunier \nRobert Szafarczyk \nHari Sudarsan \nSwann Tubach \nAnneloes Viergever  \nSebastian Wolf
URL:https://crc326gaus.de/event/workshop-motives-and-higher-categories/
LOCATION:Mainz\, Hilbertraum (05-432)
CATEGORIES:GAUS-Workshop
ORGANIZER;CN="Tom Bachmann":MAILTO:tom.bachmann@uni-mainz.de
END:VEVENT
BEGIN:VEVENT
DTSTART;TZID=Europe/Berlin:20251021T140000
DTEND;TZID=Europe/Berlin:20251021T153000
DTSTAMP:20260423T101900
CREATED:20250915T105943Z
LAST-MODIFIED:20251020T072838Z
UID:11649-1761055200-1761060600@crc326gaus.de
SUMMARY:Tame Local Langlands
DESCRIPTION:Talk 2: The Kottwitz set B(G)\nYanik Kleibrink (TU Darmstadt) \nZoom (612 2072 7363\, Password: largest six digit prime number)
URL:https://crc326gaus.de/event/tame-local-langlands-211025/
LOCATION:Darmstadt\, Room 401 and Zoom\, Schlossgartenstraße 7\, Darmstadt\, 64289\, Germany
CATEGORIES:GAUS-AG
END:VEVENT
BEGIN:VEVENT
DTSTART;TZID=Europe/Berlin:20251023T091500
DTEND;TZID=Europe/Berlin:20251023T104500
DTSTAMP:20260423T101900
CREATED:20251017T132415Z
LAST-MODIFIED:20251118T134733Z
UID:11959-1761210900-1761216300@crc326gaus.de
SUMMARY:Konstruktion von Galoisüberlagerungen mithilfe starr-analytischer Verklebung
DESCRIPTION:Talk 2: Starr-analytische Räume\nAlexander Schmidt (Universität Heidelberg)
URL:https://crc326gaus.de/event/konstruktion-von-galoisuberlagerungen-mithilfe-starr-analytischer-verklebung-2/
LOCATION:Heidelberg\, MATHEMATIKON\, SR 7\, INF 205\, Heidelberg\, 69120\, Germany
CATEGORIES:GAUS-AG
END:VEVENT
BEGIN:VEVENT
DTSTART;TZID=Europe/Berlin:20251023T111500
DTEND;TZID=Europe/Berlin:20251023T124500
DTSTAMP:20260423T101900
CREATED:20251017T133227Z
LAST-MODIFIED:20251118T132226Z
UID:11961-1761218100-1761223500@crc326gaus.de
SUMMARY:Higher algebra
DESCRIPTION:Talk 1: From categories to ∞-categories\nMarvin Schneider (Universität Heidelberg)
URL:https://crc326gaus.de/event/higher-algebra/
LOCATION:Heidelberg\, Mathematikon\, SR 8 and Zoom\, INF 205\, Heidelberg\, Germany
CATEGORIES:GAUS-AG
END:VEVENT
BEGIN:VEVENT
DTSTART;TZID=Europe/Berlin:20251024T133000
DTEND;TZID=Europe/Berlin:20251024T150000
DTSTAMP:20260423T101900
CREATED:20251017T131844Z
LAST-MODIFIED:20251017T133629Z
UID:11957-1761312600-1761318000@crc326gaus.de
SUMMARY:Some cases of cube sum problem
DESCRIPTION:Dipramit Majumdar (IIT Madras / Universität Heidelberg) \nAbstract: An integer n is said to be a rational cube sum or simply a cube sum if n can be written as a sum of cubes of two rational numbers. For example\, 6 = (17/21)^3+ (37/21)^3. A cube-free integer n > 2 is a cube sum if and only if the elliptic curve y^2=x^3-432n^2 has infinitely many solutions over the rational numbers. A recent result of Alpöge-Bhargava-Shnidman-Burungale-Skinner shows that a positive proportion of integers are cube sums and a positive proportion of integers are not. \nWe will discuss the cube sum problem for some special family of integers. This talk is based on joint works with De\, Jha\, Mondal\, Shingavekar and Sury.
URL:https://crc326gaus.de/event/some-cases-of-cube-sum-problem/
LOCATION:Heidelberg\, Mathematikon\, SR A and Livestream
CATEGORIES:GAUS-Seminar
END:VEVENT
BEGIN:VEVENT
DTSTART;TZID=Europe/Berlin:20251024T153000
DTEND;TZID=Europe/Berlin:20251024T170000
DTSTAMP:20260423T101900
CREATED:20250915T102833Z
LAST-MODIFIED:20250915T102833Z
UID:11619-1761319800-1761325200@crc326gaus.de
SUMMARY:Seminar on Arithmetic Geometry
DESCRIPTION:Michael Rapoport (University Bonn): Toric schemes and integral models of Shimura varieties \nThe modular curve with Gamma0(p)$-level structure has a beautiful integral model over BZp\, and generalizations of this model to any Shimura variety with p-parahoric level have been constructed in the last 30 years. When passing from Gamma0(p)-level to Gamma1(p)-level\, the situation changes drastically. In the talk I will explain a general method that potentially allows to deal with such level structures. The method is based on the construction of torus embeddings of the maximal torus of a reductive group scheme. Joint work with G. Pappas. \nZoom (635 7328 0984\, Kenncode: kleinste sechsstellige Primzahl)
URL:https://crc326gaus.de/event/seminar-on-arithmetic-geometry-241025/
LOCATION:Darmstadt\, Room 401 and Zoom\, Schlossgartenstraße 7\, Darmstadt\, 64289\, Germany
CATEGORIES:GAUS-Seminar
ORGANIZER;CN="Sabrina Pauli":MAILTO:pauli@mathematik.tu-darmstadt.de
END:VEVENT
BEGIN:VEVENT
DTSTART;TZID=Europe/Berlin:20251027T100000
DTEND;TZID=Europe/Berlin:20251027T120000
DTSTAMP:20260423T101900
CREATED:20251030T131908Z
LAST-MODIFIED:20251113T140336Z
UID:12065-1761559200-1761566400@crc326gaus.de
SUMMARY:Riemann-Hilbert Correspondence in characteristic p
DESCRIPTION:Introduction by Tom Bachmann (JGU Mainz) \nWe will be learning about the Riemann-Hilbert correspondence in characteristic p\, relating ètale sheaves and Frobenius modules\, following the presentation of Akhil Mathew. The  current version of the program can be found at:  http://tom-bachmann.com/programm-RH.pdf
URL:https://crc326gaus.de/event/mod-p-riemann-hilbert-correspondence/
LOCATION:Mainz\, Hilbertraum 05-432
CATEGORIES:GAUS-AG
ORGANIZER;CN="Tom Bachmann":MAILTO:tom.bachmann@uni-mainz.de
END:VEVENT
BEGIN:VEVENT
DTSTART;TZID=Europe/Berlin:20251027T151500
DTEND;TZID=Europe/Berlin:20251027T174500
DTSTAMP:20260423T101900
CREATED:20251007T084800Z
LAST-MODIFIED:20251112T112527Z
UID:11797-1761578100-1761587100@crc326gaus.de
SUMMARY:Noether-Lefschetz loci in A_g and modularity
DESCRIPTION:15:15 – 16:15 Riccardo Zuffetti (TU Darmstadt): Introduction to the modularity conjecture \n16:45 – 17:45 Mingkuan Zhang (TU Darmstadt): The moduli space of abelian varieties \n  \n 
URL:https://crc326gaus.de/event/noether-lefschetz-loci-in-a_g-and-modularity/
LOCATION:Darmstadt
CATEGORIES:GAUS-AG
ORGANIZER;CN="Jan Hendrik Bruinier":MAILTO:bruinier@mathematik.tu-darmstadt.de
END:VEVENT
BEGIN:VEVENT
DTSTART;TZID=Europe/Berlin:20251030T091500
DTEND;TZID=Europe/Berlin:20251030T104500
DTSTAMP:20260423T101900
CREATED:20251022T122857Z
LAST-MODIFIED:20251118T134830Z
UID:11998-1761815700-1761821100@crc326gaus.de
SUMMARY:Konstruktion von Galoisüberlagerungen mithilfe starr-analytischer Verklebung
DESCRIPTION:Talk 3: Proendliche Gruppen\nImmanuel Klevesath (Universität Heidelberg)
URL:https://crc326gaus.de/event/konstruktion-von-galoisuberlagerungen-mithilfe-starr-analytischer-verklebung-3/
LOCATION:Heidelberg\, MATHEMATIKON\, SR 7\, INF 205\, Heidelberg\, 69120\, Germany
CATEGORIES:GAUS-AG
END:VEVENT
BEGIN:VEVENT
DTSTART;TZID=Europe/Berlin:20251030T111500
DTEND;TZID=Europe/Berlin:20251030T124500
DTSTAMP:20260423T101900
CREATED:20251024T134708Z
LAST-MODIFIED:20251118T132320Z
UID:12023-1761822900-1761828300@crc326gaus.de
SUMMARY:Higher algebra
DESCRIPTION:Talk 2: Basic categorical constructions with ∞-categories\nAnna Blanco Cabanillas (Universität Heidelberg)
URL:https://crc326gaus.de/event/higher-algebra-2/
LOCATION:Heidelberg\, Mathematikon\, SR 8 and Zoom\, INF 205\, Heidelberg\, Germany
CATEGORIES:GAUS-AG
END:VEVENT
END:VCALENDAR