BEGIN:VCALENDAR
VERSION:2.0
PRODID:-//CRC 326 - GAUS - ECPv6.15.20//NONSGML v1.0//EN
CALSCALE:GREGORIAN
METHOD:PUBLISH
X-WR-CALNAME:CRC 326 - GAUS
X-ORIGINAL-URL:https://crc326gaus.de
X-WR-CALDESC:Events for CRC 326 - GAUS
REFRESH-INTERVAL;VALUE=DURATION:PT1H
X-Robots-Tag:noindex
X-PUBLISHED-TTL:PT1H
BEGIN:VTIMEZONE
TZID:Europe/Berlin
BEGIN:DAYLIGHT
TZOFFSETFROM:+0100
TZOFFSETTO:+0200
TZNAME:CEST
DTSTART:20240331T010000
END:DAYLIGHT
BEGIN:STANDARD
TZOFFSETFROM:+0200
TZOFFSETTO:+0100
TZNAME:CET
DTSTART:20241027T010000
END:STANDARD
BEGIN:DAYLIGHT
TZOFFSETFROM:+0100
TZOFFSETTO:+0200
TZNAME:CEST
DTSTART:20250330T010000
END:DAYLIGHT
BEGIN:STANDARD
TZOFFSETFROM:+0200
TZOFFSETTO:+0100
TZNAME:CET
DTSTART:20251026T010000
END:STANDARD
BEGIN:DAYLIGHT
TZOFFSETFROM:+0100
TZOFFSETTO:+0200
TZNAME:CEST
DTSTART:20260329T010000
END:DAYLIGHT
BEGIN:STANDARD
TZOFFSETFROM:+0200
TZOFFSETTO:+0100
TZNAME:CET
DTSTART:20261025T010000
END:STANDARD
END:VTIMEZONE
BEGIN:VEVENT
DTSTART;VALUE=DATE:20250901
DTEND;VALUE=DATE:20250906
DTSTAMP:20260423T083140
CREATED:20240709T112006Z
LAST-MODIFIED:20240709T112740Z
UID:8970-1756684800-1757116799@crc326gaus.de
SUMMARY:"International Workshop on Automorphic Forms"
DESCRIPTION:
URL:https://crc326gaus.de/event/workshop-international-workshop-on-automorphic-forms/
LOCATION:SwissMAP Research Station\, Les Diablerets\, Switzerland\, Switzerland
CATEGORIES:GAUS-Workshop
ORGANIZER;CN="Claire Burrin":MAILTO:claire.burrin@math.uzh.ch
END:VEVENT
BEGIN:VEVENT
DTSTART;TZID=Europe/Berlin:20250904T160000
DTEND;TZID=Europe/Berlin:20250904T170000
DTSTAMP:20260423T083140
CREATED:20251020T075530Z
LAST-MODIFIED:20251020T075530Z
UID:11987-1757001600-1757005200@crc326gaus.de
SUMMARY:tba
DESCRIPTION:International Seminar on Automorphic Forms \nZiqi Guo ( Peking University) tba \n  \nhttps://tu-darmstadt.zoom.us/j/68048280736 \nThe password is the first Fourier coefficient of the modular j-function (as digits)
URL:https://crc326gaus.de/event/tba-144/
LOCATION:Zoom
CATEGORIES:GAUS-Seminar
ORGANIZER;CN="Claire Burrin":MAILTO:claire.burrin@math.uzh.ch
END:VEVENT
END:VCALENDAR