BEGIN:VCALENDAR
VERSION:2.0
PRODID:-//CRC 326 - GAUS - ECPv6.15.20//NONSGML v1.0//EN
CALSCALE:GREGORIAN
METHOD:PUBLISH
X-ORIGINAL-URL:https://crc326gaus.de
X-WR-CALDESC:Events for CRC 326 - GAUS
REFRESH-INTERVAL;VALUE=DURATION:PT1H
X-Robots-Tag:noindex
X-PUBLISHED-TTL:PT1H
BEGIN:VTIMEZONE
TZID:Europe/Berlin
BEGIN:DAYLIGHT
TZOFFSETFROM:+0100
TZOFFSETTO:+0200
TZNAME:CEST
DTSTART:20250330T010000
END:DAYLIGHT
BEGIN:STANDARD
TZOFFSETFROM:+0200
TZOFFSETTO:+0100
TZNAME:CET
DTSTART:20251026T010000
END:STANDARD
BEGIN:DAYLIGHT
TZOFFSETFROM:+0100
TZOFFSETTO:+0200
TZNAME:CEST
DTSTART:20260329T010000
END:DAYLIGHT
BEGIN:STANDARD
TZOFFSETFROM:+0200
TZOFFSETTO:+0100
TZNAME:CET
DTSTART:20261025T010000
END:STANDARD
BEGIN:DAYLIGHT
TZOFFSETFROM:+0100
TZOFFSETTO:+0200
TZNAME:CEST
DTSTART:20270328T010000
END:DAYLIGHT
BEGIN:STANDARD
TZOFFSETFROM:+0200
TZOFFSETTO:+0100
TZNAME:CET
DTSTART:20271031T010000
END:STANDARD
BEGIN:DAYLIGHT
TZOFFSETFROM:+0100
TZOFFSETTO:+0200
TZNAME:CEST
DTSTART:20280326T010000
END:DAYLIGHT
BEGIN:STANDARD
TZOFFSETFROM:+0200
TZOFFSETTO:+0100
TZNAME:CET
DTSTART:20281029T010000
END:STANDARD
END:VTIMEZONE
BEGIN:VEVENT
DTSTART;TZID=Europe/Berlin:20260622T101500
DTEND;TZID=Europe/Berlin:20260622T114500
DTSTAMP:20260424T003931
CREATED:20260421T100218Z
LAST-MODIFIED:20260421T100218Z
UID:13159-1782123300-1782128700@crc326gaus.de
SUMMARY:de Rham-Witt complex
DESCRIPTION:Daniel Fink \n§9: The derived the Rham-Witt complex 2/2 \nBy the criterion of the previous talk\, the de Rham–Witt complex recovers the de Rham complex for a more general class of rings. Cover §9.5\, in particular Theorem 9.5.6\, Corollary 9.5.19\, and Theorem 9.5.21.
URL:https://crc326gaus.de/event/de-rham-witt-complex-8/
LOCATION:Mainz\, Hilbertraum (05-432)
CATEGORIES:GAUS-AG
ORGANIZER;CN="Tom Bachmann":MAILTO:tom.bachmann@uni-mainz.de
END:VEVENT
BEGIN:VEVENT
DTSTART;TZID=Europe/Berlin:20260623T160000
DTEND;TZID=Europe/Berlin:20260623T170000
DTSTAMP:20260424T003931
CREATED:20260416T144354Z
LAST-MODIFIED:20260421T110453Z
UID:13096-1782230400-1782234000@crc326gaus.de
SUMMARY:International Seminar on Automorphic Forms
DESCRIPTION:tba\nNoam Kimmel (MPIM Bonn) \nZoom (680 4828 0736\, The password is the first Fourier coefficient of the modular j-function (as digits)).
URL:https://crc326gaus.de/event/international-seminar-on-automorphic-forms-18/
CATEGORIES:GAUS-AG
END:VEVENT
BEGIN:VEVENT
DTSTART;TZID=Europe/Berlin:20260625T090000
DTEND;TZID=Europe/Berlin:20260625T110000
DTSTAMP:20260424T003931
CREATED:20260407T112310Z
LAST-MODIFIED:20260407T112310Z
UID:13012-1782378000-1782385200@crc326gaus.de
SUMMARY:Poincaré-Dualität in Charakteristik p
DESCRIPTION:Vortrag 9: Gerstenauflösung II – tba
URL:https://crc326gaus.de/event/poincare-dualitat-in-charakteristik-p-9/
LOCATION:Heidelberg\, Mathematikon\, SR 8\, Heidelberg\, Germany
CATEGORIES:GAUS-AG
END:VEVENT
BEGIN:VEVENT
DTSTART;TZID=Europe/Berlin:20260625T111500
DTEND;TZID=Europe/Berlin:20260625T124500
DTSTAMP:20260424T003931
CREATED:20260324T101157Z
LAST-MODIFIED:20260324T101157Z
UID:12907-1782386100-1782391500@crc326gaus.de
SUMMARY:The K-Theory of Z/p^n
DESCRIPTION:Talk 9: Relative-to-absolute descent III – speaker tba
URL:https://crc326gaus.de/event/the-k-theory-of-z-pn-8/
LOCATION:Heidelberg\, Mathematikon\, SR 8 und Zoom\, Germany
CATEGORIES:GAUS-AG
END:VEVENT
BEGIN:VEVENT
DTSTART;TZID=Europe/Berlin:20260629T101500
DTEND;TZID=Europe/Berlin:20260629T114500
DTSTAMP:20260424T003931
CREATED:20260421T100421Z
LAST-MODIFIED:20260421T100421Z
UID:13161-1782728100-1782733500@crc326gaus.de
SUMMARY:de Rham-Witt complex
DESCRIPTION:Lorenzo Mantovani \n§10: Comparison with crystalline cohomolgy 1/2 \nThe de Rham–Witt complex computes crystalline cohomology. If not done in the talk about §6\, quickly introduce/recall crystalline cohomology (see for example the book by Berthelot or Tag 07GI in the Stacks project)\, state Theorem 10.1.1 and explain the strategy for the proof (§10.1). Prove Proposition 10.2.1; coordinate with the speaker of the next talk (they might need intermediate results and proofs from §10.2). If not done in the talk about §6 and time permits\, prove Proposition 6.4.1 (which shows that the assumptions in the main result are needed).
URL:https://crc326gaus.de/event/de-rham-witt-complex-9/
LOCATION:Mainz\, Hilbertraum (05-432)
CATEGORIES:GAUS-AG
ORGANIZER;CN="Tom Bachmann":MAILTO:tom.bachmann@uni-mainz.de
END:VEVENT
BEGIN:VEVENT
DTSTART;TZID=Europe/Berlin:20260630T160000
DTEND;TZID=Europe/Berlin:20260630T170000
DTSTAMP:20260424T003931
CREATED:20260416T144447Z
LAST-MODIFIED:20260421T110300Z
UID:13095-1782835200-1782838800@crc326gaus.de
SUMMARY:International Seminar on Automorphic Forms
DESCRIPTION:tba\nHaocheng Fan (BICMR – Peking University) \nZoom (680 4828 0736\, The password is the first Fourier coefficient of the modular j-function (as digits)).
URL:https://crc326gaus.de/event/international-seminar-on-automorphic-forms-19/
CATEGORIES:GAUS-AG
END:VEVENT
BEGIN:VEVENT
DTSTART;TZID=Europe/Berlin:20260702T090000
DTEND;TZID=Europe/Berlin:20260702T110000
DTSTAMP:20260424T003931
CREATED:20260407T112519Z
LAST-MODIFIED:20260407T112519Z
UID:13014-1782982800-1782990000@crc326gaus.de
SUMMARY:Poincaré-Dualität in Charakteristik p
DESCRIPTION:Vortrag 10: Verbindung zu K-Theorie und motivischer Kohomologie – Morten Lüders (Universität Heidelberg)
URL:https://crc326gaus.de/event/poincare-dualitat-in-charakteristik-p-10/
LOCATION:Heidelberg\, Mathematikon\, SR 8\, Heidelberg\, Germany
CATEGORIES:GAUS-AG
END:VEVENT
BEGIN:VEVENT
DTSTART;TZID=Europe/Berlin:20260702T111500
DTEND;TZID=Europe/Berlin:20260702T124500
DTSTAMP:20260424T003931
CREATED:20260324T101533Z
LAST-MODIFIED:20260324T101533Z
UID:12909-1782990900-1782996300@crc326gaus.de
SUMMARY:The K-Theory of Z/p^n
DESCRIPTION:Talk 10: The even vanishing theorem – speaker tba
URL:https://crc326gaus.de/event/the-k-theory-of-z-pn-9/
LOCATION:Heidelberg\, Mathematikon\, SR 8 and Zoom\, INF 205\, Heidelberg\, Germany
CATEGORIES:GAUS-AG
END:VEVENT
BEGIN:VEVENT
DTSTART;TZID=Europe/Berlin:20260703T153000
DTEND;TZID=Europe/Berlin:20260703T170000
DTSTAMP:20260424T003931
CREATED:20260319T100517Z
LAST-MODIFIED:20260319T100517Z
UID:12881-1783092600-1783098000@crc326gaus.de
SUMMARY:Seminar on Arithmetic Geometry
DESCRIPTION:Yujie Xu (Columbia): tba \nZoom (635 7328 0984\, Kenncode: kleinste sechsstellige Primzahl)
URL:https://crc326gaus.de/event/seminar-on-arithmetic-geometry-36/
LOCATION:Darmstadt\, Room 401 and Zoom\, Schlossgartenstraße 7\, Darmstadt\, 64289\, Germany
CATEGORIES:GAUS-Seminar
ORGANIZER;CN="Sabrina Pauli":MAILTO:pauli@mathematik.tu-darmstadt.de
END:VEVENT
BEGIN:VEVENT
DTSTART;TZID=Europe/Berlin:20260706T101500
DTEND;TZID=Europe/Berlin:20260706T114500
DTSTAMP:20260424T003931
CREATED:20260421T100645Z
LAST-MODIFIED:20260421T100645Z
UID:13163-1783332900-1783338300@crc326gaus.de
SUMMARY:de Rham-Witt complex
DESCRIPTION:Luca Passolunghi \n§10: Comparison with crystalline cohomology 2/2 \nEnd of the proof of the previous talk.\nProve Propositions 10.3.1 and 10.4.1; show how everything fits together to prove Theorem 10.1.2. Coordinate with the speaker of the previous talk (you might need intermediate results and proofs from §10.2). If time permits and it was not done before\, prove Proposition 6.4.1
URL:https://crc326gaus.de/event/de-rham-witt-complex-10/
LOCATION:Mainz\, Hilbertraum (05-432)
CATEGORIES:GAUS-AG
ORGANIZER;CN="Tom Bachmann":MAILTO:tom.bachmann@uni-mainz.de
END:VEVENT
BEGIN:VEVENT
DTSTART;TZID=Europe/Berlin:20260707T160000
DTEND;TZID=Europe/Berlin:20260707T170000
DTSTAMP:20260424T003931
CREATED:20260416T144534Z
LAST-MODIFIED:20260421T105946Z
UID:13094-1783440000-1783443600@crc326gaus.de
SUMMARY:International Seminar on Automorphic Forms
DESCRIPTION:tba\nRyan Chen (Princeton) \nZoom (680 4828 0736\, The password is the first Fourier coefficient of the modular j-function (as digits)).
URL:https://crc326gaus.de/event/international-seminar-on-automorphic-forms-20/
CATEGORIES:GAUS-AG
END:VEVENT
BEGIN:VEVENT
DTSTART;TZID=Europe/Berlin:20260709T111500
DTEND;TZID=Europe/Berlin:20260709T124500
DTSTAMP:20260424T003931
CREATED:20260324T101734Z
LAST-MODIFIED:20260324T101734Z
UID:12911-1783595700-1783601100@crc326gaus.de
SUMMARY:The K-Theory of Z/p^n
DESCRIPTION:Talk 11: An algorithm for syntomic cohomology (optional) – speaker tba
URL:https://crc326gaus.de/event/the-k-theory-of-z-pn-10/
LOCATION:Heidelberg\, Mathematikon\, SR 8 and Zoom\, INF 205\, Heidelberg\, Germany
CATEGORIES:GAUS-AG
END:VEVENT
BEGIN:VEVENT
DTSTART;VALUE=DATE:20260914
DTEND;VALUE=DATE:20260918
DTSTAMP:20260424T003931
CREATED:20260310T091207Z
LAST-MODIFIED:20260420T082824Z
UID:12813-1789344000-1789689599@crc326gaus.de
SUMMARY:Conference: Non-archimedean methods in arithmetic and tropical geometry
DESCRIPTION:For more information see https://sites.google.com/view/annette60/home
URL:https://crc326gaus.de/event/conference-non-archimedean-methods-in-arithmetic-and-tropical-geometry/
LOCATION:Frankfurt\, Hilbertraum\, Rober-Mayer-Str. 6-8\, Raum 302
CATEGORIES:GAUS-Workshop
END:VEVENT
BEGIN:VEVENT
DTSTART;VALUE=DATE:20270405
DTEND;VALUE=DATE:20270410
DTSTAMP:20260424T003931
CREATED:20260219T132209Z
LAST-MODIFIED:20260317T084631Z
UID:12696-1806883200-1807315199@crc326gaus.de
SUMMARY:Conference: Derived Geometry and Applications
DESCRIPTION:
URL:https://crc326gaus.de/event/crc-conference/
LOCATION:Mainz
CATEGORIES:GAUS-Workshop
ORGANIZER;CN="Georg Tamme":MAILTO:georg.tamme@uni-mainz.de
END:VEVENT
END:VCALENDAR