BEGIN:VCALENDAR
VERSION:2.0
PRODID:-//CRC 326 - GAUS - ECPv6.15.20//NONSGML v1.0//EN
CALSCALE:GREGORIAN
METHOD:PUBLISH
X-WR-CALNAME:CRC 326 - GAUS
X-ORIGINAL-URL:https://crc326gaus.de
X-WR-CALDESC:Events for CRC 326 - GAUS
REFRESH-INTERVAL;VALUE=DURATION:PT1H
X-Robots-Tag:noindex
X-PUBLISHED-TTL:PT1H
BEGIN:VTIMEZONE
TZID:Europe/Berlin
BEGIN:DAYLIGHT
TZOFFSETFROM:+0100
TZOFFSETTO:+0200
TZNAME:CEST
DTSTART:20220327T010000
END:DAYLIGHT
BEGIN:STANDARD
TZOFFSETFROM:+0200
TZOFFSETTO:+0100
TZNAME:CET
DTSTART:20221030T010000
END:STANDARD
BEGIN:DAYLIGHT
TZOFFSETFROM:+0100
TZOFFSETTO:+0200
TZNAME:CEST
DTSTART:20230326T010000
END:DAYLIGHT
BEGIN:STANDARD
TZOFFSETFROM:+0200
TZOFFSETTO:+0100
TZNAME:CET
DTSTART:20231029T010000
END:STANDARD
BEGIN:DAYLIGHT
TZOFFSETFROM:+0100
TZOFFSETTO:+0200
TZNAME:CEST
DTSTART:20240331T010000
END:DAYLIGHT
BEGIN:STANDARD
TZOFFSETFROM:+0200
TZOFFSETTO:+0100
TZNAME:CET
DTSTART:20241027T010000
END:STANDARD
BEGIN:DAYLIGHT
TZOFFSETFROM:+0100
TZOFFSETTO:+0200
TZNAME:CEST
DTSTART:20250330T010000
END:DAYLIGHT
BEGIN:STANDARD
TZOFFSETFROM:+0200
TZOFFSETTO:+0100
TZNAME:CET
DTSTART:20251026T010000
END:STANDARD
END:VTIMEZONE
BEGIN:VEVENT
DTSTART;TZID=Europe/Berlin:20231212T160000
DTEND;TZID=Europe/Berlin:20231212T170000
DTSTAMP:20260424T013208
CREATED:20231009T105043Z
LAST-MODIFIED:20231204T084236Z
UID:6413-1702396800-1702400400@crc326gaus.de
SUMMARY:Resonances of Schottky surfaces
DESCRIPTION:International Seminar on Automorphic Forms \nAnke Pohl (University of Bremen) \nThe investigation of L^2-Laplace eigenvalues and eigenfunctions for hyperbolic surfaces of finite area is a classical and exciting topic at the intersection of number theory\, harmonic analysis and mathematical physics. In stark contrast\, for (geometrically finite) hyperbolic surfaces of infinite area\, the discrete L^2-spectrum is finite. A natural replacement are the resonances of the considered hyperbolic surface\, which are the poles of the meromorphically continued resolvent of the Laplacian. \nThese spectral entities also play an important role in number theory and various other fields\, and many fascinating results about them have already been found; the generalization of Selberg’s 3/16-theorem by Bourgain\, Gamburd and Sarnak is a well-known example. However\, an enormous amount of the properties of such resonances\, also some very elementary ones\, is still undiscovered. A few years ago\, by means of numerical experiments\, Borthwick noticed for some classes of Schottky surfaces (hyperbolic surfaces of infinite area without cusps and conical singularities) that their sets of resonances exhibit unexcepted and nice patterns\, which are not yet fully understood. \nAfter a brief survey of some parts of this field\, we will discuss an alternative numerical method\, combining tools from dynamics\, zeta functions\, transfer operators and thermodynamic formalism\, functional analysis and approximation theory. The emphasis of the presentation will be on motivation\, heuristics and pictures. This is joint work with Oscar Bandtlow\, Torben Schick and Alex Weisse. \nhttps://tu-darmstadt.zoom.us/j/68048280736 \nThe password is the first Fourier coefficient of the modular j-function (as digits).
URL:https://crc326gaus.de/event/tba-68/
LOCATION:Zoom
CATEGORIES:GAUS-Seminar
ORGANIZER;CN="Claire Burrin":MAILTO:claire.burrin@math.uzh.ch
END:VEVENT
BEGIN:VEVENT
DTSTART;TZID=Europe/Berlin:20231213T133000
DTEND;TZID=Europe/Berlin:20231213T163000
DTSTAMP:20260424T013208
CREATED:20231024T084426Z
LAST-MODIFIED:20231024T093830Z
UID:6773-1702474200-1702485000@crc326gaus.de
SUMMARY:Anabelian geometry
DESCRIPTION:13:30 – 14:45  Talk 8: Morten Lüders (Universität Heidelberg): Section conjecture for orbicurves and affine curves via root stacks \n15:15 – 16:30  Talk 9: Marcin Lara (Goethe Universität Frankfurt): Spreading out sections and coherence property
URL:https://crc326gaus.de/event/anabelian-geometry-3/
LOCATION:Heidelberg\, MATHEMATIKON\, SR A\, Deutschland
CATEGORIES:GAUS-AG
END:VEVENT
BEGIN:VEVENT
DTSTART;TZID=Europe/Berlin:20231214T110000
DTEND;TZID=Europe/Berlin:20231214T130000
DTSTAMP:20260424T013208
CREATED:20231010T132752Z
LAST-MODIFIED:20231121T101740Z
UID:6537-1702551600-1702558800@crc326gaus.de
SUMMARY:Emerton-Gee-Stacks
DESCRIPTION:Talk 8: Otmar Venjakob (Universität Heidelberg): Moduli stacks of (φ\, Γ)-modules III – the rank one case
URL:https://crc326gaus.de/event/emerton-gee-stacks-9/
LOCATION:Heidelberg\, Mathematikon\, SR 8 and Zoom\, INF 205\, Heidelberg\, Germany
CATEGORIES:GAUS-AG
END:VEVENT
BEGIN:VEVENT
DTSTART;TZID=Europe/Berlin:20231214T141500
DTEND;TZID=Europe/Berlin:20231214T151500
DTSTAMP:20260424T013208
CREATED:20231012T090245Z
LAST-MODIFIED:20231207T075847Z
UID:6652-1702563300-1702566900@crc326gaus.de
SUMMARY:Quadratic Atiyah-Bott Localisation
DESCRIPTION:Alessandro d’Angelo (Stockholm) \nAbstract: The Atiyah-Bott localisation theorem and the Graber-Pandharipande virtual localisation formula are standard tools for studying enumerative problems in the presence of a torus action. M. Levine proved similar results for Witt sheaf cohomology\, allowing us to retain quadratic information about the enumerative count. We will show how to extend the Atiyah-Bott localisation theorem to any SL-oriented motivic spectrum\, once the algebraic Hopf map is inverted. As an application\, we will also provide the appropriate virtual localisation formula for fundamental classes in this context. \nZoom Meeting-ID: 967 5163 9626 \nPasscode: last name of famous mathematician born in Königsberg (small letters)
URL:https://crc326gaus.de/event/tba-78/
LOCATION:Mainz\, Hilbertraum 05-432
CATEGORIES:GAUS-Seminar
END:VEVENT
BEGIN:VEVENT
DTSTART;TZID=Europe/Berlin:20231214T143000
DTEND;TZID=Europe/Berlin:20231214T153000
DTSTAMP:20260424T013208
CREATED:20231107T120412Z
LAST-MODIFIED:20231204T112155Z
UID:6926-1702564200-1702567800@crc326gaus.de
SUMMARY:Stationary Descendents and the Discriminant Modular Form
DESCRIPTION:TGiF-Seminar: Tropical geometry in Frankfurt (First meeting Winter Semester 2023/24) \nAdam Afandi (Universität Münster) \nAbstract: By using the Gromov-Witten/Hurwitz correspondence\, Okounkov and Pandharipande showed that certain generating functions of stationary descendent Gromov-Witten invariants of a smooth elliptic curve are quasimodular forms. In this talk\, I will discuss the various ways one can express the discriminant modular form in terms of these generating functions. The motivation behind this calculation is to provide a new perspective on tackling a longstanding conjecture of Lehmer from the middle of the 20th century; Lehmer posited that the Ramanujan tau function (i.e. the Fourier coefficients of the discriminant modular form) never vanishes. The connection with Gromov-Witten invariants allows one to translate Lehmer’s conjecture into a combinatorial problem involving characters of the symmetric group and shifted symmetric functions.
URL:https://crc326gaus.de/event/tba-92/
LOCATION:Frankfurt\, Robert-Mayer-Str. 10\, Raum 711 groß
CATEGORIES:GAUS-Seminar
END:VEVENT
BEGIN:VEVENT
DTSTART;TZID=Europe/Berlin:20231214T150000
DTEND;TZID=Europe/Berlin:20231214T163000
DTSTAMP:20260424T013208
CREATED:20231009T095017Z
LAST-MODIFIED:20231207T110223Z
UID:6386-1702566000-1702571400@crc326gaus.de
SUMMARY:Rigid Analytic Motives
DESCRIPTION:Talk 8: Fabio Tanania (TU Darmstadt): Interlude on (Co-)Modules and monodromy operators \nZoom meeting ID: 612 2072 7363\, Password: Largest six digit prime number.
URL:https://crc326gaus.de/event/rigid-analytic-motives-23/
LOCATION:Darmstadt\, Room 244 and Zoom\, Schlossgartenstraße 7\, Darmstadt\, 64289
CATEGORIES:GAUS-AG
END:VEVENT
BEGIN:VEVENT
DTSTART;TZID=Europe/Berlin:20231214T160000
DTEND;TZID=Europe/Berlin:20231214T170000
DTSTAMP:20260424T013208
CREATED:20231107T121051Z
LAST-MODIFIED:20231204T112026Z
UID:6928-1702569600-1702573200@crc326gaus.de
SUMMARY:Refined tropical curve counting with descendants
DESCRIPTION:TGiF-Seminar: Tropical geometry in Frankfurt (First meeting Winter Semester 2023/24) \nAjith Urundolil-Kumaran (University of Cambridge) \nAbstract: We introduce the enumerative geometry of curves in the algebraic torus (C*)^2. We show that a certain class of invariants associated with moduli spaces of curves in (C*)^2 can be calculated explicitly using a refined tropical correspondence theorem. If time permits we will explain how the proof relies on higher double ramification cycles and work of Buryak-Rossi on integrable systems on the moduli space of curves. This is joint work with Patrick Kennedy-Hunt and Qaasim Shafi. \n 
URL:https://crc326gaus.de/event/tba-93/
LOCATION:Frankfurt\, Robert-Mayer-Str. 10\, Raum 711 groß
CATEGORIES:GAUS-Seminar
END:VEVENT
BEGIN:VEVENT
DTSTART;TZID=Europe/Berlin:20231215T091500
DTEND;TZID=Europe/Berlin:20231215T104500
DTSTAMP:20260424T013208
CREATED:20231025T114441Z
LAST-MODIFIED:20231025T114441Z
UID:6801-1702631700-1702637100@crc326gaus.de
SUMMARY:Rigid meromorphic cocycles
DESCRIPTION:Overview of p-adic modular forms (Alireza Shavali)
URL:https://crc326gaus.de/event/rigid-meromorphic-cocycles-8/
LOCATION:Heidelberg\, Mathematikon\, SR 8 und Zoom\, Germany
CATEGORIES:GAUS-AG
ORGANIZER;CN="O%C4%9Fuz Gezmi%C5%9F":MAILTO:oguz.gezmis@iwr.uni-heidelberg.de
END:VEVENT
BEGIN:VEVENT
DTSTART;TZID=Europe/Berlin:20231215T101500
DTEND;TZID=Europe/Berlin:20231215T114500
DTSTAMP:20260424T013208
CREATED:20231121T124106Z
LAST-MODIFIED:20231204T074606Z
UID:7177-1702635300-1702640700@crc326gaus.de
SUMMARY:Exodromy
DESCRIPTION:Tom Bachmann (Universität Mainz): Sites for oriented fiber products
URL:https://crc326gaus.de/event/exodromy-8/
LOCATION:Mainz\, Raum 05-514
CATEGORIES:GAUS-AG
ORGANIZER;CN="Tom Bachmann":MAILTO:tom.bachmann@uni-mainz.de
END:VEVENT
BEGIN:VEVENT
DTSTART;TZID=Europe/Berlin:20231215T103000
DTEND;TZID=Europe/Berlin:20231215T120000
DTSTAMP:20260424T013208
CREATED:20231214T103650Z
LAST-MODIFIED:20231214T104458Z
UID:7470-1702636200-1702641600@crc326gaus.de
SUMMARY:On analogs of Cremona automorphisms for matroid fans
DESCRIPTION:Stefan Rettenmayr (Universität Frankfurt) \nDisputation
URL:https://crc326gaus.de/event/on-analogs-of-cremona-automorphisms-for-matroid-fans/
LOCATION:Frankfurt\, Robert-Mayer-Str. 10\, Raum 711 groß
CATEGORIES:GAUS-Disputation
ORGANIZER;CN="Annette Werner":MAILTO:werner[at]math.uni-frankfurt.de
END:VEVENT
BEGIN:VEVENT
DTSTART;TZID=Europe/Berlin:20231215T133000
DTEND;TZID=Europe/Berlin:20231215T150000
DTSTAMP:20260424T013208
CREATED:20231206T105109Z
LAST-MODIFIED:20231206T105410Z
UID:7399-1702647000-1702652400@crc326gaus.de
SUMMARY:Torsion in Griffiths Groups
DESCRIPTION:Theodosis Alexandrou (Universität Hannover) \nThe Griffiths group $Griff^{i}(X)$ of a smooth complex projective variety $X$ is the group of nullhomologous codimension$-i$ cycles on $X$ modulo algebraic equivalence. Recently Schreieder gave the first examples of smooth complex projective varieties $X$ for which the Griffiths group has infinite torsion. In his examples the infinitely many torsion classes are of order 2. In this talk we show that for any integer $n\geq 2$\, there is a smooth complex projective $5-$fold $X$ whose third Griffiths group contains infinitely many torsion elements of order $n$.
URL:https://crc326gaus.de/event/torsion-in-griffiths-groups/
LOCATION:Heidelberg\, Mathematikon\, SR A and Livestream
CATEGORIES:GAUS-Seminar
END:VEVENT
BEGIN:VEVENT
DTSTART;TZID=Europe/Berlin:20231215T153000
DTEND;TZID=Europe/Berlin:20231215T170000
DTSTAMP:20260424T013208
CREATED:20231016T110711Z
LAST-MODIFIED:20231205T130426Z
UID:6698-1702654200-1702659600@crc326gaus.de
SUMMARY:Motivic Linking
DESCRIPTION:Seminar on Arithmetic Geometry \nClémentine Lemarié—Rieusset (University of Burgundy) \nIn this talk I will present motivic linking\, a new application in algebraic geometry of motivic homotopy theory (specifically\, of quadratic intersection theory). Over a perfect field F\, motivic linking consists in the study of how two (nice) closed F-subschemes of a (nice) ambient F-scheme are linked (i.e. intertwined) and is a counterpart to linking in knot theory. More specifically\, I will present counterparts in algebraic geometry to the linking number of two oriented disjoint knots (the number of times one of the knots turns around the other knot). For the most part\, these counterparts take values in the Witt group of F or in the Grothendieck-Witt group of F\, rather than in the group of integers. There will be several examples\, including closed immersions between smooth models of motivic spheres and closed immersions between projective spaces. \nZoom (635 7328 0984\, Password: smallest six digit prime).
URL:https://crc326gaus.de/event/tba-86/
LOCATION:Darmstadt\, Room 401 and Zoom\, Schlossgartenstraße 7\, Darmstadt\, 64289\, Germany
CATEGORIES:GAUS-Seminar
ORGANIZER;CN="Sabrina Pauli":MAILTO:pauli@mathematik.tu-darmstadt.de
END:VEVENT
BEGIN:VEVENT
DTSTART;TZID=Europe/Berlin:20231221T150000
DTEND;TZID=Europe/Berlin:20231221T163000
DTSTAMP:20260424T013208
CREATED:20231009T095218Z
LAST-MODIFIED:20231207T110311Z
UID:6388-1703170800-1703176200@crc326gaus.de
SUMMARY:Rigid Analytic Motives
DESCRIPTION:Talk 7: Christian Dahlhausen (Heidelberg): Rigid analytic motives II: comparing categories of motives \nZoom meeting ID: 612 2072 7363\, Password: Largest six digit prime number.
URL:https://crc326gaus.de/event/rigid-analytic-motives-24/
LOCATION:Darmstadt\, Room 244 and Zoom\, Schlossgartenstraße 7\, Darmstadt\, 64289
CATEGORIES:GAUS-AG
END:VEVENT
BEGIN:VEVENT
DTSTART;TZID=Europe/Berlin:20231222T101500
DTEND;TZID=Europe/Berlin:20231222T114500
DTSTAMP:20260424T013208
CREATED:20231121T124232Z
LAST-MODIFIED:20231204T074702Z
UID:7179-1703240100-1703245500@crc326gaus.de
SUMMARY:Exodromy
DESCRIPTION:Klaus Mattis (Universität Mainz): Local ∞-topoi
URL:https://crc326gaus.de/event/exodromy-9/
LOCATION:Mainz\, Raum 05-514
CATEGORIES:GAUS-AG
ORGANIZER;CN="Tom Bachmann":MAILTO:tom.bachmann@uni-mainz.de
END:VEVENT
BEGIN:VEVENT
DTSTART;TZID=Europe/Berlin:20231222T153000
DTEND;TZID=Europe/Berlin:20231222T170000
DTSTAMP:20260424T013208
CREATED:20231016T110911Z
LAST-MODIFIED:20231215T072743Z
UID:6700-1703259000-1703264400@crc326gaus.de
SUMMARY:Deformations of $(G\,\mu)$-Displays
DESCRIPTION:Seminar on Arithmetic Geometry \nMohammad Hadi Hedayatzadeh (Institute for Research in Fundamental Sciences) \nIn this talk\, I will discuss a joint project with A. Partofard\, on prismatic displays with additional structures. I will start with a concise overview of the theory of displays developed by Th. Zink\, which serves as a generalization of Dieudonné theory. Displays play a crucial role in the study of Barsotti-Tate groups when the base is not a perfect field of positive characteristic. Zink has further expanded the theory by introducing windows over frames. In another direction\, in order to construct integral models of certain Shimura varieties that are not of Abelian type\, O. Bültel defined and studied displays with additional structures called $(G\,\mu)$-displays. \nIn this joint project with Partofard\, we define and study the stack of prismatic $(G\,\mu)$-displays over the quasi-syntomic site\, which is better adapted to the setting of pefectoid geometry and is closely related to the stack of $G$-torsors over the Fargues-Fontaine curve and local Shimura varieties. When $G$ is the general linear group\, our stack is the same as the stack of admissible prismatic $F$-crystals developed by Anschütz-LeBras\, which is equivalent to the stack of $p$-divisible groups. We also prove a Grothendieck-Messing style deformation result for these prismatic displays\, which\, for the general linear group\, answers a question of Anschütz-LeBras. \nZoom (635 7328 0984\, Password: smallest six digit prime).
URL:https://crc326gaus.de/event/tba-87/
LOCATION:Darmstadt\, Room 401 and Zoom\, Schlossgartenstraße 7\, Darmstadt\, 64289\, Germany
CATEGORIES:GAUS-Seminar
ORGANIZER;CN="Sabrina Pauli":MAILTO:pauli@mathematik.tu-darmstadt.de
END:VEVENT
BEGIN:VEVENT
DTSTART;TZID=Europe/Berlin:20240111T110000
DTEND;TZID=Europe/Berlin:20240111T130000
DTSTAMP:20260424T013208
CREATED:20231010T132638Z
LAST-MODIFIED:20231121T102323Z
UID:6535-1704970800-1704978000@crc326gaus.de
SUMMARY:Emerton-Gee-Stacks
DESCRIPTION:Talk 9: Rustam Steingart (Universität Heidelberg): Moduli stacks of (φ\, Γ)-modules II – the geometry
URL:https://crc326gaus.de/event/emerton-gee-stacks-8/
LOCATION:Heidelberg\, Mathematikon\, SR 8 and Zoom\, INF 205\, Heidelberg\, Germany
CATEGORIES:GAUS-AG
END:VEVENT
BEGIN:VEVENT
DTSTART;TZID=Europe/Berlin:20240111T150000
DTEND;TZID=Europe/Berlin:20240111T163000
DTSTAMP:20260424T013208
CREATED:20231009T095414Z
LAST-MODIFIED:20231207T110512Z
UID:6390-1704985200-1704990600@crc326gaus.de
SUMMARY:Rigid Analytic Motives
DESCRIPTION:Talk 9: Timo Richarz (TU Darmstadt): Rigid motives as algebraic motives with monodromy \nZoom meeting ID: 612 2072 7363\, Password: Largest six digit prime number.
URL:https://crc326gaus.de/event/rigid-analytic-motives-25/
LOCATION:Darmstadt\, Room 244 and Zoom\, Schlossgartenstraße 7\, Darmstadt\, 64289
CATEGORIES:GAUS-AG
END:VEVENT
BEGIN:VEVENT
DTSTART;TZID=Europe/Berlin:20240112T091500
DTEND;TZID=Europe/Berlin:20240112T104500
DTSTAMP:20260424T013208
CREATED:20240110T125900Z
LAST-MODIFIED:20240110T133355Z
UID:7562-1705050900-1705056300@crc326gaus.de
SUMMARY:Rigid meromorphic cocycles
DESCRIPTION:Jakob Burgi (Universität Heidelberg): Families of Eisenstein series and the winding cocycle
URL:https://crc326gaus.de/event/rigid-meromorphic-cocycles-9/
LOCATION:Heidelberg\, Mathematikon\, SR 8 und Zoom\, Germany
CATEGORIES:GAUS-AG
ORGANIZER;CN="O%C4%9Fuz Gezmi%C5%9F":MAILTO:oguz.gezmis@iwr.uni-heidelberg.de
END:VEVENT
BEGIN:VEVENT
DTSTART;TZID=Europe/Berlin:20240112T101500
DTEND;TZID=Europe/Berlin:20240112T114500
DTSTAMP:20260424T013208
CREATED:20231121T124614Z
LAST-MODIFIED:20240110T141719Z
UID:7181-1705054500-1705059900@crc326gaus.de
SUMMARY:Exodromy
DESCRIPTION:Nikita Müller (Universität Mainz): Beck–Chevalley conditions
URL:https://crc326gaus.de/event/exodromy-10/
LOCATION:Mainz\, Raum 05-514
CATEGORIES:GAUS-AG
ORGANIZER;CN="Tom Bachmann":MAILTO:tom.bachmann@uni-mainz.de
END:VEVENT
BEGIN:VEVENT
DTSTART;TZID=Europe/Berlin:20240112T133000
DTEND;TZID=Europe/Berlin:20240112T150000
DTSTAMP:20260424T013208
CREATED:20240101T193202Z
LAST-MODIFIED:20240101T193202Z
UID:7526-1705066200-1705071600@crc326gaus.de
SUMMARY:Equivariant motives and actions of finite reductive groups
DESCRIPTION:Can Yaylali (Darmstadt/Paris) \nAbstract: A finite reductive group G^F is defined as the fixed points of a reductive group G/F_q under the q-Frobenius endomorphism. Their representations were studied by Deligne-Lusztig and Brokemper gave a description of the G^F-equivariant intersection ring of a point (the ring classifying G^F-invariant cycles). Focusing on the latter\, I will give an introduction to (rational) motives with group actions and how this is related to equivariant intersection theory. I will use this formalism to relate motives with G^F-action to equivariant motives on the associated flag variety. I will also explain how this relates to Brokemper’s computations on algebraic cycles. If time permits\, I will try to discuss the implications on l-adic cohomology and how this can be used in the future to study motivic representation theory of G^F following Deligne-Lusztig.
URL:https://crc326gaus.de/event/equivariant-motives-and-actions-of-finite-reductive-groups/
LOCATION:Heidelberg\, Mathematikon\, SR A and Livestream
CATEGORIES:GAUS-Seminar
ORGANIZER;CN="Christian Dahlhausen":MAILTO:cdahlhausen@mathi.uni-heidelberg.de
END:VEVENT
BEGIN:VEVENT
DTSTART;VALUE=DATE:20240115
DTEND;VALUE=DATE:20240116
DTSTAMP:20260424T013208
CREATED:20231206T113526Z
LAST-MODIFIED:20231206T113526Z
UID:7404-1705276800-1705363199@crc326gaus.de
SUMMARY:Junior Symposium
DESCRIPTION:  \n 
URL:https://crc326gaus.de/event/junior-symposium/
LOCATION:Darmstadt
CATEGORIES:GAUS-Event
END:VEVENT
BEGIN:VEVENT
DTSTART;TZID=Europe/Berlin:20240116T160000
DTEND;TZID=Europe/Berlin:20240116T170000
DTSTAMP:20260424T013208
CREATED:20231009T105238Z
LAST-MODIFIED:20231221T093008Z
UID:6415-1705420800-1705424400@crc326gaus.de
SUMMARY:Automorphism group of Cartan modular curves
DESCRIPTION:International Seminar on Automorphic Forms \nPietro Mercuri (University of Rome – La Sapienza) \nWe consider the modular curves associated to a Cartan subgroup of GL(2\,Z/nZ) or to a particular class of subgroups of GL(2\,Z/nZ) containing the Cartan subgroup as a normal subgroup. We describe the automorphism group of these curves when the level is large enough. If time permits\, we give a sketch of the proof. \nhttps://tu-darmstadt.zoom.us/j/68048280736 \nThe password is the first Fourier coefficient of the modular j-function (as digits).
URL:https://crc326gaus.de/event/tba-69/
LOCATION:Darmstadt\, Room 401 and Zoom\, Schlossgartenstraße 7\, Darmstadt\, 64289\, Germany
CATEGORIES:GAUS-Seminar
ORGANIZER;CN="Claire Burrin":MAILTO:claire.burrin@math.uzh.ch
END:VEVENT
BEGIN:VEVENT
DTSTART;TZID=Europe/Berlin:20240118T110000
DTEND;TZID=Europe/Berlin:20240118T130000
DTSTAMP:20260424T013208
CREATED:20231010T132914Z
LAST-MODIFIED:20231121T150752Z
UID:6539-1705575600-1705582800@crc326gaus.de
SUMMARY:Emerton-Gee-Stacks
DESCRIPTION:Talk 10: Annie Littler (Universität Heidelberg): Moduli stacks of (φ\, Γ)-modules IV – trianguline rank two case
URL:https://crc326gaus.de/event/emerton-gee-stacks-10/
LOCATION:Heidelberg\, Mathematikon\, SR 8 and Zoom\, INF 205\, Heidelberg\, Germany
CATEGORIES:GAUS-AG
END:VEVENT
BEGIN:VEVENT
DTSTART;TZID=Europe/Berlin:20240118T150000
DTEND;TZID=Europe/Berlin:20240118T163000
DTSTAMP:20260424T013208
CREATED:20231009T095724Z
LAST-MODIFIED:20240110T132631Z
UID:6392-1705590000-1705595400@crc326gaus.de
SUMMARY:Rigid Analytic Motives
DESCRIPTION:Talk 10: Can Yaylali (TU Darmstadt): Weight Structures \nZoom meeting ID: 612 2072 7363\, Password: Largest six digit prime number.
URL:https://crc326gaus.de/event/rigid-analytic-motives-26/
LOCATION:Darmstadt\, Room 244 and Zoom\, Schlossgartenstraße 7\, Darmstadt\, 64289
CATEGORIES:GAUS-AG
END:VEVENT
BEGIN:VEVENT
DTSTART;TZID=Europe/Berlin:20240119T091500
DTEND;TZID=Europe/Berlin:20240119T104500
DTSTAMP:20260424T013208
CREATED:20240110T133609Z
LAST-MODIFIED:20240110T134202Z
UID:7566-1705655700-1705661100@crc326gaus.de
SUMMARY:Rigid meromorphic cocycles
DESCRIPTION:Lucas Gerth (Universität Frankfurt): Diagonal restrictions of p-adic Eisenstein families
URL:https://crc326gaus.de/event/rigid-meromorphic-cocycles-10/
LOCATION:Heidelberg\, Mathematikon\, SR 8 und Zoom\, Germany
CATEGORIES:GAUS-AG
ORGANIZER;CN="O%C4%9Fuz Gezmi%C5%9F":MAILTO:oguz.gezmis@iwr.uni-heidelberg.de
END:VEVENT
BEGIN:VEVENT
DTSTART;TZID=Europe/Berlin:20240119T101500
DTEND;TZID=Europe/Berlin:20240119T114500
DTSTAMP:20260424T013208
CREATED:20231121T124824Z
LAST-MODIFIED:20240110T142026Z
UID:7183-1705659300-1705664700@crc326gaus.de
SUMMARY:Exodromy
DESCRIPTION:Klaus Mattis (Universität Mainz): Gluing squares
URL:https://crc326gaus.de/event/exodromy-11/
LOCATION:Mainz\, Raum 05-514
CATEGORIES:GAUS-AG
ORGANIZER;CN="Tom Bachmann":MAILTO:tom.bachmann@uni-mainz.de
END:VEVENT
BEGIN:VEVENT
DTSTART;TZID=Europe/Berlin:20240119T140000
DTEND;TZID=Europe/Berlin:20240119T180000
DTSTAMP:20260424T013208
CREATED:20231123T090322Z
LAST-MODIFIED:20231123T090429Z
UID:7232-1705672800-1705687200@crc326gaus.de
SUMMARY:Conformal Field Theory
DESCRIPTION:14:00-15:00: Britta Spät (University of Wuppertal): On the McKay Conjecture \n15:15-16:15: Ida Zadeh (Johannes Gutenberg University Mainz): Mathieu Moonshine and T4/Z3 sigma-models \n17:00-18:00: David Reutter (University of Hamburg): A braided tensor 2-category from link homology
URL:https://crc326gaus.de/event/conformal-field-theory/
LOCATION:Darmstadt\, Room S214/24
CATEGORIES:GAUS-Seminar
END:VEVENT
BEGIN:VEVENT
DTSTART;TZID=Europe/Berlin:20240119T153000
DTEND;TZID=Europe/Berlin:20240119T170000
DTSTAMP:20260424T013208
CREATED:20231016T111231Z
LAST-MODIFIED:20240112T073106Z
UID:6704-1705678200-1705683600@crc326gaus.de
SUMMARY:Enumerating motivic nearby cycles
DESCRIPTION:Seminar on Arithmetic Geometry \nRan Azouri (Sorbonne Paris North University) \nA^1 homotopy theory provides tools to refine geometric invariants on integers to quadratic forms. A key such invariant is the quadratic Euler characteristic; Ayoub’s motivic nearby cycles provide a tool to study singularities in the world of A^1 homotopy.\nIn the talk I will explain how to compute the quadratic Euler characteristic on the motivic nearby cycles spectrum around certain singularities\, using an explicit semistable reduction construction. This\, together with a work of Levine\, Pepin Lehalleur and Srinivas\, adds up to a quadratic conductor formula on schemes with semi-quasihomogeneous singularities\, refining formulas of Milnor and Deligne.\nLater I will describe how\, in a work in progress with Emil Jacobsen\, we use a similar semistable reduction argument to compute the motivic monodromy on nearby cycles\, generalising to motives the Picard-Lefschetz formula of Deligne and Katz. \nZoom (635 7328 0984\, Password: smallest six digit prime).
URL:https://crc326gaus.de/event/tba-89/
LOCATION:Darmstadt\, Room 401 and Zoom\, Schlossgartenstraße 7\, Darmstadt\, 64289\, Germany
CATEGORIES:GAUS-Seminar
ORGANIZER;CN="Sabrina Pauli":MAILTO:pauli@mathematik.tu-darmstadt.de
END:VEVENT
BEGIN:VEVENT
DTSTART;TZID=Europe/Berlin:20240123T090000
DTEND;TZID=Europe/Berlin:20240123T100000
DTSTAMP:20260424T013208
CREATED:20231009T105405Z
LAST-MODIFIED:20240109T101527Z
UID:6417-1706000400-1706004000@crc326gaus.de
SUMMARY:The BZSV duality and the relative Langlands program
DESCRIPTION:International Seminar on Automorphic Forms \nWee Teck Gan (National University of Singapore) \nI will discuss a duality of Hamiltonian group varieties proposed in a recent preprint of Ben-Zvi\, Sakellaridis and Venkatesh\, which gives a new paradigm for the relative Langlands program.\nI will then discuss a joint work with Bryan Wang on instances of this duality for certain Hamiltonian varieties which quantize to generalized Whittaker models. \nYou can join the Zoom meeting at https://tu-darmstadt.zoom.us/j/68048280736 \nThe password is the first Fourier coefficient of the modular j-function (as digits).
URL:https://crc326gaus.de/event/tba-70/
LOCATION:Zoom
CATEGORIES:GAUS-Seminar
END:VEVENT
BEGIN:VEVENT
DTSTART;TZID=Europe/Berlin:20240123T140000
DTEND;TZID=Europe/Berlin:20240123T150000
DTSTAMP:20260424T013208
CREATED:20231220T150741Z
LAST-MODIFIED:20231220T151059Z
UID:7510-1706018400-1706022000@crc326gaus.de
SUMMARY:Étale cohomology of the moduli stack of rank 2 vector bundles on the Fargues-Fontaine curve
DESCRIPTION:Seminar: Non-archimedean geometry \nRuth Wild (Universität Bonn) \nAbstract: Motivated by classical calculations\, we consider the problem of calculating the etale cohomology of the moduli stack Bun<sub>2</sub> of rank 2 vector bundles on the Fargues-Fontaine curve\, as introduced by Fargues and Scholze in their geometrization of the Local Langlands correspondence. We achive this by analyzing a stratafication of this stack and the simple cohomological behavior of the different strata. Along the way\, we prove the description of the dualizing sheaf on Bun<sub>2</sub>.
URL:https://crc326gaus.de/event/etale-cohomology-of-the-moduli-stack-of-rank-2-vector-bundles-on-the-fargues-fontaine-curve/
LOCATION:Frankfurt\, Rober-Mayer-Str. 10\, Raum 711 klein
CATEGORIES:GAUS-Seminar
END:VEVENT
END:VCALENDAR