BEGIN:VCALENDAR
VERSION:2.0
PRODID:-//CRC 326 - GAUS - ECPv6.15.20//NONSGML v1.0//EN
CALSCALE:GREGORIAN
METHOD:PUBLISH
X-WR-CALNAME:CRC 326 - GAUS
X-ORIGINAL-URL:https://crc326gaus.de
X-WR-CALDESC:Events for CRC 326 - GAUS
REFRESH-INTERVAL;VALUE=DURATION:PT1H
X-Robots-Tag:noindex
X-PUBLISHED-TTL:PT1H
BEGIN:VTIMEZONE
TZID:Europe/Berlin
BEGIN:DAYLIGHT
TZOFFSETFROM:+0100
TZOFFSETTO:+0200
TZNAME:CEST
DTSTART:20230326T010000
END:DAYLIGHT
BEGIN:STANDARD
TZOFFSETFROM:+0200
TZOFFSETTO:+0100
TZNAME:CET
DTSTART:20231029T010000
END:STANDARD
BEGIN:DAYLIGHT
TZOFFSETFROM:+0100
TZOFFSETTO:+0200
TZNAME:CEST
DTSTART:20240331T010000
END:DAYLIGHT
BEGIN:STANDARD
TZOFFSETFROM:+0200
TZOFFSETTO:+0100
TZNAME:CET
DTSTART:20241027T010000
END:STANDARD
BEGIN:DAYLIGHT
TZOFFSETFROM:+0100
TZOFFSETTO:+0200
TZNAME:CEST
DTSTART:20250330T010000
END:DAYLIGHT
BEGIN:STANDARD
TZOFFSETFROM:+0200
TZOFFSETTO:+0100
TZNAME:CET
DTSTART:20251026T010000
END:STANDARD
END:VTIMEZONE
BEGIN:VEVENT
DTSTART;TZID=Europe/Berlin:20240705T090000
DTEND;TZID=Europe/Berlin:20240705T110000
DTSTAMP:20260423T213037
CREATED:20240507T103052Z
LAST-MODIFIED:20240625T124241Z
UID:8508-1720170000-1720177200@crc326gaus.de
SUMMARY:Shtukas for reductive groups and global Langlands correspondence after Vincent Lafforgue
DESCRIPTION:Alireza Shavali (Universität Heidelberg) Talk 11: Moduli of representations and global Langlands parametrization (Part I) \n 
URL:https://crc326gaus.de/event/shtukas-for-reductive-groups-and-global-langlands-correspondence-after-vincent-lafforgue-10/
LOCATION:Heidelberg\, Mathematikon\, SR 8 and Zoom\, INF 205\, Heidelberg\, Germany
CATEGORIES:GAUS-AG
ORGANIZER;CN="Gebhard B%C3%B6ckle":MAILTO:gebhard.boeckle iwr.uni-heidelberg.de
END:VEVENT
BEGIN:VEVENT
DTSTART;TZID=Europe/Berlin:20240704T140000
DTEND;TZID=Europe/Berlin:20240704T170000
DTSTAMP:20260423T213037
CREATED:20240326T150206Z
LAST-MODIFIED:20240418T132902Z
UID:7997-1720101600-1720112400@crc326gaus.de
SUMMARY:Anabelian geometry
DESCRIPTION:14:00 – 15:00 Talk 8: Magnus Carlson (Goethe Universität): Finishing the proof \nCoffee break \n15:30 – 17:00 Talk 9: Marius Leonhardt (Universität Heidelberg): Frobenius eigenvalues
URL:https://crc326gaus.de/event/anabelian-geometry-10/
LOCATION:Frankfurt\, Robert-Mayer-Str. 10\, Raum 711 groß
CATEGORIES:GAUS-AG
END:VEVENT
BEGIN:VEVENT
DTSTART;TZID=Europe/Berlin:20240704T091500
DTEND;TZID=Europe/Berlin:20240704T104500
DTSTAMP:20260423T213037
CREATED:20240429T092411Z
LAST-MODIFIED:20240430T083357Z
UID:8350-1720084500-1720089900@crc326gaus.de
SUMMARY:Purity for the flat cohomology
DESCRIPTION:Talk 8: Amine Koubaa (Goethe-Universität Frankfurt): The key formula for perfectoid rings
URL:https://crc326gaus.de/event/purity-for-the-flat-cohomology-8/
LOCATION:Heidelberg\, Mathematikon\, SR tba
CATEGORIES:GAUS-AG
END:VEVENT
BEGIN:VEVENT
DTSTART;TZID=Europe/Berlin:20240703T160000
DTEND;TZID=Europe/Berlin:20240703T170000
DTSTAMP:20260423T213037
CREATED:20240326T142233Z
LAST-MODIFIED:20240623T130611Z
UID:7972-1720022400-1720026000@crc326gaus.de
SUMMARY:Higher rank Teichmüller spaces\, Higgs bundles and magical triples
DESCRIPTION:Oberseminar Algebra und Geometrie \nAndré Oliveira (Universidade do Porto) \nOne way to realize Teichmüller space of a closed oriented hyperbolic surface Σ is as the space of discrete and faithful representations π_1(Σ) -> PSL(2\,R). These constitute a connected component of the character variety of these representations. Higher rank Teichmüller space is a generalization for higher rank Lie groups. More precisely a higher rank Teichmüller space for a group G is a connected component of the G-character variety of representations π_1(Σ) -> G entirely consisting of discrete and faithful representations.\n\nThere are however two important differences comparing to the PSL(2\,R)-case. Firstly\, such spaces do not exist for any group G\, even though their existence has long been established whenever G is a split form (the Hitchin components) or Hermitian (maximal components). Secondly\, even if they exist for G\, not every discrete and faithful representation in G lies in a higher rank Teichmüller space. It was conjectured by Guichard—Labourie—Wienhard that the representations comprising such spaces are positive representations — a special class of discrete and faithful representations — which only exist when G admits a certain structure called positivity.\n\nNon-abelian Hodge theory yields corresponding connected components of the moduli space M(G) of G-Higgs bundles over an associated compact Riemann surface. We will introduce the notion of magical sl_2-triple and show that a group admits a positive structure if and only if it arises from such a magical triple. Then we we will use these magical triples and Higgs bundles to detect and parameterize components of M(G) which should be higher rank Teichmüller spaces (this was subsequently confirmed by Guichard—Labourie—Wienhard using our work). This is joint work with S. Bradlow\, B. Collier\, O. García-Prada and P. Gothen.\n 
URL:https://crc326gaus.de/event/tba-97/
LOCATION:Frankfurt\, Robert-Mayer-Str. 10\, Raum 711 groß
CATEGORIES:GAUS-Seminar
END:VEVENT
BEGIN:VEVENT
DTSTART;TZID=Europe/Berlin:20240702T160000
DTEND;TZID=Europe/Berlin:20240702T170000
DTSTAMP:20260423T213037
CREATED:20240429T085741Z
LAST-MODIFIED:20240625T123706Z
UID:8329-1719936000-1719939600@crc326gaus.de
SUMMARY:Spectral decomposition and Siegel-Veech transforms: The case of marked tori
DESCRIPTION:International Seminar on Automorphic Forms \nMartin Möller (Goethe University Frankfurt) \nhttps://tu-darmstadt.zoom.us/j/68048280736 \nAbstract: Generalizing the well-known construction of Eisenstein series on the modular curves\, Siegel-Veech transforms provide a natural construction of square-integrable functions on strata of differentials on Riemannian surfaces. Even the case of marked tori\, a homogeneous space but not for a reductive group provides features that we highlight in this talk with an eye on the general case.
URL:https://crc326gaus.de/event/tba-107/
LOCATION:Zoom
CATEGORIES:GAUS-Seminar
ORGANIZER;CN="Claire Burrin":MAILTO:claire.burrin@math.uzh.ch
END:VEVENT
BEGIN:VEVENT
DTSTART;TZID=Europe/Berlin:20240702T140000
DTEND;TZID=Europe/Berlin:20240702T153000
DTSTAMP:20260423T213037
CREATED:20240405T101538Z
LAST-MODIFIED:20240419T120259Z
UID:8105-1719928800-1719934200@crc326gaus.de
SUMMARY:Chromatic Homotopy Theory
DESCRIPTION:Timo Richarz (TU Darmstadt) \nTalk 12 – Chromatic splitting & vanishing conjectures \nZoom meeting ID: 612 2072 7363\, Password: Largest six digit prime number
URL:https://crc326gaus.de/event/chromatic-homotopy-theory-12/
LOCATION:Darmstadt\, Room 401\, Mainz Room 04-432 and Zoom\, Darmstadt and Mainz\, Darmstadt and Mainz
CATEGORIES:GAUS-AG
END:VEVENT
BEGIN:VEVENT
DTSTART;TZID=Europe/Berlin:20240628T133000
DTEND;TZID=Europe/Berlin:20240628T150000
DTSTAMP:20260423T213037
CREATED:20240621T112130Z
LAST-MODIFIED:20240621T112130Z
UID:8855-1719581400-1719586800@crc326gaus.de
SUMMARY:Counting congruences between modular forms
DESCRIPTION:Jaclyn Lang (Temple University\, Philadelphia) \nFor a given eigenform\, how many other eigenforms of the same weight and level are congruent to it modulo a prime l? We will explain how modular representation theory can be used to help answer this question. We focus especially on the case when the level is the square of a prime p such that p = -1 mod l. This is ongoing joint work with Robert Pollack and Preston Wake.
URL:https://crc326gaus.de/event/counting-congruences-between-modular-forms/
LOCATION:Heidelberg\, Mathematikon\, SR A and Livestream
CATEGORIES:GAUS-Seminar
END:VEVENT
BEGIN:VEVENT
DTSTART;TZID=Europe/Berlin:20240628T090000
DTEND;TZID=Europe/Berlin:20240628T110000
DTSTAMP:20260423T213037
CREATED:20240507T102827Z
LAST-MODIFIED:20240625T124348Z
UID:8506-1719565200-1719572400@crc326gaus.de
SUMMARY:Shtukas for reductive groups and global Langlands correspondence after Vincent Lafforgue
DESCRIPTION:Sriram C. Venkata (Universität Heidelberg): Talk 10: Drinfeld’s Lemma \n 
URL:https://crc326gaus.de/event/shtukas-for-reductive-groups-and-global-langlands-correspondence-after-vincent-lafforgue-9/
LOCATION:Heidelberg\, Mathematikon\, SR 8 and Zoom\, INF 205\, Heidelberg\, Germany
CATEGORIES:GAUS-AG
ORGANIZER;CN="Gebhard B%C3%B6ckle":MAILTO:gebhard.boeckle iwr.uni-heidelberg.de
END:VEVENT
BEGIN:VEVENT
DTSTART;TZID=Europe/Berlin:20240627T141500
DTEND;TZID=Europe/Berlin:20240627T151500
DTSTAMP:20260423T213037
CREATED:20240415T065640Z
LAST-MODIFIED:20240617T070004Z
UID:8162-1719497700-1719501300@crc326gaus.de
SUMMARY:Motivic cohomology of cyclic coverings
DESCRIPTION:Tariq Syed (Mainz) \nAbstract. The generalized Serre question asks whether algebraic vector bundles over topologically contractible smooth affine complex varieties are always trivial or not. Many examples of topologically contractible smooth affine complex varieties are given by so-called cyclic coverings. In this talk\, we present new results on the motivic cohomology of such cyclic coverings which might indicate a positive answer to the generalized Serre question in low dimensions.
URL:https://crc326gaus.de/event/tba-99/
LOCATION:Mainz\, Hilbertraum (05-432)
CATEGORIES:GAUS-Seminar
END:VEVENT
BEGIN:VEVENT
DTSTART;TZID=Europe/Berlin:20240627T110000
DTEND;TZID=Europe/Berlin:20240627T130000
DTSTAMP:20260423T213037
CREATED:20240619T141211Z
LAST-MODIFIED:20240619T141211Z
UID:8832-1719486000-1719493200@crc326gaus.de
SUMMARY:Arithmetic of critical p-adic L-functions
DESCRIPTION:Talk 9: Otmar Venjakob : Iwasawa theoretic invariants
URL:https://crc326gaus.de/event/arithmetic-of-critical-p-adic-l-functions-9/
LOCATION:Heidelberg\, Mathematikon\, SR 8 and Zoom\, INF 205\, Heidelberg\, Germany
CATEGORIES:GAUS-AG
END:VEVENT
BEGIN:VEVENT
DTSTART;TZID=Europe/Berlin:20240627T091500
DTEND;TZID=Europe/Berlin:20240627T104500
DTSTAMP:20260423T213037
CREATED:20240429T092319Z
LAST-MODIFIED:20240430T083313Z
UID:8348-1719479700-1719485100@crc326gaus.de
SUMMARY:Purity for the flat cohomology
DESCRIPTION:Talk 7: Christian Dahlhausen (Universität Heidelberg): Excision for flat cohomology
URL:https://crc326gaus.de/event/purity-for-the-flat-cohomology-7/
LOCATION:Heidelberg\, Mathematikon\, SR tba
CATEGORIES:GAUS-AG
END:VEVENT
BEGIN:VEVENT
DTSTART;TZID=Europe/Berlin:20240625T170000
DTEND;TZID=Europe/Berlin:20240625T180000
DTSTAMP:20260423T213037
CREATED:20240610T091334Z
LAST-MODIFIED:20240610T091334Z
UID:8760-1719334800-1719338400@crc326gaus.de
SUMMARY:Symplectic singularities and vertex algebras
DESCRIPTION:Tomoyuki Arakawa (RIMS): Symplectic singularities and vertex algebras \nSymplectic singularities introduced by Beauville appear in various aspects of representation theory and are referred to as “21st-century Lie theory” by Okounkov. On theother hand\, symplectic singularities also arise in the context of quantum field theory in physics\, particularly in the Higgs and Coulomb branches of three-dimensional theories\, as well as in the Higgs branches of four-dimensional theories. \nAdditionally\, in vertex algebra theory\, certain Poisson varieties called associated varieties are defined as geometric invariants\, and they often turn out to be symplectic singularities. In such cases\, vertex algebras can be regarded as chiral noncommutative deformations of symplectic singularities. \nIn particular\, the 4D/2D duality proposed by Beem et al. in theoretical physics determines vertex algebras as invariants for superconformal four-dimensional theories. It is claimed that the Higgs branch of four-dimensional theories can be reconstructed as the associated variety of vertex algebras. Therefore\, all vertex algebras arising from four-dimensional theories are supposed to be chiral noncommutative deformations of singular symplectic varieties. \nIn this lecture\, we will discuss such vertex algebras and their representation theory.
URL:https://crc326gaus.de/event/symplectic-singularities-and-vertex-algebras/
LOCATION:Darmstadt\, Room S215 401
CATEGORIES:GAUS-Seminar
END:VEVENT
BEGIN:VEVENT
DTSTART;TZID=Europe/Berlin:20240625T160000
DTEND;TZID=Europe/Berlin:20240625T170000
DTSTAMP:20260423T213037
CREATED:20240429T085621Z
LAST-MODIFIED:20240618T081923Z
UID:8327-1719331200-1719334800@crc326gaus.de
SUMMARY:Salem numbers and short geodesics
DESCRIPTION:International Seminar on Automorphic Forms \nLola Thompson (Utrecht University): Salem numbers and short geodesics \nWe will discuss how Mahler measure and related concepts (e.g.\, Salem numbers) are connected to problems about lengths of geodesics on arithmetic hyperbolic manifolds. As a result\, by solving problems using tools from number theory\, we are able to answer quantitative questions in spectral geometry. This talk will build towards two goals: showing that short geodesics on arithmetic hyperbolic surfaces are rare\, and showing that\, on average\, geodesic lengths of non-compact arithmetic hyperbolic orbifolds appear with high multiplicity. This talk is based on joint work with Mikhail Belolipetsky\, Matilde Lalín\, and Plinio G. P. Murillo; and with Benjamin Linowitz\, D. B. McReynolds\, and Paul Pollack. \nhttps://tu-darmstadt.zoom.us/j/68048280736
URL:https://crc326gaus.de/event/tba-106/
LOCATION:Zoom
CATEGORIES:GAUS-Seminar
ORGANIZER;CN="Claire Burrin":MAILTO:claire.burrin@math.uzh.ch
END:VEVENT
BEGIN:VEVENT
DTSTART;TZID=Europe/Berlin:20240625T140000
DTEND;TZID=Europe/Berlin:20240625T153000
DTSTAMP:20260423T213037
CREATED:20240405T101414Z
LAST-MODIFIED:20240422T111127Z
UID:8103-1719324000-1719329400@crc326gaus.de
SUMMARY:Chromatic Homotopy Theory
DESCRIPTION:Rizacan Ciloglu (TU Darmstadt) \nTalk 11 – Thick subcategories of finite p-local spectra \nZoom meeting ID: 612 2072 7363\, Password: Largest six digit prime number
URL:https://crc326gaus.de/event/chromatic-homotopy-theory-11/
LOCATION:Darmstadt\, Room 401\, Mainz Room 04-432 and Zoom\, Darmstadt and Mainz\, Darmstadt and Mainz
CATEGORIES:GAUS-AG
END:VEVENT
BEGIN:VEVENT
DTSTART;TZID=Europe/Berlin:20240621T153000
DTEND;TZID=Europe/Berlin:20240621T170000
DTSTAMP:20260423T213037
CREATED:20240405T092759Z
LAST-MODIFIED:20240606T075106Z
UID:8083-1718983800-1718989200@crc326gaus.de
SUMMARY:Seminar on Arithmetic Geometry
DESCRIPTION:Michael Rapoport (Universität Bonn): Integral models of Hecke operators \nI will discuss the construction of integral models of Hecke correspondences and the  extension of Hecke correspondences on automorphic vector bundles to integral models. \nZoom 635 7328 0984\, Kenncode: kleinste sechsstellige Primzahl
URL:https://crc326gaus.de/event/seminar-on-arithmetic-geometry-6/
LOCATION:Darmstadt\, Room 401 and Zoom\, Schlossgartenstraße 7\, Darmstadt\, 64289\, Germany
CATEGORIES:GAUS-Seminar
ORGANIZER;CN="Sabrina Pauli":MAILTO:pauli@mathematik.tu-darmstadt.de
END:VEVENT
BEGIN:VEVENT
DTSTART;TZID=Europe/Berlin:20240621T133000
DTEND;TZID=Europe/Berlin:20240621T150000
DTSTAMP:20260423T213037
CREATED:20240605T132021Z
LAST-MODIFIED:20240605T132021Z
UID:8752-1718976600-1718982000@crc326gaus.de
SUMMARY:A local model for potentially Barsotti–Tate Galois representations
DESCRIPTION:Stefano Morra (Université Paris 8\, St. Denis): \nPotentially Barsotti–Tate deformations are an essential tool to achieve arithmetic results as the proof of the Shimura–Taniyama–Weyl conjecture\, or the Breuil–M´ezard conjecture. Nevertheless\, their geometry is still poorly understood\, as such rings showed a rich range of complicated behavior\, e.g. they may fail to be normal or regular (as shown in some examples and conjectures by Caruso–David–Mézard). In this talk we will discuss how moduli stack of Breuil–Kisin modules can be used to describe the geometry of moduli of tamely potentially Barsotti–Tate Galois representations (in rank 2 and over an unramified extension of Qp)\, using the theory of local models of loop groups in mixed characteristic. The main technical tool is an analysis of the p-torsion of a tangent complex to lift affine open charts for scheme–theoretic images between moduli of Breuil–Kisin modules and moduli of Galois representations. As a byproduct\, we obtain an algorithmic procedure to compute explicit presentations for any tamely potentially Barsotti–Tate deformation ring for 2-dimensional Galois representations of unramified extensions of Qp.\nThis is joint work with B. Le Hung and A. Mézard.
URL:https://crc326gaus.de/event/a-local-model-for-potentially-barsotti-tate-galois-representations/
LOCATION:Heidelberg\, Mathematikon\, SR A and Livestream
CATEGORIES:GAUS-Seminar
END:VEVENT
BEGIN:VEVENT
DTSTART;TZID=Europe/Berlin:20240621T090000
DTEND;TZID=Europe/Berlin:20240621T110000
DTSTAMP:20260423T213037
CREATED:20240507T102631Z
LAST-MODIFIED:20240607T132958Z
UID:8504-1718960400-1718967600@crc326gaus.de
SUMMARY:Shtukas for reductive groups and global Langlands correspondence after Vincent Lafforgue
DESCRIPTION:Talk 9: Theresa Kaiser: Specialization to the diagonal (Part II) \n 
URL:https://crc326gaus.de/event/shtukas-for-reductive-groups-and-global-langlands-correspondence-after-vincent-lafforgue-8/
LOCATION:Heidelberg\, Mathematikon\, SR 8 and Zoom\, INF 205\, Heidelberg\, Germany
CATEGORIES:GAUS-AG
ORGANIZER;CN="Gebhard B%C3%B6ckle":MAILTO:gebhard.boeckle iwr.uni-heidelberg.de
END:VEVENT
BEGIN:VEVENT
DTSTART;TZID=Europe/Berlin:20240620T141500
DTEND;TZID=Europe/Berlin:20240620T151500
DTSTAMP:20260423T213037
CREATED:20240415T065539Z
LAST-MODIFIED:20240617T065209Z
UID:8160-1718892900-1718896500@crc326gaus.de
SUMMARY:F-modules for rings with FFRT\, and applications to local cohomology
DESCRIPTION:Eamon Quinlan-Gallego (Utah) \nAbstract: For a regular ring R of positive characteristic\, an F-module over R is an R-module equipped with an “action of Frobenius”. The theory of these F-modules has been used successfully in establishing finiteness properties of local cohomology\, and in this talk I will present an extension to the case where R is allowed to have mild singularities (known as finite F-representation type\, or FFRT for short). I will then illustrate how this theory can be used to extend previous results on local cohomology to the FFRT case.
URL:https://crc326gaus.de/event/tba-98/
LOCATION:Mainz\, Hilbertraum (05-432)
CATEGORIES:GAUS-Seminar
END:VEVENT
BEGIN:VEVENT
DTSTART;TZID=Europe/Berlin:20240620T140000
DTEND;TZID=Europe/Berlin:20240620T170000
DTSTAMP:20260423T213037
CREATED:20240326T150111Z
LAST-MODIFIED:20240418T111059Z
UID:7995-1718892000-1718902800@crc326gaus.de
SUMMARY:Anabelian geometry
DESCRIPTION:14:00 – 15:00 Talk 6: Jon Miles (Goethe Universität): Artin motives and H 1 \nCoffee break \n15:30 – 17:00 Talk 7: Jakob Stix (Goethe Universität): Dual representations and Hodge-Tate characters
URL:https://crc326gaus.de/event/anabelian-geometry-9/
LOCATION:Frankfurt\, Robert-Mayer-Str. 10\, Raum 711 groß
CATEGORIES:GAUS-AG
END:VEVENT
BEGIN:VEVENT
DTSTART;TZID=Europe/Berlin:20240620T110000
DTEND;TZID=Europe/Berlin:20240620T130000
DTSTAMP:20260423T213037
CREATED:20240619T140957Z
LAST-MODIFIED:20240628T133956Z
UID:8830-1718881200-1718888400@crc326gaus.de
SUMMARY:Arithmetic of critical p-adic L-functions
DESCRIPTION:Talk 8: Arithmetic construction of p-adic L-functions on the eigencurve (Reading session)
URL:https://crc326gaus.de/event/arithmetic-of-critical-p-adic-l-functions-8/
LOCATION:Heidelberg\, Mathematikon\, SR 8 and Zoom\, INF 205\, Heidelberg\, Germany
CATEGORIES:GAUS-AG
END:VEVENT
BEGIN:VEVENT
DTSTART;TZID=Europe/Berlin:20240620T091500
DTEND;TZID=Europe/Berlin:20240620T104500
DTSTAMP:20260423T213037
CREATED:20240429T092152Z
LAST-MODIFIED:20240702T074514Z
UID:8346-1718874900-1718880300@crc326gaus.de
SUMMARY:Purity for the flat cohomology
DESCRIPTION:Talk 6: Tim Holzschuh (Universität Heidelberg): Introduction to animated rings and cohomology of affine smooth groups (Part 2)
URL:https://crc326gaus.de/event/purity-for-the-flat-cohomology-6/
LOCATION:Heidelberg\, Mathematikon\, SR tba
CATEGORIES:GAUS-AG
END:VEVENT
BEGIN:VEVENT
DTSTART;TZID=Europe/Berlin:20240619T160000
DTEND;TZID=Europe/Berlin:20240619T170000
DTSTAMP:20260423T213037
CREATED:20240313T064035Z
LAST-MODIFIED:20240610T094156Z
UID:7894-1718812800-1718816400@crc326gaus.de
SUMMARY:Heptagons\, quartics and theta characteristics
DESCRIPTION:Oberseminar Algebra und Geometrie \nDaniele Agostini  (Universität Tübingen) \nAbstract: A construction of Wachspress associates to a heptagon a plane  quartic curve. This has been recently reinterpreted from the point of view of positive geometry\, and numerical computations suggest that a general plane quartic arises from precisely 864 heptagons. We prove this rigorously\, via theta characteristics and the finite group PSL(2\,7). This is joint work with Daniel Plaumann\, Rainer Sinn and Jannik Weisner.
URL:https://crc326gaus.de/event/tba-96/
LOCATION:Frankfurt\, Robert-Mayer-Str. 10\, Raum 711 groß
CATEGORIES:GAUS-Seminar
END:VEVENT
BEGIN:VEVENT
DTSTART;TZID=Europe/Berlin:20240618T170000
DTEND;TZID=Europe/Berlin:20240618T180000
DTSTAMP:20260423T213037
CREATED:20240610T091519Z
LAST-MODIFIED:20240610T091519Z
UID:8762-1718730000-1718733600@crc326gaus.de
SUMMARY:On recent progress on the chiral de Rham complex and modular forms
DESCRIPTION:Xuanzhong Dai (RIMS): On recent progress on the chiral de Rham complex and modular forms \nThe Chiral de Rham complex introduced by Malikov et al. is a sheaf construction of vertex algebras on any smooth manifold or nonsingular algebraic variety. Applying this technique to the upper half plane\, we obtain a quantization of modular forms\, which recovers the Rankin-Cohen brackets\, a family of bilinear operations on modular forms. It has long been speculated that the Rankin-Cohen brackets are connected to vertex operator algebras\, as initially proposed by W. Eholzer\, Y. Manin\, and D. Zagier. Our construction naturally inherits a vertex algebra structure\, with the vertex operation fully determined by a slight modification of the Rankin-Cohen brackets.
URL:https://crc326gaus.de/event/on-recent-progress-on-the-chiral-de-rham-complex-and-modular-forms/
LOCATION:Darmstadt\, Room S215 401
CATEGORIES:GAUS-Seminar
END:VEVENT
BEGIN:VEVENT
DTSTART;TZID=Europe/Berlin:20240618T160000
DTEND;TZID=Europe/Berlin:20240618T170000
DTSTAMP:20260423T213037
CREATED:20240429T085331Z
LAST-MODIFIED:20240613T073207Z
UID:8325-1718726400-1718730000@crc326gaus.de
SUMMARY:The fiber bundle method applied to triple product L-functions
DESCRIPTION:International Seminar on Automorphic Forms \nMiao Gu (University of Michigan): The fiber bundle method applied to triple product L-functions \nThe Poisson summation conjecture of Braverman-Kazhdan\, L. Lafforgue\, Ngô\, and Sakellaridis predicts that spherical varieties (or Whittaker induction thereof) over a global field admit a theory of Fourier analysis\, including a generalized Poisson summation formula. The fiber bundle method is a technique for proving the Poisson summation conjecture for spherical varieties that can be written as a family of simpler spherical varieties for which the Poisson summation conjecture is known. In this talk\, I will first explain how to relate a generalized Whittaker induction to triple product L-functions. Then I will explain the fiber bundle method and describe an approach to applying it to prove the expected analytic properties of the triple product L-functions. This is joint work with Jayce Getz\, Chun-Hsien Hsu\, and Spencer Leslie. \nhttps://tu-darmstadt.zoom.us/j/68048280736
URL:https://crc326gaus.de/event/tba-105/
LOCATION:Zoom
CATEGORIES:GAUS-Seminar
ORGANIZER;CN="Claire Burrin":MAILTO:claire.burrin@math.uzh.ch
END:VEVENT
BEGIN:VEVENT
DTSTART;TZID=Europe/Berlin:20240618T140000
DTEND;TZID=Europe/Berlin:20240618T153000
DTSTAMP:20260423T213037
CREATED:20240405T101253Z
LAST-MODIFIED:20240419T120140Z
UID:8101-1718719200-1718724600@crc326gaus.de
SUMMARY:Chromatic Homotopy Theory
DESCRIPTION:Chirantan Chowdhury (TU Darmstadt) \nTalk 10 – Morava E-theory & Morava K-theory \nZoom meeting ID: 612 2072 7363\, Password: Largest six digit prime number
URL:https://crc326gaus.de/event/chromatic-homotopy-theory-10/
LOCATION:Darmstadt\, Room 401\, Mainz Room 04-432 and Zoom\, Darmstadt and Mainz\, Darmstadt and Mainz
CATEGORIES:GAUS-AG
END:VEVENT
BEGIN:VEVENT
DTSTART;VALUE=DATE:20240617
DTEND;VALUE=DATE:20240618
DTSTAMP:20260423T213037
CREATED:20240506T125324Z
LAST-MODIFIED:20240506T125324Z
UID:8472-1718582400-1718668799@crc326gaus.de
SUMMARY:Junior AG
DESCRIPTION:CM Cycles on GSpin Shimura Varieties \nFor further details see Programme.
URL:https://crc326gaus.de/event/junior-ag-2/
LOCATION:Darmstadt
CATEGORIES:GAUS-Event
END:VEVENT
BEGIN:VEVENT
DTSTART;TZID=Europe/Berlin:20240614T160000
DTEND;TZID=Europe/Berlin:20240614T170000
DTSTAMP:20260423T213037
CREATED:20240523T104843Z
LAST-MODIFIED:20240529T075236Z
UID:8708-1718380800-1718384400@crc326gaus.de
SUMMARY:Counting Weierstrass points on degenerating algebraic curves
DESCRIPTION:TGiF-Seminar: Tropical geometry in Frankfurt (Second meeting Summer Semester 2024) \nLucas Gierczak (Institut Polytechnique de Paris) \nAbstract:\nWeierstrass points on algebraic curves are special points of high importance in algebraic geometry and arithmetic geometry. In this talk\, we study how those special points behave when the algebraic curve degenerates to a nodal curve. To this end\, we first explain why tropical geometry is a relevant formalism for studying degeneration questions. We then define a tropical analogue on metric graphs (seen as tropical curves) for Weierstrass points\, and explore the properties of the so-called “tropical Weierstrass locus”. We also associate intrinsic weights to the connected components of this locus\, and show that their total sum for a given metric graph and divisor is a function of few combinatorial parameters (degree and rank of the divisor\, genus of the metric graph). Finally\, in the case the divisor on the metric graph comes from the tropicalization of a divisor on an algebraic curve\, we specify the compatibility between the Weierstrass loci.
URL:https://crc326gaus.de/event/tba-109/
LOCATION:Frankfurt\, Robert-Mayer-Str. 10\, Raum 711 groß
CATEGORIES:GAUS-Seminar
END:VEVENT
BEGIN:VEVENT
DTSTART;TZID=Europe/Berlin:20240614T153000
DTEND;TZID=Europe/Berlin:20240614T170000
DTSTAMP:20260423T213037
CREATED:20240405T092620Z
LAST-MODIFIED:20240527T124336Z
UID:8081-1718379000-1718384400@crc326gaus.de
SUMMARY:Seminar on Arithmetic Geometry
DESCRIPTION:Timo Richarz (TU Darmstadt): Cohomological motives \nZoom 635 7328 0984\, Kenncode: kleinste sechsstellige Primzahl
URL:https://crc326gaus.de/event/seminar-on-arithmetic-geometry-5/
LOCATION:Darmstadt\, Room 401 and Zoom\, Schlossgartenstraße 7\, Darmstadt\, 64289\, Germany
CATEGORIES:GAUS-Seminar
ORGANIZER;CN="Sabrina Pauli":MAILTO:pauli@mathematik.tu-darmstadt.de
END:VEVENT
BEGIN:VEVENT
DTSTART;TZID=Europe/Berlin:20240614T143000
DTEND;TZID=Europe/Berlin:20240614T153000
DTSTAMP:20260423T213037
CREATED:20240523T104259Z
LAST-MODIFIED:20240606T091248Z
UID:8706-1718375400-1718379000@crc326gaus.de
SUMMARY:The log tautological ring of the moduli space of curves
DESCRIPTION:TGiF-Seminar: Tropical geometry in Frankfurt (Second meeting Summer Semester 2024) \nPim Spelier (Universität Leiden) \nAbstract: \nThe tautological ring of Mgn-bar has been a crucial object in the study of the intersection theory of the moduli space of curves. Recently\, there has been more focus on the logarithmic enumerative geometry of Mgn-bar\, with interesting classes coming from e.g. log double ramification cycles. We present a definition of the log tautological ring of Mgn-bar\, together with a log decorated strata algebra\, and prove several structure results. The main new tools are the notions of cone stacks with boundary and homological piecewise polynomials\, that capture the tropicalisation of strata of log smooth stacks and the combinatorial part of their intersection theory.\nThis is joint work with Rahul Pandharipande\, Dhruv Ranganathan and Johannes Schmitt.
URL:https://crc326gaus.de/event/tba-108/
LOCATION:Frankfurt\, Robert-Mayer-Str. 10\, Raum 711 groß
CATEGORIES:GAUS-Seminar
END:VEVENT
BEGIN:VEVENT
DTSTART;TZID=Europe/Berlin:20240614T090000
DTEND;TZID=Europe/Berlin:20240614T110000
DTSTAMP:20260423T213037
CREATED:20240507T102442Z
LAST-MODIFIED:20240607T132748Z
UID:8502-1718355600-1718362800@crc326gaus.de
SUMMARY:Shtukas for reductive groups and global Langlands correspondence after Vincent Lafforgue
DESCRIPTION:Talk 8: Sriram C. Venkata: Specialization to the diagonal (Part I) \n 
URL:https://crc326gaus.de/event/shtukas-for-reductive-groups-and-global-langlands-correspondence-after-vincent-lafforgue-7/
LOCATION:Heidelberg\, Mathematikon\, SR 8 and Zoom\, INF 205\, Heidelberg\, Germany
CATEGORIES:GAUS-AG
ORGANIZER;CN="Gebhard B%C3%B6ckle":MAILTO:gebhard.boeckle iwr.uni-heidelberg.de
END:VEVENT
END:VCALENDAR