BEGIN:VCALENDAR
VERSION:2.0
PRODID:-//CRC 326 - GAUS - ECPv6.15.20//NONSGML v1.0//EN
CALSCALE:GREGORIAN
METHOD:PUBLISH
X-WR-CALNAME:CRC 326 - GAUS
X-ORIGINAL-URL:https://crc326gaus.de
X-WR-CALDESC:Events for CRC 326 - GAUS
REFRESH-INTERVAL;VALUE=DURATION:PT1H
X-Robots-Tag:noindex
X-PUBLISHED-TTL:PT1H
BEGIN:VTIMEZONE
TZID:Europe/Berlin
BEGIN:DAYLIGHT
TZOFFSETFROM:+0100
TZOFFSETTO:+0200
TZNAME:CEST
DTSTART:20230326T010000
END:DAYLIGHT
BEGIN:STANDARD
TZOFFSETFROM:+0200
TZOFFSETTO:+0100
TZNAME:CET
DTSTART:20231029T010000
END:STANDARD
BEGIN:DAYLIGHT
TZOFFSETFROM:+0100
TZOFFSETTO:+0200
TZNAME:CEST
DTSTART:20240331T010000
END:DAYLIGHT
BEGIN:STANDARD
TZOFFSETFROM:+0200
TZOFFSETTO:+0100
TZNAME:CET
DTSTART:20241027T010000
END:STANDARD
BEGIN:DAYLIGHT
TZOFFSETFROM:+0100
TZOFFSETTO:+0200
TZNAME:CEST
DTSTART:20250330T010000
END:DAYLIGHT
BEGIN:STANDARD
TZOFFSETFROM:+0200
TZOFFSETTO:+0100
TZNAME:CET
DTSTART:20251026T010000
END:STANDARD
END:VTIMEZONE
BEGIN:VEVENT
DTSTART;TZID=Europe/Berlin:20241029T140000
DTEND;TZID=Europe/Berlin:20241029T153000
DTSTAMP:20260423T234447
CREATED:20241108T104140Z
LAST-MODIFIED:20241108T104140Z
UID:9783-1730210400-1730215800@crc326gaus.de
SUMMARY:Vector bundles on curves
DESCRIPTION:Julian Born: Vector bundles \nZoom (612 2072 7363\, Password: largest six digit prime number)
URL:https://crc326gaus.de/event/vector-bundles-on-curves-12/
LOCATION:Darmstadt\, Room 401 and Zoom\, Schlossgartenstraße 7\, Darmstadt\, 64289\, Germany
CATEGORIES:GAUS-AG
END:VEVENT
BEGIN:VEVENT
DTSTART;TZID=Europe/Berlin:20241025T133000
DTEND;TZID=Europe/Berlin:20241025T150000
DTSTAMP:20260423T234447
CREATED:20241018T115611Z
LAST-MODIFIED:20241018T115611Z
UID:9434-1729863000-1729868400@crc326gaus.de
SUMMARY:A moduli-theoretic approach to Sen theory
DESCRIPTION:Ben Heuer (Universität Frankfurt) \nClassical Sen theory describes C_p-semilinear representations of Galois groups of p-adic fields in terms of linear algebra data called Sen modules. I will first explain how this theory can be reinterpreted geometrically in terms of v-vector bundles\, creating a relation to the p-adic Simpson correspondence. I will then explain how one can use this to upgrade Sen’s Theorem to a comparison of moduli spaces of Galois representations and Sen modules: This explains known subtleties in classical Sen theory in a geometric fashion. Finally\, I will describe how we can use this to study moduli spaces of (phi\,Gamma)-modules. This is joint work-in-progress with Eugen Hellmann.
URL:https://crc326gaus.de/event/a-moduli-theoretic-approach-to-sen-theory/
LOCATION:Heidelberg\, Mathematikon\, SR A and Livestream
CATEGORIES:GAUS-Seminar
END:VEVENT
BEGIN:VEVENT
DTSTART;TZID=Europe/Berlin:20241024T141500
DTEND;TZID=Europe/Berlin:20241024T151500
DTSTAMP:20260423T234447
CREATED:20241002T100703Z
LAST-MODIFIED:20241017T113423Z
UID:9271-1729779300-1729782900@crc326gaus.de
SUMMARY:On the algebraic K-theory of algebraic tori
DESCRIPTION:Florian Riedel (Kopenhagen) \nAbstract:\nI will describe work in progress joint with Bai\, Carmeli and Juran. A classical computation by Quillen expresses the algebraic K-theory spectrum of the ring of Laurent polynomials as the group ring of S^1 over the K-theory of the base field. We generalize this by showing that the algebraic K-theory spectrum of a not-necessarily split algebraic torus is given by the group ring of the delooping of the character lattice of the torus\, thus showing that a version of Cartier duality between algebraic and topological tori holds on the level of K-theory. We do this by constructing a motivic Fourier transform which is of independent interest and also recover an explicit formula of Merkujev-Panin for K_0 in a straightforward way.
URL:https://crc326gaus.de/event/tba-111/
LOCATION:Mainz\, Hilbertraum (05-432)
CATEGORIES:GAUS-Seminar
END:VEVENT
BEGIN:VEVENT
DTSTART;TZID=Europe/Berlin:20241024T111500
DTEND;TZID=Europe/Berlin:20241024T124500
DTSTAMP:20260423T234447
CREATED:20241105T140328Z
LAST-MODIFIED:20241105T140328Z
UID:9698-1729768500-1729773900@crc326gaus.de
SUMMARY:The direct summand theorem
DESCRIPTION:Talk 2: Nils Tietke (Universität Heidelberg): Almost étale extensions and the almost purity theorem in characteristic
URL:https://crc326gaus.de/event/the-direct-summand-theorem-9/
LOCATION:Heidelberg\, Mathematikon\, SR 8 and Zoom\, INF 205\, Heidelberg\, Germany
CATEGORIES:GAUS-AG
END:VEVENT
BEGIN:VEVENT
DTSTART;TZID=Europe/Berlin:20241023T160000
DTEND;TZID=Europe/Berlin:20241023T170000
DTSTAMP:20260423T234447
CREATED:20241023T073421Z
LAST-MODIFIED:20241025T150227Z
UID:9455-1729699200-1729702800@crc326gaus.de
SUMMARY:Oberseminar Algebra und Geometrie
DESCRIPTION:Marius Leonhardt (Universität Frankfurt): Affine abelian non-abelian Chabauty \nAbstract: The central question of this talk is how to find all integral points on affine hyperbolic curves. For example\, which integers x\,y satisfy y^2 = x^3 + x^2 + x + 1?\nWe approach this problem by introducing Kim’s non-abelian Chabauty method\, which constructs p-adic analytic functions that have the integral points among their zeroes. In joint work with M. Lütdke and J.S. Müller\, we showed that the abelian version of this method succeeds if the curve satisfies a certain inequality involving its genus and the Mordell-Weil rank of its Jacobian.\nThis talk is an introduction to the Chabauty–Kim method. I will present the above result and report on work in progress with M. Lüdtke that turns it into an algorithm determining the integral points on the curve.
URL:https://crc326gaus.de/event/affine-abelian-non-abelian-chabauty-2/
LOCATION:Frankfurt\, RM-Str. 6-8\, R. 308
CATEGORIES:GAUS-Seminar
END:VEVENT
BEGIN:VEVENT
DTSTART;TZID=Europe/Berlin:20241022T160000
DTEND;TZID=Europe/Berlin:20241022T170000
DTSTAMP:20260423T234447
CREATED:20241016T113803Z
LAST-MODIFIED:20241121T133311Z
UID:9376-1729612800-1729616400@crc326gaus.de
SUMMARY:On the cohomology of $SL(n\,\mathbb Z)$ beyond the "stable range"
DESCRIPTION:International Seminar on Automorphic Forms \nHarald Grobner (University of Vienna): On the cohomology of $SL(n\,\mathbb Z)$ beyond the “stable range” \nThe cohomology of the group $SL(n\,\mathbb{Z})\, n>1$\, plays a fundamental role in geometry\, topology and representation theory\, while yielding many number theoretical applications: For instance\, Borel used his description of $H^*(SL(n\,\mathbb Z))$ to compute the algebraic K-theory of the integers; whereas the (non-)vanishing of $H^*(SL(n\,\mathbb Z))$ tells a lot about the existence of certain automorphic forms. In this talk we will study the cohomology of $SL(n\,\mathbb Z)$\, „right outside“ of what one calls the stable range. More precisely\, we will show new non-vanishing results in degrees n−1 and n. As a byproduct\, we will also answer a question\, recently asked by F. Brown for n=6 and explain a phenomenon for n=8\, which has been considered by A. Ash. (This is joint work with N. Grbac.) \nhttps://tu-darmstadt.zoom.us/j/68048280736 \n 
URL:https://crc326gaus.de/event/tba-115/
LOCATION:Zoom
CATEGORIES:GAUS-Seminar
ORGANIZER;CN="Claire Burrin":MAILTO:claire.burrin@math.uzh.ch
END:VEVENT
BEGIN:VEVENT
DTSTART;TZID=Europe/Berlin:20241018T153000
DTEND;TZID=Europe/Berlin:20241018T170000
DTSTAMP:20260423T234447
CREATED:20240909T081154Z
LAST-MODIFIED:20240912T122506Z
UID:9170-1729265400-1729270800@crc326gaus.de
SUMMARY:Seminar on Arithmetic Geometry
DESCRIPTION:Joakim Faergeman (Yale University): Motivicity of rigid G-local systems on curves \nAbstract: A natural problem in the study of local systems on complex varieties is to characterize those that arise in a family of varieties. We refer to such local systems as motivic. While a classification of motivic local systems is evidently out of reach\, Simpson conjectured that for a reductive group G\, rigid G-local systems with suitable finiteness conditions at infinity are motivic. This was proven for curves when G=GL_n by Katz who classified such rigid local systems. In this talk\, we discuss our generalization of Katz’ theorem to a general reductive group. Our proof goes through the (tamely ramified) categorical geometric Langlands program in characteristic zero. \nZoom (635 7328 0984\, Kenncode: kleinste sechsstellige Primzahl
URL:https://crc326gaus.de/event/seminar-on-arithmetic-geometry-8/
LOCATION:Darmstadt\, Room 401 and Zoom\, Schlossgartenstraße 7\, Darmstadt\, 64289\, Germany
CATEGORIES:GAUS-Seminar
ORGANIZER;CN="Sabrina Pauli":MAILTO:pauli@mathematik.tu-darmstadt.de
END:VEVENT
BEGIN:VEVENT
DTSTART;TZID=Europe/Berlin:20241017T111500
DTEND;TZID=Europe/Berlin:20241017T124500
DTSTAMP:20260423T234447
CREATED:20241105T140154Z
LAST-MODIFIED:20241105T140154Z
UID:9695-1729163700-1729169100@crc326gaus.de
SUMMARY:The direct summand theorem
DESCRIPTION:Talk 1: Immanuel Klevesath (Universität Heidelberg): Almost modules and almost commutative algebra
URL:https://crc326gaus.de/event/the-direct-summand-theorem-8/
LOCATION:Heidelberg\, Mathematikon\, SR 8 and Zoom\, INF 205\, Heidelberg\, Germany
CATEGORIES:GAUS-AG
END:VEVENT
BEGIN:VEVENT
DTSTART;TZID=Europe/Berlin:20241015T140000
DTEND;TZID=Europe/Berlin:20241015T153000
DTSTAMP:20260423T234447
CREATED:20241108T102215Z
LAST-MODIFIED:20241108T102215Z
UID:9755-1729000800-1729006200@crc326gaus.de
SUMMARY:Vector bundles on curves
DESCRIPTION:Timo Richarz (TU Darmstadt): Introduction and distribution of talks \nZoom (612 2072 7363\, Password: largest six digit prime number)
URL:https://crc326gaus.de/event/vector-bundles-on-curves/
LOCATION:Darmstadt\, Room 401 and Zoom\, Schlossgartenstraße 7\, Darmstadt\, 64289\, Germany
CATEGORIES:GAUS-AG
END:VEVENT
BEGIN:VEVENT
DTSTART;VALUE=DATE:20241014
DTEND;VALUE=DATE:20241015
DTSTAMP:20260423T234447
CREATED:20240325T081345Z
LAST-MODIFIED:20240422T123520Z
UID:7932-1728864000-1728950399@crc326gaus.de
SUMMARY:GAUS Junior Symposium
DESCRIPTION:
URL:https://crc326gaus.de/event/gaus-junior-symposium/
LOCATION:Frankfurt\, Robert-Mayer-Str. 10\, Raum 711 groß
CATEGORIES:GAUS-AG
END:VEVENT
BEGIN:VEVENT
DTSTART;TZID=Europe/Berlin:20241007T090000
DTEND;TZID=Europe/Berlin:20241011T140000
DTSTAMP:20260423T234447
CREATED:20231012T113145Z
LAST-MODIFIED:20240514T093528Z
UID:6662-1728291600-1728655200@crc326gaus.de
SUMMARY:Workshop: Methods in Mixed Characteristic Geometry
DESCRIPTION:https://sites.google.com/view/mmcg2024
URL:https://crc326gaus.de/event/methods-in-mixed-characteristic-geometry/
LOCATION:Mainz\, Schulz-Horner-Gebäude\, Lecture Hall C02
CATEGORIES:GAUS-Workshop
END:VEVENT
BEGIN:VEVENT
DTSTART;VALUE=DATE:20241007
DTEND;VALUE=DATE:20241012
DTSTAMP:20260423T234447
CREATED:20231128T143845Z
LAST-MODIFIED:20240619T125531Z
UID:7315-1728259200-1728691199@crc326gaus.de
SUMMARY:Workshop Tropical geometry: Moduli spaces and matroids
DESCRIPTION:
URL:https://crc326gaus.de/event/workshop-tropical-geometry-moduli-spaces-and-matroids-2/
LOCATION:Frankfurt\, Hilbertraum\, Rober-Mayer-Str. 6-8\, Raum 302
CATEGORIES:GAUS-Workshop
END:VEVENT
BEGIN:VEVENT
DTSTART;VALUE=DATE:20240923
DTEND;VALUE=DATE:20240929
DTSTAMP:20260423T234447
CREATED:20231206T164638Z
LAST-MODIFIED:20240506T072144Z
UID:7417-1727049600-1727567999@crc326gaus.de
SUMMARY:Conference: AMH 2024 (Anabelian and Motivic Homotopy Theory)
DESCRIPTION:
URL:https://crc326gaus.de/event/conference-amh-anabelian-and-motivic-homotopy-theory/
LOCATION:Heidelberg
CATEGORIES:GAUS-Workshop
END:VEVENT
BEGIN:VEVENT
DTSTART;TZID=Europe/Berlin:20240919T161500
DTEND;TZID=Europe/Berlin:20240919T233000
DTSTAMP:20260423T234447
CREATED:20231026T121959Z
LAST-MODIFIED:20250314T133311Z
UID:6816-1726762500-1726788600@crc326gaus.de
SUMMARY:Plenary Meeting
DESCRIPTION:16:15 Plenary Meeting\, at location of barbecue. \n17:00 Barbecue at https://tsg-1846.de/angebote/abteilung/fussball/grillhuette
URL:https://crc326gaus.de/event/plenary-meeting/
LOCATION:Darmstadt
CATEGORIES:GAUS-Event
END:VEVENT
BEGIN:VEVENT
DTSTART;TZID=Europe/Berlin:20240917T160000
DTEND;TZID=Europe/Berlin:20240917T180000
DTSTAMP:20260423T234447
CREATED:20240906T074613Z
LAST-MODIFIED:20240916T120512Z
UID:9151-1726588800-1726596000@crc326gaus.de
SUMMARY:Initial degenerations of homogeneous varieties
DESCRIPTION:Victoria Schleis (Durham University): \nAbstract: We study the geometry of initial degenerations of homogeneous subvarieties of (multi-)projective space using polyhedral geometry. In 2017\, Corey characterized initial degenerations of the Grassmannian through limits of strata in a matroid stratification of the Grassmannian corresponding to the weight vector of the initial degeneration. Since then\, similar results have been proven for the flag variety and Spinor varieties. In my talk\, I will discuss recent work in progress extending this study beyond specific examples to homogeneous subvarieties of (multi)-projective space. The talk is based on joint work in progress with George Balla\, Dan Corey\, and Igor Mahklin.
URL:https://crc326gaus.de/event/initial-degenerations-of-homogeneous-varieties/
LOCATION:Frankfurt\, Rober-Mayer-Str. 10\, Raum 711 klein
CATEGORIES:GAUS-Seminar
END:VEVENT
BEGIN:VEVENT
DTSTART;VALUE=DATE:20240916
DTEND;VALUE=DATE:20240920
DTSTAMP:20260423T234447
CREATED:20231026T121601Z
LAST-MODIFIED:20240527T110640Z
UID:6812-1726444800-1726790399@crc326gaus.de
SUMMARY:Junior Retreat
DESCRIPTION:
URL:https://crc326gaus.de/event/junior-retreat/
LOCATION:Jugendherberge Würzburg
CATEGORIES:GAUS-Event
ORGANIZER;CN="Manuel M%C3%BCller":MAILTO:mmueller@mathematik.tu-darmstadt.de
END:VEVENT
BEGIN:VEVENT
DTSTART;VALUE=DATE:20240909
DTEND;VALUE=DATE:20240914
DTSTAMP:20260423T234447
CREATED:20231205T113037Z
LAST-MODIFIED:20240305T140648Z
UID:7366-1725840000-1726271999@crc326gaus.de
SUMMARY:Workshop: Ramification in geometric Langlands and non-abelian Hodge theory
DESCRIPTION:
URL:https://crc326gaus.de/event/ramification-in-geometric-langlands-and-non-abelian-hodge-theory/
LOCATION:Heidelberg\, MATHEMATIKON\, Hörsaal
CATEGORIES:GAUS-Workshop
END:VEVENT
BEGIN:VEVENT
DTSTART;TZID=Europe/Berlin:20240719T153000
DTEND;TZID=Europe/Berlin:20240719T170000
DTSTAMP:20260423T234447
CREATED:20240701T093526Z
LAST-MODIFIED:20240718T143756Z
UID:8909-1721403000-1721408400@crc326gaus.de
SUMMARY:Seminar on Arithmetic Geometry
DESCRIPTION:Konstantin Jakob (TU Darmstadt): Counting absolutely indecomposable G-bundles \nZoom (635 7328 0984\, Kenncode: kleinste sechsstellige Primzahl
URL:https://crc326gaus.de/event/seminar-on-arithmetic-geometry-copy/
LOCATION:Darmstadt\, Room 401 and Zoom\, Schlossgartenstraße 7\, Darmstadt\, 64289\, Germany
CATEGORIES:GAUS-Seminar
ORGANIZER;CN="Sabrina Pauli":MAILTO:pauli@mathematik.tu-darmstadt.de
END:VEVENT
BEGIN:VEVENT
DTSTART;TZID=Europe/Berlin:20240719T090000
DTEND;TZID=Europe/Berlin:20240719T110000
DTSTAMP:20260423T234447
CREATED:20240507T103314Z
LAST-MODIFIED:20240625T124152Z
UID:8510-1721379600-1721386800@crc326gaus.de
SUMMARY:Shtukas for reductive groups and global Langlands correspondence after Vincent Lafforgue
DESCRIPTION:Gebhard Böckle: Talk 12: Moduli of representations and global Langlands parametrization (Part II) \n 
URL:https://crc326gaus.de/event/shtukas-for-reductive-groups-and-global-langlands-correspondence-after-vincent-lafforgue-11/
LOCATION:Heidelberg\, Mathematikon\, SR 8 and Zoom\, INF 205\, Heidelberg\, Germany
CATEGORIES:GAUS-AG
ORGANIZER;CN="Gebhard B%C3%B6ckle":MAILTO:gebhard.boeckle iwr.uni-heidelberg.de
END:VEVENT
BEGIN:VEVENT
DTSTART;TZID=Europe/Berlin:20240718T141500
DTEND;TZID=Europe/Berlin:20240718T151500
DTSTAMP:20260423T234447
CREATED:20240710T070747Z
LAST-MODIFIED:20240710T070747Z
UID:8980-1721312100-1721315700@crc326gaus.de
SUMMARY:Certain families of K3 surfaces and their modularity
DESCRIPTION:Yui\, Noriko (Queen’s University) \nAbstract: We start with a double sextic family of K3 surfaces with four parameters with Picard number 16 defined over Q. Then by geometric reduction (top-to-bottom) processes\, we obtain three\, two and one parameter families of K3 surfaces of Picard number 17\, 18\, and 19 respectively. All these families turn out to be of hypergeometric type in the sense that their Picard–Fuch differential equations are given by hypergeometric or Heun functions. We will study the geometry of two parameter families in detail. \nWe will then prove\, after suitable specializations of parameters\, these K3 surfaces will have CM (complex multiplication)\, and will become modular\, i.e.\, the Galois representations of dimensions less than or equal to 6 associated to the transcendental lattices are all induced from 1-dimensional representations. Thus\, these K3 surfaces will be determined by modular forms of various weights. This is done starting with one-parameter family and then applying arithmetic induction (bottom-to-top) processes. \nOur final goal is to determine explicit modular forms that determine the L-functions of these K3 families\nat special fibers. \nThis is a joint work with A. Clingher\, S. Kim and A. Malmendier.
URL:https://crc326gaus.de/event/certain-families-of-k3-surfaces-and-their-modularity/
LOCATION:Mainz\, Hilbertraum (05-432)
CATEGORIES:GAUS-Seminar
END:VEVENT
BEGIN:VEVENT
DTSTART;TZID=Europe/Berlin:20240716T160000
DTEND;TZID=Europe/Berlin:20240716T170000
DTSTAMP:20260423T234447
CREATED:20240702T121840Z
LAST-MODIFIED:20240709T102846Z
UID:8931-1721145600-1721149200@crc326gaus.de
SUMMARY:Theta correspondence via C*-algebras
DESCRIPTION:International Seminar on Automorphic Forms \nHaluk Sengun (University of Sheffield):Theta correspondence via C*-algebras \nAbstract: The local theta correspondence sets up a bijection between certain subsets of admissible duals of suitable pairs of reductive groups. There are two special cases in which the correspondence is known to enjoy extra features\, the ‘equal rank’ case where temperedness is preserved and the ‘stable range’ case where unitarity is preserved. In joint work with Bram Mesland (Leiden)\, we show that in these special cases\, the local theta correspondence is actually given by a Morita equivalence of suitable\nC*-algebras. I will try to expose this result and\, time permitting\, some applications. \nhttps://tu-darmstadt.zoom.us/j/68048280736 \n 
URL:https://crc326gaus.de/event/tba-copy-4/
LOCATION:Zoom
CATEGORIES:GAUS-Seminar
ORGANIZER;CN="Claire Burrin":MAILTO:claire.burrin@math.uzh.ch
END:VEVENT
BEGIN:VEVENT
DTSTART;TZID=Europe/Berlin:20240716T140000
DTEND;TZID=Europe/Berlin:20240716T183000
DTSTAMP:20260423T234447
CREATED:20240405T102007Z
LAST-MODIFIED:20240419T120447Z
UID:8109-1721138400-1721154600@crc326gaus.de
SUMMARY:Chromatic Homotopy Theory
DESCRIPTION:Ruth Wild (Uni Frankfurt) \nTalks 14 & 15 – Proof of Theorem B \nZoom meeting ID: 612 2072 7363\, Password: Largest six digit prime number
URL:https://crc326gaus.de/event/chromatic-homotopy-theory-14/
LOCATION:Darmstadt\, Room 401\, Mainz Room 04-432 and Zoom\, Darmstadt and Mainz\, Darmstadt and Mainz
CATEGORIES:GAUS-AG
END:VEVENT
BEGIN:VEVENT
DTSTART;TZID=Europe/Berlin:20240712T133000
DTEND;TZID=Europe/Berlin:20240712T150000
DTSTAMP:20260423T234447
CREATED:20240705T091804Z
LAST-MODIFIED:20240705T091804Z
UID:8945-1720791000-1720796400@crc326gaus.de
SUMMARY:On a characterisation of perfectoid fields by Iwasawa theory
DESCRIPTION:Gautier Ponsinet (IHES\, Université Paris Saclay) \nWith a p-adic representation of the Galois group of a p-adic field are associated the Bloch-Kato groups defined via p-adic Hodge theory.\nIwasawa theory motivates the study of these Bloch-Kato groups over infinite algebraic extensions of the field of p-adic numbers. \nOver perfectoid fields\, several results (by Coates-Greenberg\, Perrin-Riou\, Berger\, P. …) state that the Bloch-Kato groups admit a simple description. \nIn this talk\, we will present a reciprocal statement: the structure of the Bloch-Kato groups associated with certain crystalline representations characterises the algebraic extensions of the field of p-adic numbers whose completion are perfectoid fields. In particular\, we will recover\, via a different method\, results by Coates and Greenberg for abelian varieties\, and by Bondarko for p-divisible groups. \n 
URL:https://crc326gaus.de/event/on-a-characterisation-of-perfectoid-fields-by-iwasawa-theory/
LOCATION:Heidelberg\, Mathematikon\, SR A and Livestream
CATEGORIES:GAUS-Seminar
ORGANIZER;CN="Rustam Steingart":MAILTO:rsteingart@mathi.uni-heidelberg.de
END:VEVENT
BEGIN:VEVENT
DTSTART;TZID=Europe/Berlin:20240711T140000
DTEND;TZID=Europe/Berlin:20240711T160000
DTSTAMP:20260423T234447
CREATED:20240704T070018Z
LAST-MODIFIED:20240704T070131Z
UID:8938-1720706400-1720713600@crc326gaus.de
SUMMARY:On DGAs with polynomial homology
DESCRIPTION:Julius Frank (Bielefeld) \nAbstract: It is surprisingly hard to find non-trivial examples of DGAs whose homology is polynomial in one generator. I will discuss one such example\, which is a derived quotient of a discrete ring by an odd prime. I will also give one reason why it is hard to find examples: If the homology of a DGA A is polynomial over a perfect F_p-algebra and the underlying ring spectrum of A refines to an E_3-ring spectrum\, then A must already be trivial in a certain sense.
URL:https://crc326gaus.de/event/on-dgas-with-polynomial-homology/
LOCATION:Mainz\, Hilbertraum (05-432)
CATEGORIES:GAUS-Seminar
END:VEVENT
BEGIN:VEVENT
DTSTART;TZID=Europe/Berlin:20240711T110000
DTEND;TZID=Europe/Berlin:20240711T130000
DTSTAMP:20260423T234447
CREATED:20240619T141458Z
LAST-MODIFIED:20240628T134232Z
UID:8836-1720695600-1720702800@crc326gaus.de
SUMMARY:Arithmetic of critical p-adic L-functions
DESCRIPTION:Talk 11: Gautier Ponsinet: Thick Selmer groups and Bloch-Kato Selmer groups
URL:https://crc326gaus.de/event/arithmetic-of-critical-p-adic-l-functions-11/
LOCATION:Heidelberg\, Mathematikon\, SR 8 and Zoom\, INF 205\, Heidelberg\, Germany
CATEGORIES:GAUS-AG
END:VEVENT
BEGIN:VEVENT
DTSTART;TZID=Europe/Berlin:20240711T091500
DTEND;TZID=Europe/Berlin:20240711T104500
DTSTAMP:20260423T234447
CREATED:20240429T092517Z
LAST-MODIFIED:20240430T083504Z
UID:8352-1720689300-1720694700@crc326gaus.de
SUMMARY:Purity for the flat cohomology
DESCRIPTION:Talk 9: Morten Lüders (Universität Heidelberg): Purity for flat cohomology of local complete intersections
URL:https://crc326gaus.de/event/purity-for-the-flat-cohomology-9/
LOCATION:Heidelberg\, Mathematikon\, SR tba
CATEGORIES:GAUS-AG
END:VEVENT
BEGIN:VEVENT
DTSTART;TZID=Europe/Berlin:20240709T170000
DTEND;TZID=Europe/Berlin:20240709T180000
DTSTAMP:20260423T234447
CREATED:20240702T121736Z
LAST-MODIFIED:20240709T102934Z
UID:8929-1720544400-1720548000@crc326gaus.de
SUMMARY:Fourier-Jacobi periods on unitary groups
DESCRIPTION:International Seminar on Automorphic Forms \nHang Xue (Arizona University): Fourier-Jacobi periods on unitary groups \nAbstract: We prove the Gan-Gross-Prasad conjecture for Fourier-Jacobi periods on unitary groups via relative trace formulae. \nhttps://tu-darmstadt.zoom.us/j/68048280736 \n 
URL:https://crc326gaus.de/event/tba-110/
LOCATION:Zoom
CATEGORIES:GAUS-Seminar
ORGANIZER;CN="Claire Burrin":MAILTO:claire.burrin@math.uzh.ch
END:VEVENT
BEGIN:VEVENT
DTSTART;TZID=Europe/Berlin:20240709T140000
DTEND;TZID=Europe/Berlin:20240709T153000
DTSTAMP:20260423T234447
CREATED:20240405T101832Z
LAST-MODIFIED:20240419T120337Z
UID:8107-1720533600-1720539000@crc326gaus.de
SUMMARY:Chromatic Homotopy Theory
DESCRIPTION:Thibaud van den Hove (TU Darmstadt) \nTalk 13 – The isomorphism between the two towers \nZoom meeting ID: 612 2072 7363\, Password: Largest six digit prime number
URL:https://crc326gaus.de/event/chromatic-homotopy-theory-13/
LOCATION:Darmstadt\, Room 401\, Mainz Room 04-432 and Zoom\, Darmstadt and Mainz\, Darmstadt and Mainz
CATEGORIES:GAUS-AG
END:VEVENT
BEGIN:VEVENT
DTSTART;TZID=Europe/Berlin:20240705T140000
DTEND;TZID=Europe/Berlin:20240705T170000
DTSTAMP:20260423T234447
CREATED:20240405T092944Z
LAST-MODIFIED:20240620T121924Z
UID:8085-1720188000-1720198800@crc326gaus.de
SUMMARY:Seminar on Arithmetic Geometry
DESCRIPTION:Fabio Tanania (TU Darmstadt): Isotropic motivic fundamental groups \nZoom (635 7328 0984\, Kenncode: kleinste sechsstellige Primzahl
URL:https://crc326gaus.de/event/seminar-on-arithmetic-geometry-7/
LOCATION:Darmstadt\, Room 401 and Zoom\, Schlossgartenstraße 7\, Darmstadt\, 64289\, Germany
CATEGORIES:GAUS-Seminar
ORGANIZER;CN="Sabrina Pauli":MAILTO:pauli@mathematik.tu-darmstadt.de
END:VEVENT
BEGIN:VEVENT
DTSTART;TZID=Europe/Berlin:20240705T131000
DTEND;TZID=Europe/Berlin:20240705T144000
DTSTAMP:20260423T234447
CREATED:20240628T132726Z
LAST-MODIFIED:20240702T142359Z
UID:8886-1720185000-1720190400@crc326gaus.de
SUMMARY:Die absolute Galoisgruppe eines p-adischen Körpers
DESCRIPTION:Moshe Jarden (Universität Tel Aviv) \nWir rechnen die Anzahl der Erzeugenden und die Anzahl der Relationen aus\, die für die Darstellung der absoluten Galois Gruppen einer gegebenen endlichen Erweiterung von Q_p erforderlich ist.
URL:https://crc326gaus.de/event/to-be-announced/
LOCATION:Heidelberg\, Mathematikon\, SR A and Livestream
CATEGORIES:GAUS-Seminar
ORGANIZER;CN="Gebhard B%C3%B6ckle":MAILTO:gebhard.boeckle iwr.uni-heidelberg.de
END:VEVENT
END:VCALENDAR