BEGIN:VCALENDAR
VERSION:2.0
PRODID:-//CRC 326 - GAUS - ECPv6.15.20//NONSGML v1.0//EN
CALSCALE:GREGORIAN
METHOD:PUBLISH
X-ORIGINAL-URL:https://crc326gaus.de
X-WR-CALDESC:Events for CRC 326 - GAUS
REFRESH-INTERVAL;VALUE=DURATION:PT1H
X-Robots-Tag:noindex
X-PUBLISHED-TTL:PT1H
BEGIN:VTIMEZONE
TZID:Europe/Berlin
BEGIN:DAYLIGHT
TZOFFSETFROM:+0100
TZOFFSETTO:+0200
TZNAME:CEST
DTSTART:20230326T010000
END:DAYLIGHT
BEGIN:STANDARD
TZOFFSETFROM:+0200
TZOFFSETTO:+0100
TZNAME:CET
DTSTART:20231029T010000
END:STANDARD
BEGIN:DAYLIGHT
TZOFFSETFROM:+0100
TZOFFSETTO:+0200
TZNAME:CEST
DTSTART:20240331T010000
END:DAYLIGHT
BEGIN:STANDARD
TZOFFSETFROM:+0200
TZOFFSETTO:+0100
TZNAME:CET
DTSTART:20241027T010000
END:STANDARD
BEGIN:DAYLIGHT
TZOFFSETFROM:+0100
TZOFFSETTO:+0200
TZNAME:CEST
DTSTART:20250330T010000
END:DAYLIGHT
BEGIN:STANDARD
TZOFFSETFROM:+0200
TZOFFSETTO:+0100
TZNAME:CET
DTSTART:20251026T010000
END:STANDARD
END:VTIMEZONE
BEGIN:VEVENT
DTSTART;TZID=Europe/Berlin:20240411T160000
DTEND;TZID=Europe/Berlin:20240411T170000
DTSTAMP:20260423T111411
CREATED:20240311T180923Z
LAST-MODIFIED:20240404T083751Z
UID:7886-1712851200-1712854800@crc326gaus.de
SUMMARY:The Two Lives of the Grassmannian
DESCRIPTION:Oberseminar Algebra und Geometrie \nBernd Sturmfels (MPI-MiS Leipzig) \nAbstract: \nThe Grassmannian parametrizes linear subspaces of a real vector space.\nIt is both a projective variety (via Plücker coordinates) and an affine\nvariety (via orthogonal projections). We examine these two representations\,\nthrough the lenses of linear algebra\, commutative algebra\, and statistics.
URL:https://crc326gaus.de/event/bernd-sturmfels-mpi-mis-the-two-lives-of-the-grassmannian/
LOCATION:Frankfurt\, Robert-Mayer-Str. 10\, Raum 711 groß
CATEGORIES:GAUS-Seminar
END:VEVENT
BEGIN:VEVENT
DTSTART;TZID=Europe/Berlin:20240416T140000
DTEND;TZID=Europe/Berlin:20240416T153000
DTSTAMP:20260423T111411
CREATED:20240403T140449Z
LAST-MODIFIED:20240419T114856Z
UID:8044-1713276000-1713281400@crc326gaus.de
SUMMARY:Chromatic Homotopy Theory
DESCRIPTION:  \nTom Bachmann (Uni Mainz): Leitfaden \nTom Bachmann (Uni Mainz): Talk 1 Spectra & (co)homology theories \n  \nZoom meeting ID: 612 2072 7363\, Password: Largest six digit prime number
URL:https://crc326gaus.de/event/chromatic-homotopy-theory/
LOCATION:Darmstadt\, Room 401\, Mainz Room 04-432 and Zoom\, Darmstadt and Mainz\, Darmstadt and Mainz
CATEGORIES:GAUS-AG
END:VEVENT
BEGIN:VEVENT
DTSTART;TZID=Europe/Berlin:20240418T110000
DTEND;TZID=Europe/Berlin:20240418T130000
DTSTAMP:20260423T111411
CREATED:20240619T140403Z
LAST-MODIFIED:20240619T140403Z
UID:8826-1713438000-1713445200@crc326gaus.de
SUMMARY:Arithmetic of critical p-adic L-functions
DESCRIPTION:Talk 1: Max Witzelsperger: Overview
URL:https://crc326gaus.de/event/arithmetic-of-critical-p-adic-l-functions-6/
LOCATION:Heidelberg\, Mathematikon\, SR 8 and Zoom\, INF 205\, Heidelberg\, Germany
CATEGORIES:GAUS-AG
END:VEVENT
BEGIN:VEVENT
DTSTART;TZID=Europe/Berlin:20240418T141500
DTEND;TZID=Europe/Berlin:20240418T151500
DTSTAMP:20260423T111411
CREATED:20240415T065318Z
LAST-MODIFIED:20240415T070004Z
UID:8158-1713449700-1713453300@crc326gaus.de
SUMMARY:Lifting differential equations: an introduction
DESCRIPTION:Vasily Golyshev (ICTP Trieste) \nAbstract. I will introduce a program aiming at constructing lifts of differential equations by using generalized Taylor’s formula in a systematic way. The talk is based on joint work with Ilia Gaiur.
URL:https://crc326gaus.de/event/lifting-differential-equations-an-introduction/
LOCATION:Mainz\, Hilbertraum (05-432)
CATEGORIES:GAUS-Seminar
END:VEVENT
BEGIN:VEVENT
DTSTART;TZID=Europe/Berlin:20240419T133000
DTEND;TZID=Europe/Berlin:20240419T150000
DTSTAMP:20260423T111411
CREATED:20240405T132409Z
LAST-MODIFIED:20240405T132409Z
UID:8113-1713533400-1713538800@crc326gaus.de
SUMMARY:Balanced triple product p-adic L-functions and classical weight one forms
DESCRIPTION:Luca Dall’Ava (Universität Mailand) \nThis talk aims to introduce a new balanced triple product p-adic L-function and discuss its application to the equivariant Birch & Swinnerton-Dyer conjecture; we state a conjecture in a rank-1 situation analogous to the Elliptic–Stark conjecture formulated by Darmon–Lauder–Rotger in rank-2 and prove it in the CM case; this work fits in the general framework studied by Darmon–Lauder–Rotger and Andreatta–Bertolini–Seveso–Venerucci. The main feature of this new p-adic L-function is to allow classical weight one modular forms in the chosen families. Its construction crucially relies on an extension of Chenevier’s p-adic Jacquet–Langlands for quaternionic modular forms with level structure given by Pizer orders. Time permitting\, we will explain the intriguing technical difficulties one has to deal with constructing this morphism of eigenvarieties. That is joint work with Aleksander Horawa.
URL:https://crc326gaus.de/event/balanced-triple-product-p-adic-l-functions-and-classical-weight-one-forms/
LOCATION:Heidelberg\, Mathematikon\, SR A and Livestream
CATEGORIES:GAUS-Seminar
END:VEVENT
BEGIN:VEVENT
DTSTART;TZID=Europe/Berlin:20240419T153000
DTEND;TZID=Europe/Berlin:20240419T170000
DTSTAMP:20260423T111411
CREATED:20240405T113808Z
LAST-MODIFIED:20240430T062428Z
UID:8111-1713540600-1713546000@crc326gaus.de
SUMMARY:Seminar on Arithmetic Geometry
DESCRIPTION:Catrin Mair (TU Darmstadt) \nZoom 635 7328 0984\, Kenncode: kleinste sechsstellige Primzahl \n 
URL:https://crc326gaus.de/event/seminar-on-arithmetic-geometry-9/
LOCATION:Darmstadt\, Room 401 and Zoom\, Schlossgartenstraße 7\, Darmstadt\, 64289\, Germany
CATEGORIES:GAUS-Seminar
ORGANIZER;CN="Sabrina Pauli":MAILTO:pauli@mathematik.tu-darmstadt.de
END:VEVENT
BEGIN:VEVENT
DTSTART;TZID=Europe/Berlin:20240423T140000
DTEND;TZID=Europe/Berlin:20240423T153000
DTSTAMP:20260423T111411
CREATED:20240403T140707Z
LAST-MODIFIED:20240419T115045Z
UID:8049-1713880800-1713886200@crc326gaus.de
SUMMARY:Chromatic Homotopy Theory
DESCRIPTION:Timon Tausendpfunt (Uni Düsseldorf) \nTalk 2: Lazard’s theorem \nZoom meeting ID: 612 2072 7363\, Password: Largest six digit prime number
URL:https://crc326gaus.de/event/chromatic-homotopy-theory-2/
LOCATION:Darmstadt\, Room 401\, Mainz Room 04-432 and Zoom\, Darmstadt and Mainz\, Darmstadt and Mainz
CATEGORIES:GAUS-AG
END:VEVENT
BEGIN:VEVENT
DTSTART;TZID=Europe/Berlin:20240425T110000
DTEND;TZID=Europe/Berlin:20240425T130000
DTSTAMP:20260423T111411
CREATED:20240619T140609Z
LAST-MODIFIED:20240619T140609Z
UID:8828-1714042800-1714050000@crc326gaus.de
SUMMARY:Arithmetic of critical p-adic L-functions
DESCRIPTION:Talk 2: Anna Blanco Cabanillas: The eigencurve
URL:https://crc326gaus.de/event/arithmetic-of-critical-p-adic-l-functions-7/
LOCATION:Heidelberg\, Mathematikon\, SR 8 and Zoom\, INF 205\, Heidelberg\, Germany
CATEGORIES:GAUS-AG
END:VEVENT
BEGIN:VEVENT
DTSTART;TZID=Europe/Berlin:20240426T090000
DTEND;TZID=Europe/Berlin:20240426T110000
DTSTAMP:20260423T111411
CREATED:20240507T090242Z
LAST-MODIFIED:20240625T125648Z
UID:8482-1714122000-1714129200@crc326gaus.de
SUMMARY:Shtukas for reductive groups and global Langlands correspondence after Vincent Lafforgue
DESCRIPTION:Adib Abdollahi: Talk 1: Automorphic side \n  \n 
URL:https://crc326gaus.de/event/shtukas-for-reductive-groups-and-global-langlands-correspondence-after-vincent-lafforgue/
LOCATION:Heidelberg\, Mathematikon\, SR 8 and Zoom\, INF 205\, Heidelberg\, Germany
CATEGORIES:GAUS-AG
ORGANIZER;CN="Gebhard B%C3%B6ckle":MAILTO:gebhard.boeckle iwr.uni-heidelberg.de
END:VEVENT
BEGIN:VEVENT
DTSTART;TZID=Europe/Berlin:20240426T133000
DTEND;TZID=Europe/Berlin:20240426T150000
DTSTAMP:20260423T111411
CREATED:20240402T133301Z
LAST-MODIFIED:20240402T133301Z
UID:8036-1714138200-1714143600@crc326gaus.de
SUMMARY:Motivic cohomology of cyclic coverings
DESCRIPTION:Tariq Syed (Mainz/Los Angeles) \nMany examples of topologically contractible smooth affine complex varieties are given by cyclic coverings. In this talk\, we present new results on the motivic cohomology of such cyclic coverings.
URL:https://crc326gaus.de/event/motivic-cohomology-of-cyclic-coverings/
LOCATION:Heidelberg\, Mathematikon\, SR A and Livestream
CATEGORIES:GAUS-Seminar
END:VEVENT
BEGIN:VEVENT
DTSTART;TZID=Europe/Berlin:20240426T153000
DTEND;TZID=Europe/Berlin:20240426T170000
DTSTAMP:20260423T111411
CREATED:20240405T064244Z
LAST-MODIFIED:20240430T062454Z
UID:8072-1714145400-1714150800@crc326gaus.de
SUMMARY:Seminar on Arithmetic Geometry
DESCRIPTION:Chirantan Chowdhury (TU Darmstadt): Applications Of Six-Functor Formalisms in Motivic Homotopy Theory of Algebraic Stacks \nZoom (635 7328 0984\, Kenncode: kleinste sechsstellige Primzahl)
URL:https://crc326gaus.de/event/seminar-on-arithmetic-geometry/
LOCATION:Darmstadt\, Room 401 and Zoom\, Schlossgartenstraße 7\, Darmstadt\, 64289\, Germany
CATEGORIES:GAUS-Seminar
ORGANIZER;CN="Sabrina Pauli":MAILTO:pauli@mathematik.tu-darmstadt.de
END:VEVENT
BEGIN:VEVENT
DTSTART;TZID=Europe/Berlin:20240430T140000
DTEND;TZID=Europe/Berlin:20240430T153000
DTSTAMP:20260423T111411
CREATED:20240403T140856Z
LAST-MODIFIED:20240419T115147Z
UID:8051-1714485600-1714491000@crc326gaus.de
SUMMARY:Chromatic Homotopy Theory
DESCRIPTION:Daniel Fink (Uni Mainz) \nTalk 3: Complex-oriented cohomology theories \nZoom meeting ID: 612 2072 7363\, Password: Largest six digit prime number
URL:https://crc326gaus.de/event/chromatic-homotopy-theory-3/
LOCATION:Darmstadt\, Room 401\, Mainz Room 04-432 and Zoom\, Darmstadt and Mainz\, Darmstadt and Mainz
CATEGORIES:GAUS-AG
END:VEVENT
BEGIN:VEVENT
DTSTART;TZID=Europe/Berlin:20240430T160000
DTEND;TZID=Europe/Berlin:20240430T170000
DTSTAMP:20260423T111411
CREATED:20240429T082819Z
LAST-MODIFIED:20240429T082819Z
UID:8311-1714492800-1714496400@crc326gaus.de
SUMMARY:A new zero-free region for Rankin-Selberg L-functions
DESCRIPTION:International Seminar on Automorphic Forms \nJesse Thorner (UIUC) \nhttps://tu-darmstadt.zoom.us/j/68048280736
URL:https://crc326gaus.de/event/a-new-zero-free-region-for-rankin-selberg-l-functions/
LOCATION:Zoom
CATEGORIES:GAUS-Seminar
ORGANIZER;CN="Claire Burrin":MAILTO:claire.burrin@math.uzh.ch
END:VEVENT
BEGIN:VEVENT
DTSTART;TZID=Europe/Berlin:20240502T091500
DTEND;TZID=Europe/Berlin:20240502T104500
DTSTAMP:20260423T111411
CREATED:20240429T091402Z
LAST-MODIFIED:20240430T082943Z
UID:8333-1714641300-1714646700@crc326gaus.de
SUMMARY:Purity for the flat cohomology
DESCRIPTION:Talk 1: Amine Koubaa\, Katharina Hübner (Goethe-Universität Frankfurt): Proof sketch and an introduction to perfectoids
URL:https://crc326gaus.de/event/purity-for-the-flat-cohomology/
LOCATION:Heidelberg\, Mathematikon\, SR tba
CATEGORIES:GAUS-AG
END:VEVENT
BEGIN:VEVENT
DTSTART;TZID=Europe/Berlin:20240502T110000
DTEND;TZID=Europe/Berlin:20240502T130000
DTSTAMP:20260423T111411
CREATED:20240425T101514Z
LAST-MODIFIED:20240628T133800Z
UID:8293-1714647600-1714654800@crc326gaus.de
SUMMARY:Arithmetic of critical p-adic L-functions
DESCRIPTION:Talk 3:  Alireza Shavali: Analytic construction of p-adic L-functions on the eigencurve
URL:https://crc326gaus.de/event/arithmetic-of-critical-p-adic-l-functions/
LOCATION:Heidelberg\, Mathematikon\, SR 8 and Zoom\, INF 205\, Heidelberg\, Germany
CATEGORIES:GAUS-AG
END:VEVENT
BEGIN:VEVENT
DTSTART;TZID=Europe/Berlin:20240502T140000
DTEND;TZID=Europe/Berlin:20240502T170000
DTSTAMP:20260423T111411
CREATED:20240326T145805Z
LAST-MODIFIED:20240516T123700Z
UID:7988-1714658400-1714669200@crc326gaus.de
SUMMARY:Anabelian geometry
DESCRIPTION:14:00 – 15:15 Talk 0: Magnus Carlson (Goethe Universität): Introduction\, the Fontaine–Mazur conjecture \nCoffee break \n15:45 – 17:00 Talk 1: Ruth Wild (Goethe Universität): Galois representations coming from geometry and geometric Galois representations
URL:https://crc326gaus.de/event/anabelian-geometry-7/
LOCATION:Frankfurt\, Robert-Mayer-Str. 10\, Raum 711 groß
CATEGORIES:GAUS-AG
END:VEVENT
BEGIN:VEVENT
DTSTART;TZID=Europe/Berlin:20240503T090000
DTEND;TZID=Europe/Berlin:20240503T110000
DTSTAMP:20260423T111411
CREATED:20240507T090623Z
LAST-MODIFIED:20240625T125849Z
UID:8488-1714726800-1714734000@crc326gaus.de
SUMMARY:Shtukas for reductive groups and global Langlands correspondence after Vincent Lafforgue
DESCRIPTION:Sriram C. Venkata (Universität Heidelberg): Talk 2: Stacks \n 
URL:https://crc326gaus.de/event/shtukas-for-reductive-groups-and-global-langlands-correspondence-after-vincent-lafforgue-copy/
LOCATION:Heidelberg\, Mathematikon\, SR 8 and Zoom\, INF 205\, Heidelberg\, Germany
CATEGORIES:GAUS-AG
ORGANIZER;CN="Gebhard B%C3%B6ckle":MAILTO:gebhard.boeckle iwr.uni-heidelberg.de
END:VEVENT
BEGIN:VEVENT
DTSTART;TZID=Europe/Berlin:20240503T143000
DTEND;TZID=Europe/Berlin:20240503T153000
DTSTAMP:20260423T111411
CREATED:20240422T074136Z
LAST-MODIFIED:20240422T074136Z
UID:8243-1714746600-1714750200@crc326gaus.de
SUMMARY:Nobodies are perfect\, semigroups are not.
DESCRIPTION:TGiF-Seminar: Tropical geometry in Frankfurt (First meeting Summer Semester 2024) \nKarin Schaller (FU Berlin) \nAbstract: NObodies are asymptotic limits of certain valuation semigroups. Their construction depends on a given flag of subvarieties. We investigate toric surfaces together with non-toric flags and determine when the associated valuation semigroups are finitely generated. This is a joint work with K. Altmann\, C. Haase\, A. Küronya\, and L. Walter.
URL:https://crc326gaus.de/event/nobodies-are-perfect-semigroups-are-not/
LOCATION:Frankfurt\, Robert-Mayer-Str. 10\, Raum 711 groß
CATEGORIES:GAUS-Seminar
END:VEVENT
BEGIN:VEVENT
DTSTART;TZID=Europe/Berlin:20240503T153000
DTEND;TZID=Europe/Berlin:20240503T170000
DTSTAMP:20260423T111411
CREATED:20240405T092117Z
LAST-MODIFIED:20240430T062912Z
UID:8075-1714750200-1714755600@crc326gaus.de
SUMMARY:Seminar on Arithmetic Geometry
DESCRIPTION:Tariq Syed (Johannes Gutenberg-Universität Mainz):  Motivic cohomology of cyclic coverings \nMany examples of topologically contractible smooth affine complex varieties are given by cyclic coverings. In this talk\, we present new results on the motivic cohomology of such cyclic coverings. \nZoom 635 7328 0984\, Kenncode: kleinste sechsstellige Primzahl
URL:https://crc326gaus.de/event/seminar-on-arithmetic-geometry-2/
LOCATION:Darmstadt\, Room 401 and Zoom\, Schlossgartenstraße 7\, Darmstadt\, 64289\, Germany
CATEGORIES:GAUS-Seminar
ORGANIZER;CN="Sabrina Pauli":MAILTO:pauli@mathematik.tu-darmstadt.de
END:VEVENT
BEGIN:VEVENT
DTSTART;TZID=Europe/Berlin:20240503T160000
DTEND;TZID=Europe/Berlin:20240503T170000
DTSTAMP:20260423T111411
CREATED:20240422T074409Z
LAST-MODIFIED:20240422T074409Z
UID:8245-1714752000-1714755600@crc326gaus.de
SUMMARY:The realization space of a matroid
DESCRIPTION:TGiF-Seminar: Tropical geometry in Frankfurt (First meeting Summer Semester 2024) \nLukas Kühne (Universität Bielefeld) \nAbstract: A matroid is a fundamental and widely studied object in combinatorics. Following a brief introduction to matroids\, I will showcase parts of a new OSCAR module for matroids using several examples. My emphasis will be on the computation of the realization space of a matroid\, which is the space of all hyperplane arrangements that have the given matroid as their intersection lattice. \nIn the second part\, I will discuss an application in the realm of algebraic geometry\, namely a novel connection between matroid realization spaces and the elliptic modular surfaces.
URL:https://crc326gaus.de/event/the-realization-space-of-a-matroid/
LOCATION:Frankfurt\, Robert-Mayer-Str. 10\, Raum 711 groß
CATEGORIES:GAUS-Seminar
END:VEVENT
BEGIN:VEVENT
DTSTART;TZID=Europe/Berlin:20240507T140000
DTEND;TZID=Europe/Berlin:20240507T153000
DTSTAMP:20260423T111411
CREATED:20240405T093710Z
LAST-MODIFIED:20240419T115231Z
UID:8089-1715090400-1715095800@crc326gaus.de
SUMMARY:Chromatic Homotopy Theory
DESCRIPTION:Timo Weiß (Uni Mainz) \nTalk 4 – Complex bordism \nZoom meeting ID: 612 2072 7363\, Password: Largest six digit prime number
URL:https://crc326gaus.de/event/chromatic-homotopy-theory-4/
LOCATION:Darmstadt\, Room 401\, Mainz Room 04-432 and Zoom\, Darmstadt and Mainz\, Darmstadt and Mainz
CATEGORIES:GAUS-AG
END:VEVENT
BEGIN:VEVENT
DTSTART;TZID=Europe/Berlin:20240507T160000
DTEND;TZID=Europe/Berlin:20240507T170000
DTSTAMP:20260423T111411
CREATED:20240429T083020Z
LAST-MODIFIED:20240502T093807Z
UID:8313-1715097600-1715101200@crc326gaus.de
SUMMARY:Quadratic reciprocity in a polynomial ring
DESCRIPTION:International Seminar on Automorphic Forms \nWilliam Duke (UCLA) \nI will give a characterization of when a kind of quadratic reciprocity holds for irreducible polynomials whose coefficients are in a number field. The method is based on Gauss’s second proof of classical quadratic reciprocity using binary quadratic forms. \nhttps://tu-darmstadt.zoom.us/j/68048280736
URL:https://crc326gaus.de/event/tba-101/
LOCATION:Zoom
CATEGORIES:GAUS-Seminar
ORGANIZER;CN="Claire Burrin":MAILTO:claire.burrin@math.uzh.ch
END:VEVENT
BEGIN:VEVENT
DTSTART;TZID=Europe/Berlin:20240510T090000
DTEND;TZID=Europe/Berlin:20240510T110000
DTSTAMP:20260423T111411
CREATED:20240507T090942Z
LAST-MODIFIED:20240625T125508Z
UID:8491-1715331600-1715338800@crc326gaus.de
SUMMARY:Shtukas for reductive groups and global Langlands correspondence after Vincent Lafforgue
DESCRIPTION:Oğuz Gezmiş (Universität Heidelberg): Talk 3: Moduli of shtukas I
URL:https://crc326gaus.de/event/shtukas-for-reductive-groups-and-global-langlands-correspondence-after-vincent-lafforgue-2/
LOCATION:Heidelberg\, Mathematikon\, SR 8 and Zoom\, INF 205\, Heidelberg\, Germany
CATEGORIES:GAUS-AG
ORGANIZER;CN="Gebhard B%C3%B6ckle":MAILTO:gebhard.boeckle iwr.uni-heidelberg.de
END:VEVENT
BEGIN:VEVENT
DTSTART;TZID=Europe/Berlin:20240514T140000
DTEND;TZID=Europe/Berlin:20240514T153000
DTSTAMP:20260423T111411
CREATED:20240405T100506Z
LAST-MODIFIED:20240419T115322Z
UID:8091-1715695200-1715700600@crc326gaus.de
SUMMARY:Chromatic Homotopy Theory
DESCRIPTION:Klaus Mattis (Uni Mainz) \nTalk 5 – Milnor–Quillen theorem on MU \nZoom meeting ID: 612 2072 7363\, Password: Largest six digit prime number
URL:https://crc326gaus.de/event/chromatic-homotopy-theory-5/
LOCATION:Darmstadt\, Room 401\, Mainz Room 04-432 and Zoom\, Darmstadt and Mainz\, Darmstadt and Mainz
CATEGORIES:GAUS-AG
END:VEVENT
BEGIN:VEVENT
DTSTART;TZID=Europe/Berlin:20240514T160000
DTEND;TZID=Europe/Berlin:20240514T170000
DTSTAMP:20260423T111411
CREATED:20240429T083153Z
LAST-MODIFIED:20240506T091305Z
UID:8315-1715702400-1715706000@crc326gaus.de
SUMMARY:Gan-Gross-Prasad cycles and derivatives of p-adic L-functions
DESCRIPTION:International Seminar on Automorphic Forms \nDaniel Disegni (Aix-Marseille University) \nCertain Rankin-Selberg motives of rank n(n+1) are endowed with algebraic cycles arising from maps of unitary Shimura varieties. Gan-Gross-Prasad conjectured that these cycles are analogous to Heegner points\, in the sense that their nontriviality should be detected by derivatives of L-functions.\nI will propose another nontriviality criterion\, based on p-adic L-functions. Under some local conditions\, this variant can be established in a refined quantitative form\, via the construction and comparison two p-adic relative-trace formulas. (Joint work with Wei Zhang.) \nhttps://tu-darmstadt.zoom.us/j/68048280736
URL:https://crc326gaus.de/event/tba-102/
LOCATION:Zoom
CATEGORIES:GAUS-Seminar
ORGANIZER;CN="Claire Burrin":MAILTO:claire.burrin@math.uzh.ch
END:VEVENT
BEGIN:VEVENT
DTSTART;TZID=Europe/Berlin:20240516T091500
DTEND;TZID=Europe/Berlin:20240516T104500
DTSTAMP:20260423T111411
CREATED:20240429T091531Z
LAST-MODIFIED:20240523T091615Z
UID:8338-1715850900-1715856300@crc326gaus.de
SUMMARY:Purity for the flat cohomology
DESCRIPTION:Cancelled: postponed to May 23 \nTalk 2: Katharina Hübner (Goethe-Universität Frankfurt): Tilting and the arc topology
URL:https://crc326gaus.de/event/purity-for-the-flat-cohomology-2/
LOCATION:Heidelberg\, Mathematikon\, SR tba
CATEGORIES:GAUS-AG
END:VEVENT
BEGIN:VEVENT
DTSTART;TZID=Europe/Berlin:20240516T110000
DTEND;TZID=Europe/Berlin:20240516T130000
DTSTAMP:20260423T111411
CREATED:20240430T083659Z
LAST-MODIFIED:20240430T083659Z
UID:8365-1715857200-1715864400@crc326gaus.de
SUMMARY:Arithmetic of critical p-adic L-functions
DESCRIPTION:Talk 4: Marlon Kocher: Large exponential maps à la Perrin-Riou
URL:https://crc326gaus.de/event/arithmetic-of-critical-p-adic-l-functions-2/
LOCATION:Heidelberg\, Mathematikon\, SR 8 and Zoom\, INF 205\, Heidelberg\, Germany
CATEGORIES:GAUS-AG
END:VEVENT
BEGIN:VEVENT
DTSTART;TZID=Europe/Berlin:20240517T090000
DTEND;TZID=Europe/Berlin:20240517T110000
DTSTAMP:20260423T111411
CREATED:20240507T091132Z
LAST-MODIFIED:20240625T125730Z
UID:8494-1715936400-1715943600@crc326gaus.de
SUMMARY:Shtukas for reductive groups and global Langlands correspondence after Vincent Lafforgue
DESCRIPTION:Paola Francesca Chilla (Universität Heidelberg): Talk 4: Moduli of shtukas II \n 
URL:https://crc326gaus.de/event/shtukas-for-reductive-groups-and-global-langlands-correspondence-after-vincent-lafforgue-3/
LOCATION:Heidelberg\, Mathematikon\, SR 8 and Zoom\, INF 205\, Heidelberg\, Germany
CATEGORIES:GAUS-AG
ORGANIZER;CN="Gebhard B%C3%B6ckle":MAILTO:gebhard.boeckle iwr.uni-heidelberg.de
END:VEVENT
BEGIN:VEVENT
DTSTART;TZID=Europe/Berlin:20240517T133000
DTEND;TZID=Europe/Berlin:20240517T150000
DTSTAMP:20260423T111411
CREATED:20240430T141407Z
LAST-MODIFIED:20240430T141407Z
UID:8391-1715952600-1715958000@crc326gaus.de
SUMMARY:Density of rational points near manifolds
DESCRIPTION:Damaris Schindler (Universität Göttingen) \nGiven a bounded submanifold M in R^n\, how many rational points with common bounded denominator are there in a small thickening of M? Under what conditions can we count them asymptotically as the size of the denominator goes to infinity? I will discuss some recent work in this direction and arithmetic applications such as Serre’s dimension growth conjecture as well as applications in Diophantine approximation. For this I’ll focus on joint work with Shuntaro Yamagishi\, as well as joint work with Rajula Srivastava and Niclas Technau.
URL:https://crc326gaus.de/event/density-of-rational-points-near-manifolds/
LOCATION:Heidelberg\, Mathematikon\, SR A and Livestream
CATEGORIES:GAUS-Seminar
END:VEVENT
BEGIN:VEVENT
DTSTART;TZID=Europe/Berlin:20240517T153000
DTEND;TZID=Europe/Berlin:20240517T170000
DTSTAMP:20260423T111411
CREATED:20240405T092314Z
LAST-MODIFIED:20240430T062929Z
UID:8077-1715959800-1715965200@crc326gaus.de
SUMMARY:Seminar on Arithmetic Geometry
DESCRIPTION:Nathan Tiggemann (TU Darmstadt) \nZoom 635 7328 0984\, Kenncode: kleinste sechsstellige Primzahl
URL:https://crc326gaus.de/event/seminar-on-arithmetic-geometry-3/
LOCATION:Darmstadt\, Room 401 and Zoom\, Schlossgartenstraße 7\, Darmstadt\, 64289\, Germany
CATEGORIES:GAUS-Seminar
ORGANIZER;CN="Sabrina Pauli":MAILTO:pauli@mathematik.tu-darmstadt.de
END:VEVENT
END:VCALENDAR