BEGIN:VCALENDAR
VERSION:2.0
PRODID:-//CRC 326 - GAUS - ECPv6.15.20//NONSGML v1.0//EN
CALSCALE:GREGORIAN
METHOD:PUBLISH
X-ORIGINAL-URL:https://crc326gaus.de
X-WR-CALDESC:Events for CRC 326 - GAUS
REFRESH-INTERVAL;VALUE=DURATION:PT1H
X-Robots-Tag:noindex
X-PUBLISHED-TTL:PT1H
BEGIN:VTIMEZONE
TZID:Europe/Berlin
BEGIN:DAYLIGHT
TZOFFSETFROM:+0100
TZOFFSETTO:+0200
TZNAME:CEST
DTSTART:20250330T010000
END:DAYLIGHT
BEGIN:STANDARD
TZOFFSETFROM:+0200
TZOFFSETTO:+0100
TZNAME:CET
DTSTART:20251026T010000
END:STANDARD
BEGIN:DAYLIGHT
TZOFFSETFROM:+0100
TZOFFSETTO:+0200
TZNAME:CEST
DTSTART:20260329T010000
END:DAYLIGHT
BEGIN:STANDARD
TZOFFSETFROM:+0200
TZOFFSETTO:+0100
TZNAME:CET
DTSTART:20261025T010000
END:STANDARD
BEGIN:DAYLIGHT
TZOFFSETFROM:+0100
TZOFFSETTO:+0200
TZNAME:CEST
DTSTART:20270328T010000
END:DAYLIGHT
BEGIN:STANDARD
TZOFFSETFROM:+0200
TZOFFSETTO:+0100
TZNAME:CET
DTSTART:20271031T010000
END:STANDARD
END:VTIMEZONE
BEGIN:VEVENT
DTSTART;TZID=Europe/Berlin:20260210T130000
DTEND;TZID=Europe/Berlin:20260213T140000
DTSTAMP:20260423T141328
CREATED:20260202T122429Z
LAST-MODIFIED:20260204T114537Z
UID:12636-1770728400-1770991200@crc326gaus.de
SUMMARY:Workshop "Moduli in Heidelberg"
DESCRIPTION:Veronica Arena : TBA \nLuca Battistella : Vector bundles on Olsson fans \nLogarithmic geometry is a language that combines piecewise-linear and algebraic geometry\, particularly useful for tracking the combinatorics of compactifications and degenerations of algebraic varieties. Olsson’s stack of logarithmic structures\, and its charts provided by Artin cones\, have played a fundamental role in moduli theory and enumerative geometry. Recent developments concerning stability\, good moduli spaces\, and logarithmic sheaf theory show the utility of considering Artin fans over a base\, or Olsson fans. In joint work with Francesca Carocci and Jonathan Wise\, we study their structure and vector bundles over them\, generalising the theory of equivariant bundles on toric varieties. If time permits\, I will discuss the relationship with Grassmannians and limit linear series that motivated our investigation. \nThomas Blomme : Correlated Gromov-Witten invariants & Multiple cover formula  \nAbelian surfaces are complex tori whose enumerative invariants seem to satisfy remarkable regularity properties. The computation of their reduced Gromov-Witten invariants in the case of primitive classes has already been well studied with many complete computations by Bryan-Oberdieck-Pandharipande-Yin. A few years ago\, G. Oberdieck conjectured a multiple cover formula expressing in a very simple way the invariants for the non-primitive classes in terms of the primitive one. This would close the computation of GW invariants for abelian surfaces. In this second talk\, we aim to explain how correlated invariants naturally show up in the decomposition formula for abelian surfaces\, and how they allow to prove the multiple cover formula conjecture for many instances. This is joint work with F. Carocci. \nFrancesca Carocci : Correlated Gromov-Witten invariants & DR cycle formula \nIn this talk\, we will talk about a geometric refinement for log Gromov -Witten invariants of P^1-bundles on smooth projective varieties\, called correlated Gromov-Witten invariants\, introduced in a joint work with T. Blomme. In order to compute them\, we proved a correlated refinement of Pixton double-ramification cycle formula with target varieties. We will state the formula and try to give an idea of how it is obtained as an application of the Universal DR formula of Bae-Holmes-Pandharipande-Schmitt-Schwarz. \nAitor Iribar Lopez : TBA \nPatrick Kenendy-Hunt : TBA \nNavid Nabijou : Tautological projection of the Prym-Torelli locus \nThe moduli space of abelian varieties admits a tautological ring generated by lambda classes. In contrast to the space of stable curves\, this tautological ring has a remarkably simple presentation. This allows for the construction of a canonical “tautological projection” which maps the full Chow ring onto the tautological subring\, providing a left inverse to the inclusion of the latter in the former. \nGiven a Chow class on the moduli space of abelian varieties\, it is natural to attempt to compute its tautological projection. For the Torelli locus (the locus of Jacobians) an algorithm was provided by Faber\, the difficult step being integrating monomials in lambda classes on the space of stable curves. \nWe establish a corresponding algorithm for the Prym-Torelli locus (the locus of Prym varieties). The novel geometric content is a closed formula relating three different types of lambda classes (source\, target\, and Prym) on the moduli space of admissible covers\, proved using Grothendieck-Riemann-Roch. \nThis is joint work in progress with Yoav Len and Sam Molcho. \n  \nDenis Nesterov : Hilbert-Chow crepant resolution conjecture \nThe conjecture in the title\, proposed by Ruan\, predicts that the quantum cohomology of Hilbert schemes of points on a surface is isomorphic to the orbifold cohomology of symmetric products. I will present a proof of the conjecture that relies on Fulton–MacPherson compactifications. \n  \nSabrina Pauli : Tropical correspondence theorems for plane curve counts over arbitrary fields \nWe study the problem of counting rational curves of fixed degree on a toric del Pezzo surface subject to point conditions. Over algebraically closed fields\, this count is invariant under the choice of point conditions. Over non-algebraically closed fields\, however\, the invariance fails. For real numbers\, Welschinger’s groundbreaking work introduced a signed count of real curves that restores invariance. \nBuilding on this\, Levine and Kass-Levine-Solomon-Wickelgren have developed curve counts over arbitrary fields that not only generalize Welschinger’s signed counts and classical counts over algebraically closed fields\, but also encode much richer arithmetic information. \nIn this talk I will survey these different approaches to counting rational curves with point conditions and discuss a recent joint result with A. Jaramillo Puentes\, H. Markwig\, and F. Röhrle. We establish a tropical correspondence theorem for curve counts over arbitrary fields\, identifying the count of algebraic curves with point conditions with a weighted count of their tropical counterparts with point conditions. The latter are combinatorial objects and there are several purely combinatorial methods to find all tropical curves with point conditions. \n  \nAaron Pixton : Cycles on universal Jacobians \nLet J be the degree 0 universal Jacobian over the moduli space of smooth curves of genus g. Its Chow ring\, CH(J)\, has an extra grading by weight (the Beauville decomposition). I will explain how to express the weight w part of CH(J) in terms of the Chow ring of a moduli space of curves with w marked points. This interpretation lets us translate ideas back and forth between cycles on universal Jacobians and cycles on moduli spaces of curves. Two consequences are a conjectural description of all tautological relations on universal Jacobians and a definition of a Fourier transform on moduli spaces of curves. I will also discuss how to extend this correspondence to compactified Jacobians over the moduli space of stable curves. This talk presents joint work with Younghan Bae. \nMaximilian Schimpf : TBA \nPim Spelier : TBA \nCalla Tschanz : From logarithmic Hilbert schemes to degenerations of hyperkähler varieties  \nIn this talk\, I will discuss my previous work on constructing explicit models of logarithmic Hilbert schemes. This relates to work or Li-Wu on expanded degenerations\, Gulbrandsen-Halle-Hulek on degenerations of Hilbert schemes of points and Maulik-Ranganathan on logarithmic Hilbert schemes. The constructions I consider are local. I will then explain how we globalise these in joint work with Shafi and apply them to construct minimal type III degenerations of hyperkähler varieties\, namely Hilbert schemes of points on K3 surfaces. \n  \nAngelina Zheng : The Brill-Noether rank and Martens’ theorem for tropical curves \nDivisor theory on metric graphs has provided combinatorial proofs of several algebro-geometric results\, most notably in Brill–Noether theory. In algebraic geometry\, the dimensions of Brill–Noether loci play crucial roles\, as in Martens’ theorem characterizing hyperelliptic curves. However\, the tropical analogue of this result fails for metric graphs. Furthermore\, the dimension of Brill–Noether loci does not vary upper semicontinuous in the moduli of tropical curves\, as observed by C. M. Lim\, S. Payne\, and N. Potashnik. Motivated by this\, D. Jensen and Y. Len conjectured that replacing the dimension with the Brill–Noether rank would yield a valid tropical analogue. However\, this conjecture was later disproved by Coppens. \nIn this talk\, based on joint work with G. Capobianco\, I will discuss these counterexamples\, and generalise them to a wider class of graphs. Finally\, I’ll show that a suitably strengthened version of the conjecture holds for any graph.
URL:https://crc326gaus.de/event/workshop-moduli-in-heidelberg/
LOCATION:Heidelberg\, MATHEMATIKON\, Konferenzraum\, 5. OG\, Campus Im Neuenheimer Feld (INF)\, INF 205\, Heidelberg\, 69120\, Germany
CATEGORIES:GAUS-Workshop
ORGANIZER;CN="Georg Bernhard Oberdieck":MAILTO:georgo@uni-heidelberg.de
END:VEVENT
END:VCALENDAR