BEGIN:VCALENDAR
VERSION:2.0
PRODID:-//CRC 326 - GAUS - ECPv6.15.20//NONSGML v1.0//EN
CALSCALE:GREGORIAN
METHOD:PUBLISH
X-WR-CALNAME:CRC 326 - GAUS
X-ORIGINAL-URL:https://crc326gaus.de
X-WR-CALDESC:Events for CRC 326 - GAUS
REFRESH-INTERVAL;VALUE=DURATION:PT1H
X-Robots-Tag:noindex
X-PUBLISHED-TTL:PT1H
BEGIN:VTIMEZONE
TZID:Europe/Berlin
BEGIN:DAYLIGHT
TZOFFSETFROM:+0100
TZOFFSETTO:+0200
TZNAME:CEST
DTSTART:20210328T010000
END:DAYLIGHT
BEGIN:STANDARD
TZOFFSETFROM:+0200
TZOFFSETTO:+0100
TZNAME:CET
DTSTART:20211031T010000
END:STANDARD
BEGIN:DAYLIGHT
TZOFFSETFROM:+0100
TZOFFSETTO:+0200
TZNAME:CEST
DTSTART:20220327T010000
END:DAYLIGHT
BEGIN:STANDARD
TZOFFSETFROM:+0200
TZOFFSETTO:+0100
TZNAME:CET
DTSTART:20221030T010000
END:STANDARD
BEGIN:DAYLIGHT
TZOFFSETFROM:+0100
TZOFFSETTO:+0200
TZNAME:CEST
DTSTART:20230326T010000
END:DAYLIGHT
BEGIN:STANDARD
TZOFFSETFROM:+0200
TZOFFSETTO:+0100
TZNAME:CET
DTSTART:20231029T010000
END:STANDARD
END:VTIMEZONE
BEGIN:VEVENT
DTSTART;TZID=Europe/Berlin:20220707T111500
DTEND;TZID=Europe/Berlin:20220707T121500
DTSTAMP:20260425T181557
CREATED:20220512T084802Z
LAST-MODIFIED:20220512T084802Z
UID:2995-1657192500-1657196100@crc326gaus.de
SUMMARY:The étale comparison Theorem and applications
DESCRIPTION:GAUS AG: Prismatic Cohomology (Talk 9) \nAmine Koubaa (Heidelberg)
URL:https://crc326gaus.de/event/the-etale-comparison-theorem-and-applications/
LOCATION:Heidelberg\, MATHEMATIKON\, Hörsaal
CATEGORIES:GAUS-AG
END:VEVENT
BEGIN:VEVENT
DTSTART;TZID=Europe/Berlin:20220705T140000
DTEND;TZID=Europe/Berlin:20220705T153000
DTSTAMP:20260425T181557
CREATED:20220411T094630Z
LAST-MODIFIED:20220411T094630Z
UID:2582-1657029600-1657035000@crc326gaus.de
SUMMARY:Seminar on étale motives
DESCRIPTION:Talk 12: Interlude on Chow groups
URL:https://crc326gaus.de/event/seminar-on-etale-motives-13/
LOCATION:Darmstadt and Zoom
CATEGORIES:GAUS-AG
END:VEVENT
BEGIN:VEVENT
DTSTART;TZID=Europe/Berlin:20220630T163000
DTEND;TZID=Europe/Berlin:20220630T173000
DTSTAMP:20260425T181557
CREATED:20220330T113414Z
LAST-MODIFIED:20220621T224707Z
UID:2520-1656606600-1656610200@crc326gaus.de
SUMMARY:Heights on arbitrary Shimura Varieties and Tori
DESCRIPTION:GAUS AG: The André-Oort conjecture (Talk 12) \nJacob Tsimerman (University of Toronto) \nAbstract: We explain how to prove upper bounds for heights of special points on arbitrary Shimura Varieties\, completing the proof after the work of Binyamini-Schmidt-Yafaev. The proof in fact reduces to the case of A_g\, and thus requires a comparison of height functions between distinct Shimura varieties. To facilitate this\, we introduce a  canonical height function corresponding to automorphic vector bundles on it and explain their functorial properties. This is achieved using relative p-adic Hodge theory\, combining the de-Rham and crystalline formalisms. This also reduces the question of bounding these canonical heights in  0-dimensional settings. Finally\, we explain how a trick of Deligne allows us to conclude this case using functoriality and the Abelian case.
URL:https://crc326gaus.de/event/tbd/
LOCATION:Darmstadt and Zoom
CATEGORIES:GAUS-AG
END:VEVENT
BEGIN:VEVENT
DTSTART;TZID=Europe/Berlin:20220630T151500
DTEND;TZID=Europe/Berlin:20220630T161500
DTSTAMP:20260425T181557
CREATED:20220330T113253Z
LAST-MODIFIED:20220422T141256Z
UID:2518-1656602100-1656605700@crc326gaus.de
SUMMARY:The André-Oort conjecture for A_g : Galois lower bounds for CM abelian varieties - after Tsimerman and Binyamini-Schmidt-Yafaev.
DESCRIPTION:GAUS AG: The André-Oort conjecture (Talk 11) \nYingkun Li (TU Darmstadt)
URL:https://crc326gaus.de/event/the-andre-oort-conjecture-for-a-g-galois-lower-bounds-for-cm-abelian-varieties-after-tsimerman-and-binyamini-schmidt-yafaev/
LOCATION:Darmstadt and Zoom
CATEGORIES:GAUS-AG
END:VEVENT
BEGIN:VEVENT
DTSTART;TZID=Europe/Berlin:20220630T111500
DTEND;TZID=Europe/Berlin:20220630T121500
DTSTAMP:20260425T181557
CREATED:20220512T084606Z
LAST-MODIFIED:20220512T084606Z
UID:2993-1656587700-1656591300@crc326gaus.de
SUMMARY:Perfectoidization
DESCRIPTION:GAUS AG: Prismatic Cohomology (Talk 8) \nJakob Burgi (Heidelberg)
URL:https://crc326gaus.de/event/perfectoidization/
LOCATION:Heidelberg\, MATHEMATIKON\, Hörsaal
CATEGORIES:GAUS-AG
END:VEVENT
BEGIN:VEVENT
DTSTART;TZID=Europe/Berlin:20220628T160000
DTEND;TZID=Europe/Berlin:20220628T170000
DTSTAMP:20260425T181557
CREATED:20220509T104514Z
LAST-MODIFIED:20220509T104514Z
UID:2938-1656432000-1656435600@crc326gaus.de
SUMMARY:International Seminar on Automorphic Forms
DESCRIPTION:
URL:https://crc326gaus.de/event/international-seminar-on-automorphic-forms-8/
LOCATION:Zoom
CATEGORIES:GAUS-AG
END:VEVENT
BEGIN:VEVENT
DTSTART;TZID=Europe/Berlin:20220628T140000
DTEND;TZID=Europe/Berlin:20220628T153000
DTSTAMP:20260425T181557
CREATED:20220411T094516Z
LAST-MODIFIED:20220411T094516Z
UID:2580-1656424800-1656430200@crc326gaus.de
SUMMARY:Seminar on étale motives
DESCRIPTION:Talk 11: Motives and h-descent- Thibaud van den Hove (TU darmstadt)
URL:https://crc326gaus.de/event/seminar-on-etale-motives-12/
LOCATION:Darmstadt
CATEGORIES:GAUS-AG
END:VEVENT
BEGIN:VEVENT
DTSTART;TZID=Europe/Berlin:20220623T163000
DTEND;TZID=Europe/Berlin:20220623T173000
DTSTAMP:20260425T181557
CREATED:20220330T112801Z
LAST-MODIFIED:20220422T141357Z
UID:2516-1656001800-1656005400@crc326gaus.de
SUMMARY:The André-Oort conjecture.
DESCRIPTION:GAUS AG: The André-Oort conjecture (Talk 10) \nRiccardo Zuffetti (TU Darmstadt)
URL:https://crc326gaus.de/event/the-andre-oort-conjecture/
LOCATION:Frankfurt and Zoom
CATEGORIES:GAUS-AG
END:VEVENT
BEGIN:VEVENT
DTSTART;TZID=Europe/Berlin:20220623T151500
DTEND;TZID=Europe/Berlin:20220623T161500
DTSTAMP:20260425T181557
CREATED:20220330T112628Z
LAST-MODIFIED:20220422T141430Z
UID:2514-1655997300-1656000900@crc326gaus.de
SUMMARY:Bi-algebraic geometry: an introduction.
DESCRIPTION:GAUS AG: The André-Oort conjecture (Talk 9) \nYiu Man Wong (Goethe University)
URL:https://crc326gaus.de/event/bi-algebraic-geometry-an-introduction/
LOCATION:Frankfurt and Zoom
CATEGORIES:GAUS-AG
END:VEVENT
BEGIN:VEVENT
DTSTART;TZID=Europe/Berlin:20220623T111500
DTEND;TZID=Europe/Berlin:20220623T121500
DTSTAMP:20260425T181557
CREATED:20220512T084430Z
LAST-MODIFIED:20220512T084430Z
UID:2991-1655982900-1655986500@crc326gaus.de
SUMMARY:Extending prismatic cohomology to the singular case
DESCRIPTION:GAUS AG: Prismatic Cohomology (Talk 7) \nSriram Chinthalagiri Ventaka (Heidelberg)
URL:https://crc326gaus.de/event/extending-prismatic-cohomology-to-the-singular-case/
LOCATION:Heidelberg\, MATHEMATIKON\, Hörsaal
CATEGORIES:GAUS-AG
END:VEVENT
BEGIN:VEVENT
DTSTART;TZID=Europe/Berlin:20220621T160000
DTEND;TZID=Europe/Berlin:20220621T170000
DTSTAMP:20260425T181557
CREATED:20220509T104355Z
LAST-MODIFIED:20220509T104355Z
UID:2936-1655827200-1655830800@crc326gaus.de
SUMMARY:International Seminar on Automorphic Forms
DESCRIPTION:
URL:https://crc326gaus.de/event/international-seminar-on-automorphic-forms-7/
LOCATION:Zoom
CATEGORIES:GAUS-AG
END:VEVENT
BEGIN:VEVENT
DTSTART;TZID=Europe/Berlin:20220621T140000
DTEND;TZID=Europe/Berlin:20220621T153000
DTSTAMP:20260425T181557
CREATED:20220411T094355Z
LAST-MODIFIED:20220411T094355Z
UID:2578-1655820000-1655825400@crc326gaus.de
SUMMARY:Seminar on étale motives
DESCRIPTION:Talk 10: Torsion étale motives – tba
URL:https://crc326gaus.de/event/seminar-on-etale-motives-11/
LOCATION:Darmstadt and Zoom
CATEGORIES:GAUS-AG
END:VEVENT
BEGIN:VEVENT
DTSTART;TZID=Europe/Berlin:20220615T121500
DTEND;TZID=Europe/Berlin:20220615T160000
DTSTAMP:20260425T181557
CREATED:20220509T082612Z
LAST-MODIFIED:20220526T065354Z
UID:2749-1655295300-1655308800@crc326gaus.de
SUMMARY:“Anabelian” criterion for good reduction
DESCRIPTION:GAUS-AG anabelian geometry on “The Grothendieck conjecture for affine curves” \n12:15-13:45: Katharina Hübner (Heidelberg University)\, talk 10\n14:30-16:00: Marcin Lara (Goethe University)\, talk 11
URL:https://crc326gaus.de/event/anabelian-criterion-for-good-reduction/
LOCATION:Frankfurt (Hörsaal 16)
CATEGORIES:GAUS-AG
ORGANIZER;CN="Tim Holzschuh":MAILTO:tholzschuh@mathi.uni-heidelberg.de
END:VEVENT
BEGIN:VEVENT
DTSTART;TZID=Europe/Berlin:20220614T160000
DTEND;TZID=Europe/Berlin:20220614T170000
DTSTAMP:20260425T181557
CREATED:20220509T104219Z
LAST-MODIFIED:20220509T104219Z
UID:2934-1655222400-1655226000@crc326gaus.de
SUMMARY:International Seminar on Automorphic Forms
DESCRIPTION:
URL:https://crc326gaus.de/event/international-seminar-on-automorphic-forms-6/
LOCATION:Zoom
CATEGORIES:GAUS-AG
END:VEVENT
BEGIN:VEVENT
DTSTART;TZID=Europe/Berlin:20220614T140000
DTEND;TZID=Europe/Berlin:20220614T153000
DTSTAMP:20260425T181557
CREATED:20220411T094238Z
LAST-MODIFIED:20220411T094238Z
UID:2576-1655215200-1655220600@crc326gaus.de
SUMMARY:Seminar on étale motives
DESCRIPTION:Talk 9: Étale sheaves with transfers – tba
URL:https://crc326gaus.de/event/seminar-on-etale-motives-10/
LOCATION:Darmstadt and Zoom
CATEGORIES:GAUS-AG
END:VEVENT
BEGIN:VEVENT
DTSTART;TZID=Europe/Berlin:20220609T111500
DTEND;TZID=Europe/Berlin:20220609T121500
DTSTAMP:20260425T181557
CREATED:20220512T084225Z
LAST-MODIFIED:20220512T084225Z
UID:2989-1654773300-1654776900@crc326gaus.de
SUMMARY:A special case of the Hodge-Tate comparison Theorem
DESCRIPTION:GAUS AG: Prismatic Cohomology (Talk 6) \nOtmar Venjakob (Heidelberg)
URL:https://crc326gaus.de/event/a-special-case-of-the-hodge-tate-comparison-theorem/
LOCATION:Heidelberg\, MATHEMATIKON\, Hörsaal
CATEGORIES:GAUS-AG
END:VEVENT
BEGIN:VEVENT
DTSTART;TZID=Europe/Berlin:20220608T113000
DTEND;TZID=Europe/Berlin:20220608T173000
DTSTAMP:20260425T181557
CREATED:20220421T070941Z
LAST-MODIFIED:20220421T070941Z
UID:2740-1654687800-1654709400@crc326gaus.de
SUMMARY:The Grothendieck conjecture for curves over finite fields
DESCRIPTION:GAUS-AG anabelian geometry on “The Grothendieck conjecture for affine curves” \n11:30-13:00: Amine Koubaa (Heidelberg University)\, talk 7\n14:15-15:45: Amine Koubaa (Heidelberg University)\, talk 8\n16:00-17:30: Tim Holzschuh (Heidelberg University)\, talk 9
URL:https://crc326gaus.de/event/the-grothendieck-conjecture-for-curves-over-finite-fields/
LOCATION:Heidelberg\, Mathematikon\, SR tba
CATEGORIES:GAUS-AG
ORGANIZER;CN="Tim Holzschuh":MAILTO:tholzschuh@mathi.uni-heidelberg.de
END:VEVENT
BEGIN:VEVENT
DTSTART;TZID=Europe/Berlin:20220607T140000
DTEND;TZID=Europe/Berlin:20220607T153000
DTSTAMP:20260425T181557
CREATED:20220411T093806Z
LAST-MODIFIED:20220411T093806Z
UID:2573-1654610400-1654615800@crc326gaus.de
SUMMARY:Seminar on étale motives
DESCRIPTION:Talk 8: Interlude on finite correspondences – tba
URL:https://crc326gaus.de/event/seminar-on-etale-motives-9/
LOCATION:Darmstadt and Zoom
CATEGORIES:GAUS-AG
END:VEVENT
BEGIN:VEVENT
DTSTART;TZID=Europe/Berlin:20220607T090000
DTEND;TZID=Europe/Berlin:20220607T100000
DTSTAMP:20260425T181557
CREATED:20220509T104104Z
LAST-MODIFIED:20220607T084651Z
UID:2932-1654592400-1654596000@crc326gaus.de
SUMMARY:International Seminar on Automorphic Forms
DESCRIPTION:Determination of modular forms is one of the fundamental and interesting problems in number theory. It is known that if the Hecke eigenvalues of two newforms agree for all but finitely many primes\, then both the forms are the same. In other words\, the set of Hecke eigenvalues at primes determines the newform uniquely and this result is known as the multiplicity one theorem. In the case of Siegel cuspidal eigenforms of degree two\, the multiplicity one theorem has been proved only recently in 2018 by Schmidt. In this talk\, we refine the result of Schmidt by showing that if the Hecke eigenvalues of two Siegel eigenforms of level 1 agree at a set of primes of positive density\, then the eigenforms are the same (up to a constant). We also distinguish Siegel eigenforms from the signs of their Hecke eigenvalues. The main ingredient to prove these results are Galois representations attached to Siegel eigenforms\, the Chebotarev density theorem and some analytic properties of associated L-functions.
URL:https://crc326gaus.de/event/international-seminar-on-automorphic-forms-5/
LOCATION:Zoom
CATEGORIES:GAUS-AG
END:VEVENT
BEGIN:VEVENT
DTSTART;TZID=Europe/Berlin:20220602T163000
DTEND;TZID=Europe/Berlin:20220602T173000
DTSTAMP:20260425T181557
CREATED:20220330T111546Z
LAST-MODIFIED:20220330T111546Z
UID:2512-1654187400-1654191000@crc326gaus.de
SUMMARY:Shimura varieties II: after Deligne.
DESCRIPTION:GAUS AG: The André-Oort conjecture (Talk 8) \nJakob Stix (Goethe University)
URL:https://crc326gaus.de/event/shimura-varieties-ii-after-deligne/
LOCATION:Darmstadt and Zoom
CATEGORIES:GAUS-AG
END:VEVENT
BEGIN:VEVENT
DTSTART;TZID=Europe/Berlin:20220602T151500
DTEND;TZID=Europe/Berlin:20220602T161500
DTSTAMP:20260425T181557
CREATED:20220330T111150Z
LAST-MODIFIED:20220425T091652Z
UID:2510-1654182900-1654186500@crc326gaus.de
SUMMARY:o-minimality and Shimura varieties.
DESCRIPTION:GAUS AG: The André-Oort conjecture (Talk 7) \nPaul Kiefer (TU Darmstadt)
URL:https://crc326gaus.de/event/o-minimality-and-shimura-varieties/
LOCATION:Darmstadt and Zoom
CATEGORIES:GAUS-AG
END:VEVENT
BEGIN:VEVENT
DTSTART;TZID=Europe/Berlin:20220602T111500
DTEND;TZID=Europe/Berlin:20220602T121500
DTSTAMP:20260425T181557
CREATED:20220512T084053Z
LAST-MODIFIED:20220512T084053Z
UID:2987-1654168500-1654172100@crc326gaus.de
SUMMARY:The prismatic site
DESCRIPTION:GAUS AG: Prismatic Cohomology (Talk 5) \nRızacan Çiloğlu (Darmstadt)
URL:https://crc326gaus.de/event/the-prismatic-site/
LOCATION:Heidelberg\, MATHEMATIKON\, Hörsaal
CATEGORIES:GAUS-AG
END:VEVENT
BEGIN:VEVENT
DTSTART;TZID=Europe/Berlin:20220531T160000
DTEND;TZID=Europe/Berlin:20220531T170000
DTSTAMP:20260425T181557
CREATED:20220509T103940Z
LAST-MODIFIED:20220607T084730Z
UID:2927-1654012800-1654016400@crc326gaus.de
SUMMARY:International Seminar on Automorphic Forms
DESCRIPTION:We define a L-series for harmonic Maass forms and discuss their functional equations. A converse theorem for these L-series is given. As an application\, we interpret as proper values of our L-functions certain important quantities that arose in works by Bruinier-Funke-Imamoglu and Alfes-Schwagenscheidt\, and which they had philosophically viewed as “central L-values”. This is joint work with M. Lee\, W. Raji and L. Rolen.
URL:https://crc326gaus.de/event/international-seminar-on-automorphic-forms-4/
LOCATION:Zoom
CATEGORIES:GAUS-AG
END:VEVENT
BEGIN:VEVENT
DTSTART;TZID=Europe/Berlin:20220531T140000
DTEND;TZID=Europe/Berlin:20220531T153000
DTSTAMP:20260425T181557
CREATED:20220411T093645Z
LAST-MODIFIED:20220411T093645Z
UID:2571-1654005600-1654011000@crc326gaus.de
SUMMARY:Seminar on étale motives
DESCRIPTION:Talk 7: P¹-Stabilization – tba
URL:https://crc326gaus.de/event/seminar-on-etale-motives-8/
LOCATION:Darmstadt and Zoom
CATEGORIES:GAUS-AG
END:VEVENT
BEGIN:VEVENT
DTSTART;TZID=Europe/Berlin:20220525T121500
DTEND;TZID=Europe/Berlin:20220525T160000
DTSTAMP:20260425T181557
CREATED:20220420T125026Z
LAST-MODIFIED:20220421T070028Z
UID:2731-1653480900-1653494400@crc326gaus.de
SUMMARY:Characterization of various invariants
DESCRIPTION:GAUS-AG anabelian geometry on “The Grothendieck conjecture for affine curves” \n12:15-13:45: Tim Holzschuh (Heidelberg University)\, talk 5\n14:30-16:00: Jaro Eichler (Goethe University)\, talk 6
URL:https://crc326gaus.de/event/characterization-of-various-invariants/
LOCATION:Frankfurt (Hörsaal 16)
CATEGORIES:GAUS-AG
ORGANIZER;CN="Tim Holzschuh":MAILTO:tholzschuh@mathi.uni-heidelberg.de
END:VEVENT
BEGIN:VEVENT
DTSTART;TZID=Europe/Berlin:20220524T140000
DTEND;TZID=Europe/Berlin:20220524T153000
DTSTAMP:20260425T181557
CREATED:20220411T093534Z
LAST-MODIFIED:20220411T093534Z
UID:2569-1653400800-1653406200@crc326gaus.de
SUMMARY:Seminar on étale motives
DESCRIPTION:Talk 6: A¹-Localization- tba
URL:https://crc326gaus.de/event/seminar-on-etale-motives-7/
LOCATION:Darmstadt and Zoom
CATEGORIES:GAUS-AG
END:VEVENT
BEGIN:VEVENT
DTSTART;TZID=Europe/Berlin:20220519T163000
DTEND;TZID=Europe/Berlin:20220519T173000
DTSTAMP:20260425T181557
CREATED:20220330T110726Z
LAST-MODIFIED:20220422T141533Z
UID:2508-1652977800-1652981400@crc326gaus.de
SUMMARY:Shimura varieties I: a gentle introduction.
DESCRIPTION:GAUS AG: The André-Oort conjecture (Talk 6) \nAndrea Thevis (Goethe University)
URL:https://crc326gaus.de/event/shimura-varieties-i-a-gentle-introduction/
LOCATION:Frankfurt and Zoom
CATEGORIES:GAUS-AG
END:VEVENT
BEGIN:VEVENT
DTSTART;TZID=Europe/Berlin:20220519T151500
DTEND;TZID=Europe/Berlin:20220519T161500
DTSTAMP:20260425T181557
CREATED:20220330T110530Z
LAST-MODIFIED:20220422T141613Z
UID:2506-1652973300-1652976900@crc326gaus.de
SUMMARY:Application II: Pila-Wilkie counting and the Manin-Mumford conjecture.
DESCRIPTION:GAUS AG: The André-Oort conjecture (Talk 5) \nMarcin Lara (Goethe University)
URL:https://crc326gaus.de/event/application-ii-pila-wilkie-counting-and-the-manin-mumford-conjecture/
LOCATION:Frankfurt and Zoom
CATEGORIES:GAUS-AG
END:VEVENT
BEGIN:VEVENT
DTSTART;TZID=Europe/Berlin:20220519T111500
DTEND;TZID=Europe/Berlin:20220519T121500
DTSTAMP:20260425T181557
CREATED:20220512T083711Z
LAST-MODIFIED:20220512T083711Z
UID:2985-1652958900-1652962500@crc326gaus.de
SUMMARY:Perfectoid rings ("lenses") and perfect prisms
DESCRIPTION:GAUS AG: Prismatic Cohomology (Talk 4) \nMilan Malcic (Heidelberg)
URL:https://crc326gaus.de/event/perfectoid-rings-lenses-and-perfect-prisms/
LOCATION:Heidelberg\, MATHEMATIKON\, Hörsaal
CATEGORIES:GAUS-AG
END:VEVENT
BEGIN:VEVENT
DTSTART;TZID=Europe/Berlin:20220517T140000
DTEND;TZID=Europe/Berlin:20220517T153000
DTSTAMP:20260425T181557
CREATED:20220411T093414Z
LAST-MODIFIED:20220411T093414Z
UID:2567-1652796000-1652801400@crc326gaus.de
SUMMARY:Seminar on étale motives
DESCRIPTION:Talk 5: Interlude on model categories- tba
URL:https://crc326gaus.de/event/seminar-on-etale-motives-6/
LOCATION:Darmstadt and Zoom
CATEGORIES:GAUS-AG
END:VEVENT
END:VCALENDAR