BEGIN:VCALENDAR
VERSION:2.0
PRODID:-//CRC 326 - GAUS - ECPv6.15.20//NONSGML v1.0//EN
CALSCALE:GREGORIAN
METHOD:PUBLISH
X-ORIGINAL-URL:https://crc326gaus.de
X-WR-CALDESC:Events for CRC 326 - GAUS
REFRESH-INTERVAL;VALUE=DURATION:PT1H
X-Robots-Tag:noindex
X-PUBLISHED-TTL:PT1H
BEGIN:VTIMEZONE
TZID:Europe/Berlin
BEGIN:DAYLIGHT
TZOFFSETFROM:+0100
TZOFFSETTO:+0200
TZNAME:CEST
DTSTART:20210328T010000
END:DAYLIGHT
BEGIN:STANDARD
TZOFFSETFROM:+0200
TZOFFSETTO:+0100
TZNAME:CET
DTSTART:20211031T010000
END:STANDARD
BEGIN:DAYLIGHT
TZOFFSETFROM:+0100
TZOFFSETTO:+0200
TZNAME:CEST
DTSTART:20220327T010000
END:DAYLIGHT
BEGIN:STANDARD
TZOFFSETFROM:+0200
TZOFFSETTO:+0100
TZNAME:CET
DTSTART:20221030T010000
END:STANDARD
BEGIN:DAYLIGHT
TZOFFSETFROM:+0100
TZOFFSETTO:+0200
TZNAME:CEST
DTSTART:20230326T010000
END:DAYLIGHT
BEGIN:STANDARD
TZOFFSETFROM:+0200
TZOFFSETTO:+0100
TZNAME:CET
DTSTART:20231029T010000
END:STANDARD
END:VTIMEZONE
BEGIN:VEVENT
DTSTART;TZID=Europe/Berlin:20221129T140000
DTEND;TZID=Europe/Berlin:20221129T153000
DTSTAMP:20260425T145654
CREATED:20221011T131827Z
LAST-MODIFIED:20221116T134941Z
UID:3765-1669730400-1669735800@crc326gaus.de
SUMMARY:Reduction to tame parameters
DESCRIPTION:Moduli of Langlands parameters \nProve [DHKM20\, Theorem 3.4]. State [DHKM20\, Theorem 3.12] and\, time permitting\, explain how one can prove it by modifying the proof of [DHKM20\, Theorem 3.4]\, cf. [DHKM20\, Remark 3.9]. \nManuel Hoff (University Duisburg-Essen) \nZoom: \nMeeting-ID: 61220727363 \nPassword: largest six digit prime
URL:https://crc326gaus.de/event/moduli-of-langlands-parameters-reduction-to-tame-parameters/
LOCATION:Zoom
CATEGORIES:GAUS-AG
ORGANIZER;CN="Gebhard B%C3%B6ckle":MAILTO:gebhard.boeckle iwr.uni-heidelberg.de
END:VEVENT
BEGIN:VEVENT
DTSTART;TZID=Europe/Berlin:20221129T140000
DTEND;TZID=Europe/Berlin:20221129T153000
DTSTAMP:20260425T145654
CREATED:20220929T114503Z
LAST-MODIFIED:20221115T084717Z
UID:3632-1669730400-1669735800@crc326gaus.de
SUMMARY:Buildings
DESCRIPTION:Alejandro Vargas (Goethe University): Examples of buildings
URL:https://crc326gaus.de/event/examples/
LOCATION:Frankfurt\, Robert-Mayer-Str. 10\, Raum 110 und Zoom
CATEGORIES:GAUS-AG
END:VEVENT
BEGIN:VEVENT
DTSTART;TZID=Europe/Berlin:20221129T111500
DTEND;TZID=Europe/Berlin:20221129T124500
DTSTAMP:20260425T145654
CREATED:20221030T223429Z
LAST-MODIFIED:20221115T105616Z
UID:4030-1669720500-1669725900@crc326gaus.de
SUMMARY:K-theory of the integers and the Kummer-Vandiver conjecture
DESCRIPTION:Max Witzelsperger (Heidelberg University): K-theory of the integers and cyclotomic fields
URL:https://crc326gaus.de/event/k-theory-of-the-integers-and-the-kummer-vandiver-conjecture-3/
LOCATION:Heidelberg\, Mathematikon\, SR 8 und Zoom\, Germany
CATEGORIES:GAUS-AG
END:VEVENT
BEGIN:VEVENT
DTSTART;TZID=Europe/Berlin:20221124T151500
DTEND;TZID=Europe/Berlin:20221124T174500
DTSTAMP:20260425T145654
CREATED:20221004T125117Z
LAST-MODIFIED:20221123T083300Z
UID:3704-1669302900-1669311900@crc326gaus.de
SUMMARY:Non-hypergeometric E-functions
DESCRIPTION:15:15-16:15:  Rızacan Çiloğlu (TU Darmstadt): Some aspects of differential Galois theory\n16:45-17:45:  Anton Güthge (TU Darmstadt): Tannakian categories
URL:https://crc326gaus.de/event/non-hypergeometric-e-functions-3/
LOCATION:Darmstadt\, Room 244 and Zoom\, Schlossgartenstraße 7\, Darmstadt\, 64289
CATEGORIES:GAUS-AG
END:VEVENT
BEGIN:VEVENT
DTSTART;TZID=Europe/Berlin:20221122T140000
DTEND;TZID=Europe/Berlin:20221122T153000
DTSTAMP:20260425T145654
CREATED:20221011T131600Z
LAST-MODIFIED:20221117T085503Z
UID:3763-1669125600-1669131000@crc326gaus.de
SUMMARY:Representatives of L-parameters
DESCRIPTION:Moduli of Langlands parameters \nContinue the study of moduli of cocycles [DHKM20\, §A.4\, §A.5\, §A.6]\, and deduce [DHKM20\, Theorem 3.1]. \nJakob Burgi (Heidelberg University) \nZoom: \nMeeting-ID: 61220727363 \nPassword: largest six digit prime
URL:https://crc326gaus.de/event/moduli-of-langlands-parameters-representatives-of-l-parameters/
LOCATION:Zoom
CATEGORIES:GAUS-AG
ORGANIZER;CN="Gebhard B%C3%B6ckle":MAILTO:gebhard.boeckle iwr.uni-heidelberg.de
END:VEVENT
BEGIN:VEVENT
DTSTART;TZID=Europe/Berlin:20221122T140000
DTEND;TZID=Europe/Berlin:20221122T153000
DTSTAMP:20260425T145654
CREATED:20220929T114324Z
LAST-MODIFIED:20221101T140523Z
UID:3630-1669125600-1669131000@crc326gaus.de
SUMMARY:Buildings
DESCRIPTION:Jiaming Chen (Goethe University): Group actions and BN pairs
URL:https://crc326gaus.de/event/group-actions-and-bn-pairs/
LOCATION:Frankfurt\, Robert-Mayer-Str. 10\, Raum 110 und Zoom
CATEGORIES:GAUS-AG
END:VEVENT
BEGIN:VEVENT
DTSTART;TZID=Europe/Berlin:20221122T111500
DTEND;TZID=Europe/Berlin:20221122T124500
DTSTAMP:20260425T145654
CREATED:20221030T223204Z
LAST-MODIFIED:20221115T105647Z
UID:4028-1669115700-1669121100@crc326gaus.de
SUMMARY:K-theory of the integers and the Kummer-Vandiver conjecture
DESCRIPTION:Tim Holzschuh (Heidelberg University): K-theory and étale cohomology
URL:https://crc326gaus.de/event/k-theory-of-the-integers-and-the-kummer-vandiver-conjecture-2/
LOCATION:Heidelberg\, Mathematikon\, SR 8 und Zoom\, Germany
CATEGORIES:GAUS-AG
END:VEVENT
BEGIN:VEVENT
DTSTART;TZID=Europe/Berlin:20221115T140000
DTEND;TZID=Europe/Berlin:20221115T153000
DTSTAMP:20260425T145654
CREATED:20221011T131336Z
LAST-MODIFIED:20221116T134733Z
UID:3761-1668520800-1668526200@crc326gaus.de
SUMMARY:Moduli spaces of cocycles and their quotients
DESCRIPTION:Moduli of Langlands parameters \nThe goal of this talk is to describe moduli spaces of cocycles and their quotients by conjugation actions\, 1 which will later be applied to L-parameters. More precisely\, cover [DHKM20\, §A.1\,§A.2]. Then recall some background on GIT quotients\, and explain the relation between the GIT quotient and the sheaf quotient of moduli of cocycles [DHKM20\, §A.3]. \nJudith Ludwig (University Heidelberg) \nZoom: \nMeeting-ID: 61220727363 \nPassword: largest six digit prime
URL:https://crc326gaus.de/event/moduli-of-langlands-parameters-moduli-spaces-of-cocycles-and-their-quotients/
LOCATION:Zoom
CATEGORIES:GAUS-AG
ORGANIZER;CN="Gebhard B%C3%B6ckle":MAILTO:gebhard.boeckle iwr.uni-heidelberg.de
END:VEVENT
BEGIN:VEVENT
DTSTART;TZID=Europe/Berlin:20221115T111500
DTEND;TZID=Europe/Berlin:20221115T124500
DTSTAMP:20260425T145654
CREATED:20221030T222825Z
LAST-MODIFIED:20221115T105726Z
UID:4026-1668510900-1668516300@crc326gaus.de
SUMMARY:K-theory of the integers and the Kummer-Vandiver conjecture
DESCRIPTION:Katharina Hübner (Heidelberg University): Finiteness of the K-theory of the integers
URL:https://crc326gaus.de/event/k-theory-of-the-integers-and-the-kummer-vandiver-conjecture/
LOCATION:Heidelberg\, Mathematikon\, SR 8 und Zoom\, Germany
CATEGORIES:GAUS-AG
END:VEVENT
BEGIN:VEVENT
DTSTART;TZID=Europe/Berlin:20221108T140000
DTEND;TZID=Europe/Berlin:20221108T153000
DTSTAMP:20260425T145654
CREATED:20221011T131014Z
LAST-MODIFIED:20221116T134609Z
UID:3759-1667916000-1667921400@crc326gaus.de
SUMMARY:Geometry and the universal family in the tame case
DESCRIPTION:Moduli of Langlands parameters \nContinue the study of the geometry of Z1(WF0/PF \, Gˆ) [DHKM20\, §2.3]. Explain how to define ℓ– adic continuity for more general coefficient rings\, and construct the universal ℓ-adically continuous L-parameter [DHKM20\, §2.4]. Time permitting\, explain how instead of [DHKM20\, Definition 2.11]\, one could deal with continuity for general coefficients using condensed mathematics as in [FS21\, §VIII]. \nTimo Richarz (University Darmstadt): \nZoom: \nMeeting-ID: 61220727363 \nPassword: largest six digit prime
URL:https://crc326gaus.de/event/moduli-of-langlands-parameters-geometry-and-the-universal-family-in-the-tame-case/
LOCATION:Zoom
CATEGORIES:GAUS-AG
ORGANIZER;CN="Gebhard B%C3%B6ckle":MAILTO:gebhard.boeckle iwr.uni-heidelberg.de
END:VEVENT
BEGIN:VEVENT
DTSTART;TZID=Europe/Berlin:20221108T140000
DTEND;TZID=Europe/Berlin:20221108T153000
DTSTAMP:20260425T145654
CREATED:20220929T114133Z
LAST-MODIFIED:20221027T210828Z
UID:3628-1667916000-1667921400@crc326gaus.de
SUMMARY:Buildings
DESCRIPTION:Luca Battistella (Goethe University): Buildings as W-metric spaces
URL:https://crc326gaus.de/event/buildings-as-w-metric-spaces/
LOCATION:Frankfurt\, Robert-Mayer-Str. 10\, Raum 110 und Zoom
CATEGORIES:GAUS-AG
END:VEVENT
BEGIN:VEVENT
DTSTART;TZID=Europe/Berlin:20221108T111500
DTEND;TZID=Europe/Berlin:20221108T124500
DTSTAMP:20260425T145654
CREATED:20221028T110532Z
LAST-MODIFIED:20221115T105837Z
UID:3984-1667906100-1667911500@crc326gaus.de
SUMMARY:K-theory of the integers and the Kummer-Vandiver conjecture
DESCRIPTION:Marlon Kocher (Heidelberg University): The Solomon-Tits theorem
URL:https://crc326gaus.de/event/the-solomon-tits-theorem/
LOCATION:Heidelberg\, Mathematikon\, SR 8 und Zoom\, Germany
CATEGORIES:GAUS-AG
END:VEVENT
BEGIN:VEVENT
DTSTART;TZID=Europe/Berlin:20221103T151500
DTEND;TZID=Europe/Berlin:20221103T174500
DTSTAMP:20260425T145654
CREATED:20221004T082315Z
LAST-MODIFIED:20221031T132314Z
UID:3694-1667488500-1667497500@crc326gaus.de
SUMMARY:Non-hypergeometric E-functions
DESCRIPTION:15:15-16:15: Gabriele Bogo (TU Darmstadt): E-functions and G-functions \n16:45-17:45: Christina Röhrig (TU Darmstadt): G-functions and geometry
URL:https://crc326gaus.de/event/e-functions-and-g-functions/
LOCATION:Frankfurt\, Robert-Mayer-Str. 10\, Raum 711 groß
CATEGORIES:GAUS-AG
END:VEVENT
BEGIN:VEVENT
DTSTART;TZID=Europe/Berlin:20221101T140000
DTEND;TZID=Europe/Berlin:20221101T153000
DTSTAMP:20260425T145654
CREATED:20220929T113739Z
LAST-MODIFIED:20221027T210341Z
UID:3626-1667311200-1667316600@crc326gaus.de
SUMMARY:Buildings
DESCRIPTION:Pedro Souza (Goethe University): Thick buildings – axioms and first properties
URL:https://crc326gaus.de/event/buildings-axioms-and-first-consequences/
LOCATION:Frankfurt\, Robert-Mayer-Str. 10\, Raum 110 und Zoom
CATEGORIES:GAUS-AG
END:VEVENT
BEGIN:VEVENT
DTSTART;TZID=Europe/Berlin:20221025T140000
DTEND;TZID=Europe/Berlin:20221025T153000
DTSTAMP:20260425T145654
CREATED:20221011T130728Z
LAST-MODIFIED:20221116T134501Z
UID:3754-1666706400-1666711800@crc326gaus.de
SUMMARY:Moduli of Langlands parameters: The space of tame parameters
DESCRIPTION:Sriram Chinthalagiri Venkata (Heidelberg University) \nExplain how one can view L-parameters as cocycles\, define the moduli functor Z1(WF0\, Gˆ)\, and show it is representable by a scheme [DHKM20\, p5]. Specializing to the tame case\, construct the scheme Z1(WF0/PF\, Gˆ) [DHKM20\, §2.1] and study its geometry [DHKM20\, §2.2]. \nZoom: \nMeeting-ID: 61220727363 \nPassword: largest six digit prime
URL:https://crc326gaus.de/event/moduli-of-langlands-parameters-the-space-of-tame-parameters/
LOCATION:Zoom
CATEGORIES:GAUS-AG
ORGANIZER;CN="Gebhard B%C3%B6ckle":MAILTO:gebhard.boeckle iwr.uni-heidelberg.de
END:VEVENT
BEGIN:VEVENT
DTSTART;TZID=Europe/Berlin:20221025T140000
DTEND;TZID=Europe/Berlin:20221025T153000
DTSTAMP:20260425T145654
CREATED:20220929T095216Z
LAST-MODIFIED:20221115T094027Z
UID:3624-1666706400-1666711800@crc326gaus.de
SUMMARY:Buildings
DESCRIPTION:Arne Kuhrs (Goethe University): Coxeter groups and complexes in general
URL:https://crc326gaus.de/event/chamber-complexes-convexity-semigroup-structure/
LOCATION:Frankfurt\, Robert-Mayer-Str. 10\, Raum 110 und Zoom
CATEGORIES:GAUS-AG
END:VEVENT
BEGIN:VEVENT
DTSTART;TZID=Europe/Berlin:20221018T140000
DTEND;TZID=Europe/Berlin:20221018T153000
DTSTAMP:20260425T145654
CREATED:20221011T130400Z
LAST-MODIFIED:20221011T130400Z
UID:3752-1666101600-1666107000@crc326gaus.de
SUMMARY:Moduli of Langlands parameters: Moduli of Langlands parameters
DESCRIPTION:Recall the definition of the Weil group of a non-archimedean local field. Give some recollections about reductive groups\, in order to define the L-group and\nL-homomorphisms. Give the different possible definitions [DHKM20\, (1)-(4) on pages 2 and 4] of L-parameters. Explain why these agree for ℓ-adic coefficients\, using Grothendieck’s ℓ-adic monodromy theorem\, and why they differ for more general coefficients \nZoom: \nMeeting-ID: 61220727363 \nPassword: largest six digit prime
URL:https://crc326gaus.de/event/moduli-of-langlands-parameters-moduli-of-langlands-parameters/
LOCATION:Zoom
CATEGORIES:GAUS-AG
ORGANIZER;CN="Gebhard B%C3%B6ckle":MAILTO:gebhard.boeckle iwr.uni-heidelberg.de
END:VEVENT
BEGIN:VEVENT
DTSTART;TZID=Europe/Berlin:20221018T140000
DTEND;TZID=Europe/Berlin:20221018T153000
DTSTAMP:20260425T145654
CREATED:20220929T094955Z
LAST-MODIFIED:20221115T093316Z
UID:3618-1666101600-1666107000@crc326gaus.de
SUMMARY:Buildings
DESCRIPTION:Kevin Kühn (Goethe University): Finite reflection groups and their associated complexes
URL:https://crc326gaus.de/event/coxeter-groups-and-complexes/
LOCATION:Frankfurt\, Robert-Mayer-Str. 10\, Raum 110 und Zoom
CATEGORIES:GAUS-AG
END:VEVENT
BEGIN:VEVENT
DTSTART;TZID=Europe/Berlin:20221018T111500
DTEND;TZID=Europe/Berlin:20221018T124500
DTSTAMP:20260425T145654
CREATED:20221017T112419Z
LAST-MODIFIED:20221017T122436Z
UID:3825-1666091700-1666097100@crc326gaus.de
SUMMARY:Introduction and Overview
DESCRIPTION:GAUS-AG “K-theory of the integers and the Kummer-Vandiver conjecture” \n 
URL:https://crc326gaus.de/event/introduction-and-overview/
LOCATION:Heidelberg\, Mathematikon\, SR 8 und Zoom\, Germany
CATEGORIES:GAUS-AG
ORGANIZER;CN="Christian Dahlhausen":MAILTO:cdahlhausen@mathi.uni-heidelberg.de
END:VEVENT
BEGIN:VEVENT
DTSTART;TZID=Europe/Berlin:20220719T140000
DTEND;TZID=Europe/Berlin:20220719T153000
DTSTAMP:20260425T145654
CREATED:20220411T095118Z
LAST-MODIFIED:20220411T095118Z
UID:2588-1658239200-1658244600@crc326gaus.de
SUMMARY:Seminar on étale motives
DESCRIPTION:Talk 15: Comparison with algebraic K-theory – Georg Tamme (Universität Mainz)
URL:https://crc326gaus.de/event/seminar-on-etale-motives-16/
LOCATION:Darmstadt and Zoom
CATEGORIES:GAUS-AG
END:VEVENT
BEGIN:VEVENT
DTSTART;TZID=Europe/Berlin:20220719T140000
DTEND;TZID=Europe/Berlin:20220719T153000
DTSTAMP:20260425T145654
CREATED:20220411T094909Z
LAST-MODIFIED:20220411T094909Z
UID:2586-1658239200-1658244600@crc326gaus.de
SUMMARY:Seminar on étale motives
DESCRIPTION:Talk 14: Interlude on algebraic K-theory – tba
URL:https://crc326gaus.de/event/seminar-on-etale-motives-15/
LOCATION:Darmstadt and Zoom
CATEGORIES:GAUS-AG
END:VEVENT
BEGIN:VEVENT
DTSTART;TZID=Europe/Berlin:20220714T111500
DTEND;TZID=Europe/Berlin:20220714T121500
DTSTAMP:20260425T145654
CREATED:20220512T085020Z
LAST-MODIFIED:20220512T085020Z
UID:2997-1657797300-1657800900@crc326gaus.de
SUMMARY:The almost purity theorem
DESCRIPTION:GAUS AG: Prismatic Cohomology (Talk 10) \nMilan Malcic\, Max Witzelsperger (Heidelberg)
URL:https://crc326gaus.de/event/the-almost-purity-theorem/
LOCATION:Heidelberg\, MATHEMATIKON\, Hörsaal
CATEGORIES:GAUS-AG
END:VEVENT
BEGIN:VEVENT
DTSTART;TZID=Europe/Berlin:20220713T113000
DTEND;TZID=Europe/Berlin:20220713T154500
DTSTAMP:20260425T145654
CREATED:20220421T072147Z
LAST-MODIFIED:20220421T072147Z
UID:2751-1657711800-1657727100@crc326gaus.de
SUMMARY:The Grothendieck conjecture for curves over fields finitely generated over Q
DESCRIPTION:GAUS-AG anabelian geometry on “The Grothendieck conjecture for affine curves” \n11:30-13:00: Marius Leonhardt (Heidelberg University)\, talk 12\n14:15-15:45: Christian Dahlhausen (Heidelberg University)\, talk 13
URL:https://crc326gaus.de/event/the-grothendieck-conjecture-for-curves-over-fields-finitely-generated-over-q/
LOCATION:Heidelberg\, Mathematikon\, SR tba
CATEGORIES:GAUS-AG
ORGANIZER;CN="Tim Holzschuh":MAILTO:tholzschuh@mathi.uni-heidelberg.de
END:VEVENT
BEGIN:VEVENT
DTSTART;TZID=Europe/Berlin:20220712T140000
DTEND;TZID=Europe/Berlin:20220712T153000
DTSTAMP:20260425T145654
CREATED:20220411T094755Z
LAST-MODIFIED:20220411T094755Z
UID:2584-1657634400-1657639800@crc326gaus.de
SUMMARY:Seminar on étale motives
DESCRIPTION:Talk 13: Comparison rationalized Chow groups- Torsten Wedhorn (TU Darmstadt)
URL:https://crc326gaus.de/event/seminar-on-etale-motives-14/
LOCATION:Darmstadt and Zoom
CATEGORIES:GAUS-AG
END:VEVENT
BEGIN:VEVENT
DTSTART;TZID=Europe/Berlin:20220707T111500
DTEND;TZID=Europe/Berlin:20220707T121500
DTSTAMP:20260425T145654
CREATED:20220512T084802Z
LAST-MODIFIED:20220512T084802Z
UID:2995-1657192500-1657196100@crc326gaus.de
SUMMARY:The étale comparison Theorem and applications
DESCRIPTION:GAUS AG: Prismatic Cohomology (Talk 9) \nAmine Koubaa (Heidelberg)
URL:https://crc326gaus.de/event/the-etale-comparison-theorem-and-applications/
LOCATION:Heidelberg\, MATHEMATIKON\, Hörsaal
CATEGORIES:GAUS-AG
END:VEVENT
BEGIN:VEVENT
DTSTART;TZID=Europe/Berlin:20220705T140000
DTEND;TZID=Europe/Berlin:20220705T153000
DTSTAMP:20260425T145654
CREATED:20220411T094630Z
LAST-MODIFIED:20220411T094630Z
UID:2582-1657029600-1657035000@crc326gaus.de
SUMMARY:Seminar on étale motives
DESCRIPTION:Talk 12: Interlude on Chow groups
URL:https://crc326gaus.de/event/seminar-on-etale-motives-13/
LOCATION:Darmstadt and Zoom
CATEGORIES:GAUS-AG
END:VEVENT
BEGIN:VEVENT
DTSTART;TZID=Europe/Berlin:20220630T163000
DTEND;TZID=Europe/Berlin:20220630T173000
DTSTAMP:20260425T145654
CREATED:20220330T113414Z
LAST-MODIFIED:20220621T224707Z
UID:2520-1656606600-1656610200@crc326gaus.de
SUMMARY:Heights on arbitrary Shimura Varieties and Tori
DESCRIPTION:GAUS AG: The André-Oort conjecture (Talk 12) \nJacob Tsimerman (University of Toronto) \nAbstract: We explain how to prove upper bounds for heights of special points on arbitrary Shimura Varieties\, completing the proof after the work of Binyamini-Schmidt-Yafaev. The proof in fact reduces to the case of A_g\, and thus requires a comparison of height functions between distinct Shimura varieties. To facilitate this\, we introduce a  canonical height function corresponding to automorphic vector bundles on it and explain their functorial properties. This is achieved using relative p-adic Hodge theory\, combining the de-Rham and crystalline formalisms. This also reduces the question of bounding these canonical heights in  0-dimensional settings. Finally\, we explain how a trick of Deligne allows us to conclude this case using functoriality and the Abelian case.
URL:https://crc326gaus.de/event/tbd/
LOCATION:Darmstadt and Zoom
CATEGORIES:GAUS-AG
END:VEVENT
BEGIN:VEVENT
DTSTART;TZID=Europe/Berlin:20220630T151500
DTEND;TZID=Europe/Berlin:20220630T161500
DTSTAMP:20260425T145654
CREATED:20220330T113253Z
LAST-MODIFIED:20220422T141256Z
UID:2518-1656602100-1656605700@crc326gaus.de
SUMMARY:The André-Oort conjecture for A_g : Galois lower bounds for CM abelian varieties - after Tsimerman and Binyamini-Schmidt-Yafaev.
DESCRIPTION:GAUS AG: The André-Oort conjecture (Talk 11) \nYingkun Li (TU Darmstadt)
URL:https://crc326gaus.de/event/the-andre-oort-conjecture-for-a-g-galois-lower-bounds-for-cm-abelian-varieties-after-tsimerman-and-binyamini-schmidt-yafaev/
LOCATION:Darmstadt and Zoom
CATEGORIES:GAUS-AG
END:VEVENT
BEGIN:VEVENT
DTSTART;TZID=Europe/Berlin:20220630T111500
DTEND;TZID=Europe/Berlin:20220630T121500
DTSTAMP:20260425T145654
CREATED:20220512T084606Z
LAST-MODIFIED:20220512T084606Z
UID:2993-1656587700-1656591300@crc326gaus.de
SUMMARY:Perfectoidization
DESCRIPTION:GAUS AG: Prismatic Cohomology (Talk 8) \nJakob Burgi (Heidelberg)
URL:https://crc326gaus.de/event/perfectoidization/
LOCATION:Heidelberg\, MATHEMATIKON\, Hörsaal
CATEGORIES:GAUS-AG
END:VEVENT
BEGIN:VEVENT
DTSTART;TZID=Europe/Berlin:20220628T160000
DTEND;TZID=Europe/Berlin:20220628T170000
DTSTAMP:20260425T145654
CREATED:20220509T104514Z
LAST-MODIFIED:20220509T104514Z
UID:2938-1656432000-1656435600@crc326gaus.de
SUMMARY:International Seminar on Automorphic Forms
DESCRIPTION:
URL:https://crc326gaus.de/event/international-seminar-on-automorphic-forms-8/
LOCATION:Zoom
CATEGORIES:GAUS-AG
END:VEVENT
END:VCALENDAR