BEGIN:VCALENDAR
VERSION:2.0
PRODID:-//CRC 326 - GAUS - ECPv6.15.20//NONSGML v1.0//EN
CALSCALE:GREGORIAN
METHOD:PUBLISH
X-ORIGINAL-URL:https://crc326gaus.de
X-WR-CALDESC:Events for CRC 326 - GAUS
REFRESH-INTERVAL;VALUE=DURATION:PT1H
X-Robots-Tag:noindex
X-PUBLISHED-TTL:PT1H
BEGIN:VTIMEZONE
TZID:Europe/Berlin
BEGIN:DAYLIGHT
TZOFFSETFROM:+0100
TZOFFSETTO:+0200
TZNAME:CEST
DTSTART:20220327T010000
END:DAYLIGHT
BEGIN:STANDARD
TZOFFSETFROM:+0200
TZOFFSETTO:+0100
TZNAME:CET
DTSTART:20221030T010000
END:STANDARD
BEGIN:DAYLIGHT
TZOFFSETFROM:+0100
TZOFFSETTO:+0200
TZNAME:CEST
DTSTART:20230326T010000
END:DAYLIGHT
BEGIN:STANDARD
TZOFFSETFROM:+0200
TZOFFSETTO:+0100
TZNAME:CET
DTSTART:20231029T010000
END:STANDARD
BEGIN:DAYLIGHT
TZOFFSETFROM:+0100
TZOFFSETTO:+0200
TZNAME:CEST
DTSTART:20240331T010000
END:DAYLIGHT
BEGIN:STANDARD
TZOFFSETFROM:+0200
TZOFFSETTO:+0100
TZNAME:CET
DTSTART:20241027T010000
END:STANDARD
END:VTIMEZONE
BEGIN:VEVENT
DTSTART;TZID=Europe/Berlin:20231115T133000
DTEND;TZID=Europe/Berlin:20231115T163000
DTSTAMP:20260425T025958
CREATED:20231024T082700Z
LAST-MODIFIED:20231024T082700Z
UID:6766-1700055000-1700065800@crc326gaus.de
SUMMARY:Anabelian geometry
DESCRIPTION:13:30 – 14:45  Talk 3: Jonathan Miles (Goethe Universität Frankfurt): The étale fundamental gerbe \n15:15 – 16:30  Talk 4: Jakob Stix (Goethe Universität Frankfurt): The section conjecture in the language of gerbes
URL:https://crc326gaus.de/event/anabelian-geometry-2/
LOCATION:Heidelberg\, MATHEMATIKON\, SR A\, Deutschland
CATEGORIES:GAUS-AG
END:VEVENT
BEGIN:VEVENT
DTSTART;TZID=Europe/Berlin:20231110T101500
DTEND;TZID=Europe/Berlin:20231110T114500
DTSTAMP:20260425T025958
CREATED:20231121T122823Z
LAST-MODIFIED:20231122T133442Z
UID:7167-1699611300-1699616700@crc326gaus.de
SUMMARY:Exodromy
DESCRIPTION:Linus Schönfelder (Universität Mainz): Spatial décollage
URL:https://crc326gaus.de/event/exodromy-3/
LOCATION:Mainz\, Raum 05-514
CATEGORIES:GAUS-AG
ORGANIZER;CN="Tom Bachmann":MAILTO:tom.bachmann@uni-mainz.de
END:VEVENT
BEGIN:VEVENT
DTSTART;TZID=Europe/Berlin:20231110T091500
DTEND;TZID=Europe/Berlin:20231110T104500
DTSTAMP:20260425T025958
CREATED:20231025T113347Z
LAST-MODIFIED:20231025T113347Z
UID:6793-1699607700-1699613100@crc326gaus.de
SUMMARY:Rigid meromorphic cocycles
DESCRIPTION:Rigid meromorphic cocycles (Janne Frenz)
URL:https://crc326gaus.de/event/rigid-meromorphic-cocycles-4/
LOCATION:Heidelberg\, Mathematikon\, SR 8 und Zoom\, Germany
CATEGORIES:GAUS-AG
ORGANIZER;CN="O%C4%9Fuz Gezmi%C5%9F":MAILTO:oguz.gezmis@iwr.uni-heidelberg.de
END:VEVENT
BEGIN:VEVENT
DTSTART;TZID=Europe/Berlin:20231109T150000
DTEND;TZID=Europe/Berlin:20231109T163000
DTSTAMP:20260425T025958
CREATED:20231009T090056Z
LAST-MODIFIED:20231009T090056Z
UID:6373-1699542000-1699547400@crc326gaus.de
SUMMARY:Rigid Analytic Motives
DESCRIPTION:Talk 4:  Rigid analytic spaces I – Tate’s rigid analytic varieties \nZoom meeting ID: 612 2072 7363\, Password: Largest six digit prime number.
URL:https://crc326gaus.de/event/rigid-analytic-motives-18/
LOCATION:Darmstadt\, Room 244 and Zoom\, Schlossgartenstraße 7\, Darmstadt\, 64289
CATEGORIES:GAUS-AG
END:VEVENT
BEGIN:VEVENT
DTSTART;TZID=Europe/Berlin:20231103T091500
DTEND;TZID=Europe/Berlin:20231103T104500
DTSTAMP:20260425T025958
CREATED:20231018T112129Z
LAST-MODIFIED:20231018T112129Z
UID:6725-1699002900-1699008300@crc326gaus.de
SUMMARY:Rigid meromorphic cocycles
DESCRIPTION:Talk 3: Factorization of singular moduli (Sriram Chinthalagiri Venkata)
URL:https://crc326gaus.de/event/rigid-meromorphic-cocycles-3/
LOCATION:Heidelberg\, Mathematikon\, SR 8 und Zoom\, Germany
CATEGORIES:GAUS-AG
ORGANIZER;CN="O%C4%9Fuz Gezmi%C5%9F":MAILTO:oguz.gezmis@iwr.uni-heidelberg.de
END:VEVENT
BEGIN:VEVENT
DTSTART;TZID=Europe/Berlin:20231102T150000
DTEND;TZID=Europe/Berlin:20231102T163000
DTSTAMP:20260425T025958
CREATED:20231009T085835Z
LAST-MODIFIED:20231009T085835Z
UID:6371-1698937200-1698942600@crc326gaus.de
SUMMARY:Rigid Analytic Motives
DESCRIPTION:Talk 3: Algebraic étale motives II \nZoom meeting ID: 612 2072 7363\, Password: Largest six digit prime number.
URL:https://crc326gaus.de/event/rigid-analytic-motives-17/
LOCATION:Darmstadt\, Room 244 and Zoom\, Schlossgartenstraße 7\, Darmstadt\, 64289
CATEGORIES:GAUS-AG
END:VEVENT
BEGIN:VEVENT
DTSTART;TZID=Europe/Berlin:20231102T123000
DTEND;TZID=Europe/Berlin:20231102T140000
DTSTAMP:20260425T025958
CREATED:20231121T122452Z
LAST-MODIFIED:20231122T133400Z
UID:7165-1698928200-1698933600@crc326gaus.de
SUMMARY:Exodromy
DESCRIPTION:Alisa Kannen (Universität Mainz): Stratified spaces
URL:https://crc326gaus.de/event/exodromy-2/
LOCATION:Mainz\, Raum 05-514
CATEGORIES:GAUS-AG
ORGANIZER;CN="Tom Bachmann":MAILTO:tom.bachmann@uni-mainz.de
END:VEVENT
BEGIN:VEVENT
DTSTART;TZID=Europe/Berlin:20231102T110000
DTEND;TZID=Europe/Berlin:20231102T170000
DTSTAMP:20260425T025958
CREATED:20231010T131946Z
LAST-MODIFIED:20231010T131946Z
UID:6525-1698922800-1698944400@crc326gaus.de
SUMMARY:Emerton-Gee-Stacks
DESCRIPTION:Talk 3: Introduction to Stacks (Gautier Ponsinet)
URL:https://crc326gaus.de/event/emerton-gee-stacks-3/
LOCATION:Heidelberg\, Mathematikon\, SR 8 and Zoom\, INF 205\, Heidelberg\, Germany
CATEGORIES:GAUS-AG
END:VEVENT
BEGIN:VEVENT
DTSTART;TZID=Europe/Berlin:20231027T091500
DTEND;TZID=Europe/Berlin:20231027T104500
DTSTAMP:20260425T025958
CREATED:20231013T150055Z
LAST-MODIFIED:20231013T150055Z
UID:6686-1698398100-1698403500@crc326gaus.de
SUMMARY:Rigid meromorphic cocycles
DESCRIPTION:Talk 2: Overview of the theory of complex multiplication
URL:https://crc326gaus.de/event/rigid-meromorphic-cocycles-2/
LOCATION:Heidelberg\, Mathematikon\, SR 8 und Zoom\, Germany
CATEGORIES:GAUS-AG
ORGANIZER;CN="Gebhard B%C3%B6ckle":MAILTO:gebhard.boeckle iwr.uni-heidelberg.de
END:VEVENT
BEGIN:VEVENT
DTSTART;TZID=Europe/Berlin:20231026T150000
DTEND;TZID=Europe/Berlin:20231026T163000
DTSTAMP:20260425T025958
CREATED:20231009T085610Z
LAST-MODIFIED:20231009T085610Z
UID:6369-1698332400-1698337800@crc326gaus.de
SUMMARY:Rigid Analytic Motives
DESCRIPTION:Talk 2: Algebraic étale motives I \n• Zoom meeting ID: 612 2072 7363\, Password: Largest six digit prime number.
URL:https://crc326gaus.de/event/rigid-analytic-motives-16/
LOCATION:Darmstadt\, Room 244 and Zoom\, Schlossgartenstraße 7\, Darmstadt\, 64289
CATEGORIES:GAUS-AG
END:VEVENT
BEGIN:VEVENT
DTSTART;TZID=Europe/Berlin:20231026T123000
DTEND;TZID=Europe/Berlin:20231026T140000
DTSTAMP:20260425T025958
CREATED:20231121T122033Z
LAST-MODIFIED:20231121T122033Z
UID:7161-1698323400-1698328800@crc326gaus.de
SUMMARY:Exodromy
DESCRIPTION:Tom Bachmann (Universität Mainz): Introduction
URL:https://crc326gaus.de/event/exodromy/
LOCATION:Mainz\, Raum 05-514
CATEGORIES:GAUS-AG
ORGANIZER;CN="Tom Bachmann":MAILTO:tom.bachmann@uni-mainz.de
END:VEVENT
BEGIN:VEVENT
DTSTART;TZID=Europe/Berlin:20231026T110000
DTEND;TZID=Europe/Berlin:20231026T130000
DTSTAMP:20260425T025958
CREATED:20231010T131843Z
LAST-MODIFIED:20231121T130819Z
UID:6523-1698318000-1698325200@crc326gaus.de
SUMMARY:Emerton-Gee-Stacks
DESCRIPTION:Talk 2: Alireza Shavali: Moduli of Galois Representations
URL:https://crc326gaus.de/event/emerton-gee-stacks-2/
LOCATION:Heidelberg\, Mathematikon\, SR 8 and Zoom\, INF 205\, Heidelberg\, Germany
CATEGORIES:GAUS-AG
END:VEVENT
BEGIN:VEVENT
DTSTART;TZID=Europe/Berlin:20231020T091500
DTEND;TZID=Europe/Berlin:20231020T104500
DTSTAMP:20260425T025958
CREATED:20231013T145656Z
LAST-MODIFIED:20231013T150148Z
UID:6684-1697793300-1697798700@crc326gaus.de
SUMMARY:Rigid meromorphic cocycles
DESCRIPTION:Talk 1: Introduction and overview (Judith Ludwig)
URL:https://crc326gaus.de/event/rigid-meromorphic-cocycles/
LOCATION:Heidelberg\, Mathematikon\, SR 8 und Zoom\, Germany
CATEGORIES:GAUS-AG
ORGANIZER;CN="O%C4%9Fuz Gezmi%C5%9F":MAILTO:oguz.gezmis@iwr.uni-heidelberg.de
END:VEVENT
BEGIN:VEVENT
DTSTART;TZID=Europe/Berlin:20231019T150000
DTEND;TZID=Europe/Berlin:20231019T163000
DTSTAMP:20260425T025958
CREATED:20231009T085326Z
LAST-MODIFIED:20231009T085326Z
UID:6367-1697727600-1697733000@crc326gaus.de
SUMMARY:Rigid Analytic Motives
DESCRIPTION:Talk 1: Infinity sheaves \nZoom meeting ID: 612 2072 7363\, Password: Largest six digit prime number.
URL:https://crc326gaus.de/event/rigid-analytic-motives-15/
LOCATION:Darmstadt\, Room 244 and Zoom\, Schlossgartenstraße 7\, Darmstadt\, 64289
CATEGORIES:GAUS-AG
END:VEVENT
BEGIN:VEVENT
DTSTART;TZID=Europe/Berlin:20231019T110000
DTEND;TZID=Europe/Berlin:20231019T130000
DTSTAMP:20260425T025958
CREATED:20231010T131702Z
LAST-MODIFIED:20231121T130705Z
UID:6521-1697713200-1697720400@crc326gaus.de
SUMMARY:Emerton-Gee-Stacks
DESCRIPTION:Talk 1: Marlon Kocher (Universität Heidelberg): Overview
URL:https://crc326gaus.de/event/emerton-gee-stacks/
LOCATION:Heidelberg\, Mathematikon\, SR 8 and Zoom\, INF 205\, Heidelberg\, Germany
CATEGORIES:GAUS-AG
END:VEVENT
BEGIN:VEVENT
DTSTART;TZID=Europe/Berlin:20231018T133000
DTEND;TZID=Europe/Berlin:20231018T171000
DTSTAMP:20260425T025958
CREATED:20231012T132937Z
LAST-MODIFIED:20231012T132937Z
UID:6603-1697635800-1697649000@crc326gaus.de
SUMMARY:Anabelian geometry
DESCRIPTION:Talk 0: Jakob Stix (Goethe Universität Frankfurt): Overview \nTalk 1: Jaro Eichler (Goethe Universität Frankfurt): Stacks \nTalk 2: Jaro Eichler (Goethe Universität Frankfurt): Gerbes
URL:https://crc326gaus.de/event/anabelian-geometry/
LOCATION:Frankfurt\, Robert-Mayer-Str. 6-8\, Raum 310\, Deutschland
CATEGORIES:GAUS-AG
END:VEVENT
BEGIN:VEVENT
DTSTART;TZID=Europe/Berlin:20230727T093000
DTEND;TZID=Europe/Berlin:20230727T110000
DTSTAMP:20260425T025958
CREATED:20230425T144514Z
LAST-MODIFIED:20230425T144514Z
UID:5660-1690450200-1690455600@crc326gaus.de
SUMMARY:Six functor formalism and Poincaré duality
DESCRIPTION:Talk 9: Rızacan Çiloğlu (TU Darmstadt): Abstract Poincaré duality
URL:https://crc326gaus.de/event/six-functor-formalism-and-poincare-duality-9/
LOCATION:Heidelberg\, Mathematikon\, SR 8 und Zoom\, Germany
CATEGORIES:GAUS-AG
END:VEVENT
BEGIN:VEVENT
DTSTART;TZID=Europe/Berlin:20230720T093000
DTEND;TZID=Europe/Berlin:20230720T110000
DTSTAMP:20260425T025958
CREATED:20230425T144305Z
LAST-MODIFIED:20230613T094337Z
UID:5658-1689845400-1689850800@crc326gaus.de
SUMMARY:Six functor formalism and Poincaré duality
DESCRIPTION:Talk 8: Tim Holzschuh (Universität Heidelberg): Cohomologically smooth/proper morphisms and duality
URL:https://crc326gaus.de/event/six-functor-formalism-and-poincare-duality-8/
LOCATION:Heidelberg\, Mathematikon\, SR 8 und Zoom\, Germany
CATEGORIES:GAUS-AG
END:VEVENT
BEGIN:VEVENT
DTSTART;TZID=Europe/Berlin:20230713T093000
DTEND;TZID=Europe/Berlin:20230713T110000
DTSTAMP:20260425T025958
CREATED:20230425T144032Z
LAST-MODIFIED:20230613T094410Z
UID:5656-1689240600-1689246000@crc326gaus.de
SUMMARY:Six functor formalism and Poincaré duality
DESCRIPTION:Talk 7: Amine Koubaa (Universität Frankfurt): Poincaré duality
URL:https://crc326gaus.de/event/six-functor-formalism-and-poincare-duality-7/
LOCATION:Heidelberg\, Mathematikon\, SR 8 und Zoom\, Germany
CATEGORIES:GAUS-AG
END:VEVENT
BEGIN:VEVENT
DTSTART;TZID=Europe/Berlin:20230712T131500
DTEND;TZID=Europe/Berlin:20230712T144500
DTSTAMP:20260425T025958
CREATED:20230706T103838Z
LAST-MODIFIED:20230706T103838Z
UID:6092-1689167700-1689173100@crc326gaus.de
SUMMARY:Superconnections\, Theta series and period domains
DESCRIPTION:tba \nLuis Garcia (University College London) \nZoom meeting ID 667 3384 5311 \nPassword in request.
URL:https://crc326gaus.de/event/superconnections-theta-series-and-period-domains-9/
LOCATION:Darmstadt\, Room 244 and Zoom\, Schlossgartenstraße 7\, Darmstadt\, 64289
CATEGORIES:GAUS-AG
END:VEVENT
BEGIN:VEVENT
DTSTART;VALUE=DATE:20230710
DTEND;VALUE=DATE:20230711
DTSTAMP:20260425T025958
CREATED:20230417T123424Z
LAST-MODIFIED:20230705T034932Z
UID:5505-1688947200-1689033599@crc326gaus.de
SUMMARY:Prismatization
DESCRIPTION:Talk 1: Can Yaylali (TU Darmstadt): Prismatic gauges over a perfect field (10:00 in S2|15 051\, TU Darmstadt) \nLunch (12:00\, Mensa TU Darmstadt) \nTalk 2: Torsten Wedhorn (TU Darmstadt): Syntomification of smooth schemes over perfect fields (14:00 in S2|15 051\, TU Darmstadt) \nTalk 3: Anton Güthge (TU Darmstadt): F-Gauges and syntomic cohomology (16:00 in S2|15 051\, TU Darmstadt) \nDinner (18:00) \nhttps://tu-darmstadt.zoom.us/j/62421505417?pwd=NDhEdUJPb0RaUTNzQyt4R0U1N2lzUT09 \nMeeting-ID: 624 2150 5417\nKenncode: 100002
URL:https://crc326gaus.de/event/prismatization-11/
LOCATION:Darmstadt and Zoom
CATEGORIES:GAUS-AG
END:VEVENT
BEGIN:VEVENT
DTSTART;TZID=Europe/Berlin:20230705T131500
DTEND;TZID=Europe/Berlin:20230705T144500
DTSTAMP:20260425T025958
CREATED:20230404T125931Z
LAST-MODIFIED:20230511T130338Z
UID:5322-1688562900-1688568300@crc326gaus.de
SUMMARY:Superconnections\, Theta series and period domains
DESCRIPTION:Green forms and the Siegel–Weil formula \nJan Hendrik  Bruinier (TU Darmstadt) \nZoom meeting ID 667 3384 5311 \nPassword in request.
URL:https://crc326gaus.de/event/superconnections-theta-series-and-period-domains-8/
LOCATION:Darmstadt\, Room 244 and Zoom\, Schlossgartenstraße 7\, Darmstadt\, 64289
CATEGORIES:GAUS-AG
ORGANIZER;CN="Jan Hendrik Bruinier":MAILTO:bruinier@mathematik.tu-darmstadt.de
END:VEVENT
BEGIN:VEVENT
DTSTART;TZID=Europe/Berlin:20230703T140000
DTEND;TZID=Europe/Berlin:20230703T153000
DTSTAMP:20260425T025958
CREATED:20230417T122848Z
LAST-MODIFIED:20230511T124639Z
UID:5503-1688392800-1688398200@crc326gaus.de
SUMMARY:Prismatization
DESCRIPTION:Manuel Blickle (Uni Mainz): Nygaard filtered prismatization over a perfect field \nhttps://tu-darmstadt.zoom.us/j/62421505417?pwd=NDhEdUJPb0RaUTNzQyt4R0U1N2lzUT09 \nMeeting-ID: 624 2150 5417\nKenncode: 100002
URL:https://crc326gaus.de/event/prismatization-10/
LOCATION:Darmstadt and Mainz and Zoom
CATEGORIES:GAUS-AG
END:VEVENT
BEGIN:VEVENT
DTSTART;TZID=Europe/Berlin:20230629T151500
DTEND;TZID=Europe/Berlin:20230629T174500
DTSTAMP:20260425T025958
CREATED:20230329T115426Z
LAST-MODIFIED:20230624T210120Z
UID:5252-1688051700-1688060700@crc326gaus.de
SUMMARY:Bridgeland stability conditions and applications
DESCRIPTION:Talk 11: M. Möller (GU Frankfurt): The projectivity of the Bridgeland moduli space for K3 \nTalk 12: Emanuele Marci (Université Paris-Saclay\, Orsay): Bridgeland stability conditions on Calabi-Yau manifolds \nAbstract: \nI will give a short overview on Bridgeland stability conditions on Calabi-Yau manifolds\, presenting in particular the case of the quintic threefold (C. Li’s Theorem) with applications and\, if time permits\, of abelian and hyper-Kähler varieties.\n \n 
URL:https://crc326gaus.de/event/bridgeland-stability-conditions-and-applications-6/
LOCATION:Darmstadt\, S2|15\, Room 201 and Zoom
CATEGORIES:GAUS-AG
END:VEVENT
BEGIN:VEVENT
DTSTART;TZID=Europe/Berlin:20230629T093000
DTEND;TZID=Europe/Berlin:20230629T110000
DTSTAMP:20260425T025958
CREATED:20230425T143816Z
LAST-MODIFIED:20230613T094453Z
UID:5654-1688031000-1688036400@crc326gaus.de
SUMMARY:Six functor formalism and Poincaré duality
DESCRIPTION:Talk 6: Lukas Waas (Universität Heidelberg): 6FF: construction via compactication
URL:https://crc326gaus.de/event/six-functor-formalism-and-poincare-duality-6/
LOCATION:Heidelberg\, Mathematikon\, SR 8 und Zoom\, Germany
CATEGORIES:GAUS-AG
END:VEVENT
BEGIN:VEVENT
DTSTART;TZID=Europe/Berlin:20230628T160000
DTEND;TZID=Europe/Berlin:20230628T170000
DTSTAMP:20260425T025958
CREATED:20230404T125746Z
LAST-MODIFIED:20230511T130305Z
UID:5320-1687968000-1687971600@crc326gaus.de
SUMMARY:Superconnections\, Theta series and period domains
DESCRIPTION:Green Forms for Special Cycles II. \nYingkun Li (TU Darmstadt) \nZoom meeting ID 667 3384 5311 \nPassword on request.
URL:https://crc326gaus.de/event/superconnections-theta-series-and-period-domains-7/
LOCATION:Darmstadt\, Room 244 and Zoom\, Schlossgartenstraße 7\, Darmstadt\, 64289
CATEGORIES:GAUS-AG
ORGANIZER;CN="Jan Hendrik Bruinier":MAILTO:bruinier@mathematik.tu-darmstadt.de
END:VEVENT
BEGIN:VEVENT
DTSTART;TZID=Europe/Berlin:20230626T140000
DTEND;TZID=Europe/Berlin:20230626T153000
DTSTAMP:20260425T025958
CREATED:20230417T122629Z
LAST-MODIFIED:20230511T124615Z
UID:5501-1687788000-1687793400@crc326gaus.de
SUMMARY:Prismatization
DESCRIPTION:Thibaud van den Hove (TU Darmstadt): Prismatization in characteristic p \nhttps://tu-darmstadt.zoom.us/j/62421505417?pwd=NDhEdUJPb0RaUTNzQyt4R0U1N2lzUT09 \nMeeting-ID: 624 2150 5417\nKenncode: 100002
URL:https://crc326gaus.de/event/prismatization-9/
LOCATION:Darmstadt and Mainz and Zoom
CATEGORIES:GAUS-AG
END:VEVENT
BEGIN:VEVENT
DTSTART;TZID=Europe/Berlin:20230622T151500
DTEND;TZID=Europe/Berlin:20230622T174500
DTSTAMP:20260425T025958
CREATED:20230329T115314Z
LAST-MODIFIED:20230617T175727Z
UID:5250-1687446900-1687455900@crc326gaus.de
SUMMARY:Bridgeland stability conditions and applications
DESCRIPTION:Talk 9: A. Bud (GU Frankfurt): Moduli spaces of Bridgeland semistable objects \nTalk 10: J. Chen (GU Frankfurt): The Positivity Lemma
URL:https://crc326gaus.de/event/bridgeland-stability-conditions-and-applications-5/
LOCATION:Purely Online (Exceptional)
CATEGORIES:GAUS-AG
END:VEVENT
BEGIN:VEVENT
DTSTART;TZID=Europe/Berlin:20230621T131500
DTEND;TZID=Europe/Berlin:20230621T144500
DTSTAMP:20260425T025958
CREATED:20230404T125603Z
LAST-MODIFIED:20230511T130227Z
UID:5318-1687353300-1687358700@crc326gaus.de
SUMMARY:Superconnections\, Theta series and period domains
DESCRIPTION:Green Forms for Special Cycles I. \nRiccardo Zuffetti (TU Darmstadt) \nZoom meeting ID 667 3384 5311 \nPassword on request.
URL:https://crc326gaus.de/event/superconnections-theta-series-and-period-domains-6/
LOCATION:Darmstadt\, Room 244 and Zoom\, Schlossgartenstraße 7\, Darmstadt\, 64289
CATEGORIES:GAUS-AG
ORGANIZER;CN="Jan Hendrik Bruinier":MAILTO:bruinier@mathematik.tu-darmstadt.de
END:VEVENT
BEGIN:VEVENT
DTSTART;TZID=Europe/Berlin:20230619T140000
DTEND;TZID=Europe/Berlin:20230619T153000
DTSTAMP:20260425T025958
CREATED:20230417T122500Z
LAST-MODIFIED:20230511T124549Z
UID:5499-1687183200-1687188600@crc326gaus.de
SUMMARY:Prismatization
DESCRIPTION:Christopher Lang (TU Darmstadt): The conjugate filtration in characteristic p \nhttps://tu-darmstadt.zoom.us/j/62421505417?pwd=NDhEdUJPb0RaUTNzQyt4R0U1N2lzUT09 \nMeeting-ID: 624 2150 5417\nKenncode: 100002
URL:https://crc326gaus.de/event/prismatization-8/
LOCATION:Darmstadt and Mainz and Zoom
CATEGORIES:GAUS-AG
END:VEVENT
END:VCALENDAR