BEGIN:VCALENDAR
VERSION:2.0
PRODID:-//CRC 326 - GAUS - ECPv6.15.20//NONSGML v1.0//EN
CALSCALE:GREGORIAN
METHOD:PUBLISH
X-WR-CALNAME:CRC 326 - GAUS
X-ORIGINAL-URL:https://crc326gaus.de
X-WR-CALDESC:Events for CRC 326 - GAUS
REFRESH-INTERVAL;VALUE=DURATION:PT1H
X-Robots-Tag:noindex
X-PUBLISHED-TTL:PT1H
BEGIN:VTIMEZONE
TZID:Europe/Berlin
BEGIN:DAYLIGHT
TZOFFSETFROM:+0100
TZOFFSETTO:+0200
TZNAME:CEST
DTSTART:20230326T010000
END:DAYLIGHT
BEGIN:STANDARD
TZOFFSETFROM:+0200
TZOFFSETTO:+0100
TZNAME:CET
DTSTART:20231029T010000
END:STANDARD
BEGIN:DAYLIGHT
TZOFFSETFROM:+0100
TZOFFSETTO:+0200
TZNAME:CEST
DTSTART:20240331T010000
END:DAYLIGHT
BEGIN:STANDARD
TZOFFSETFROM:+0200
TZOFFSETTO:+0100
TZNAME:CET
DTSTART:20241027T010000
END:STANDARD
BEGIN:DAYLIGHT
TZOFFSETFROM:+0100
TZOFFSETTO:+0200
TZNAME:CEST
DTSTART:20250330T010000
END:DAYLIGHT
BEGIN:STANDARD
TZOFFSETFROM:+0200
TZOFFSETTO:+0100
TZNAME:CET
DTSTART:20251026T010000
END:STANDARD
BEGIN:DAYLIGHT
TZOFFSETFROM:+0100
TZOFFSETTO:+0200
TZNAME:CEST
DTSTART:20260329T010000
END:DAYLIGHT
BEGIN:STANDARD
TZOFFSETFROM:+0200
TZOFFSETTO:+0100
TZNAME:CET
DTSTART:20261025T010000
END:STANDARD
END:VTIMEZONE
BEGIN:VEVENT
DTSTART;TZID=Europe/Berlin:20241220T090000
DTEND;TZID=Europe/Berlin:20241220T110000
DTSTAMP:20260423T162026
CREATED:20241211T123827Z
LAST-MODIFIED:20241211T123827Z
UID:10151-1734685200-1734692400@crc326gaus.de
SUMMARY:Congruence Modules and the Wiles–Lenstra–Diamond Numerical Criterion in Higher Codimension
DESCRIPTION:Junyan Xu (Universität Heidelberg): Wiles defect and free direct summands
URL:https://crc326gaus.de/event/congruence-modules-and-the-wiles-lenstra-diamond-numerical-criterion-in-higher-codimension-6/
LOCATION:Heidelberg\, Mathematikon\, SR 8 and Zoom\, INF 205\, Heidelberg\, Germany
CATEGORIES:GAUS-AG
END:VEVENT
BEGIN:VEVENT
DTSTART;TZID=Europe/Berlin:20250108T120000
DTEND;TZID=Europe/Berlin:20250108T133000
DTSTAMP:20260423T162026
CREATED:20241209T083116Z
LAST-MODIFIED:20241211T140058Z
UID:10115-1736337600-1736343000@crc326gaus.de
SUMMARY:Hodge Theory
DESCRIPTION:Nutsa Gegelia (Universität Mainz): Variations of Hodge structures II
URL:https://crc326gaus.de/event/hodge-theory-4/
LOCATION:Mainz\, Hilbertraum (05-432)
CATEGORIES:GAUS-AG
END:VEVENT
BEGIN:VEVENT
DTSTART;TZID=Europe/Berlin:20250110T090000
DTEND;TZID=Europe/Berlin:20250110T110000
DTSTAMP:20260423T162026
CREATED:20241211T123957Z
LAST-MODIFIED:20241211T123957Z
UID:10153-1736499600-1736506800@crc326gaus.de
SUMMARY:Congruence Modules and the Wiles–Lenstra–Diamond Numerical Criterion in Higher Codimension
DESCRIPTION:Andrea Conti (Universität Heidelberg): Patching
URL:https://crc326gaus.de/event/congruence-modules-and-the-wiles-lenstra-diamond-numerical-criterion-in-higher-codimension-7/
LOCATION:Heidelberg\, Mathematikon\, SR 8 and Zoom\, INF 205\, Heidelberg\, Germany
CATEGORIES:GAUS-AG
END:VEVENT
BEGIN:VEVENT
DTSTART;TZID=Europe/Berlin:20250114T140000
DTEND;TZID=Europe/Berlin:20250114T153000
DTSTAMP:20260423T162026
CREATED:20241108T103328Z
LAST-MODIFIED:20250108T135632Z
UID:9772-1736863200-1736868600@crc326gaus.de
SUMMARY:Vector bundles on curves
DESCRIPTION:Yanik Kleibrink (Goethe Universität Frankfurt): Stacks and examples \nZoom (612 2072 7363\, Password: largest six digit prime number)
URL:https://crc326gaus.de/event/vector-bundles-on-curves-copy/
LOCATION:Darmstadt\, Room 401 and Zoom\, Schlossgartenstraße 7\, Darmstadt\, 64289\, Germany
CATEGORIES:GAUS-AG
END:VEVENT
BEGIN:VEVENT
DTSTART;TZID=Europe/Berlin:20250115T120000
DTEND;TZID=Europe/Berlin:20250115T133000
DTSTAMP:20260423T162026
CREATED:20241209T084445Z
LAST-MODIFIED:20241209T084445Z
UID:10118-1736942400-1736947800@crc326gaus.de
SUMMARY:Hodge Theory
DESCRIPTION:
URL:https://crc326gaus.de/event/hodge-theory-5/
LOCATION:Mainz\, Hilbertraum (05-432)
CATEGORIES:GAUS-AG
END:VEVENT
BEGIN:VEVENT
DTSTART;TZID=Europe/Berlin:20250116T140000
DTEND;TZID=Europe/Berlin:20250116T173000
DTSTAMP:20260423T162026
CREATED:20241105T091423Z
LAST-MODIFIED:20241120T135241Z
UID:9646-1737036000-1737048600@crc326gaus.de
SUMMARY:Anabelian geometry - Mochizuki’s proof of the Hom-Conjecture [d’après Faltings]
DESCRIPTION:14:00 – 15:30 Talk 6: Ruth Wild (Goethe Universität): Hodge-Tate sections are geometric up to torsion \nCoffee break \n16:00 – 17:30 Talk 7: Benjamin Steklov (Goethe Universität): Preparations for Proposition 11: 𝑝-divisible groups
URL:https://crc326gaus.de/event/anabelian-geometry-mochizukis-proof-of-the-hom-conjecture-dapres-faltings-3/
LOCATION:Heidelberg
CATEGORIES:GAUS-AG
END:VEVENT
BEGIN:VEVENT
DTSTART;TZID=Europe/Berlin:20250117T090000
DTEND;TZID=Europe/Berlin:20250117T110000
DTSTAMP:20260423T162026
CREATED:20241211T124139Z
LAST-MODIFIED:20241211T124139Z
UID:10155-1737104400-1737111600@crc326gaus.de
SUMMARY:Congruence Modules and the Wiles–Lenstra–Diamond Numerical Criterion in Higher Codimension
DESCRIPTION:Gebhard Böckle (Universität Heidelberg): Galois deformation conditions
URL:https://crc326gaus.de/event/congruence-modules-and-the-wiles-lenstra-diamond-numerical-criterion-in-higher-codimension-8/
LOCATION:Heidelberg\, Mathematikon\, SR 8 and Zoom\, INF 205\, Heidelberg\, Germany
CATEGORIES:GAUS-AG
END:VEVENT
BEGIN:VEVENT
DTSTART;TZID=Europe/Berlin:20250121T140000
DTEND;TZID=Europe/Berlin:20250121T153000
DTSTAMP:20260423T162026
CREATED:20241108T103435Z
LAST-MODIFIED:20250113T132259Z
UID:9774-1737468000-1737473400@crc326gaus.de
SUMMARY:Vector bundles on curves
DESCRIPTION:Thibaud van den Hove (TU Darmstadt): Algebraicity of BunX\,n \nZoom (612 2072 7363\, Password: largest six digit prime number)
URL:https://crc326gaus.de/event/vector-bundles-on-curves-8/
LOCATION:Darmstadt\, Room 401 and Zoom\, Schlossgartenstraße 7\, Darmstadt\, 64289\, Germany
CATEGORIES:GAUS-AG
END:VEVENT
BEGIN:VEVENT
DTSTART;TZID=Europe/Berlin:20250122T120000
DTEND;TZID=Europe/Berlin:20250122T133000
DTSTAMP:20260423T162026
CREATED:20241209T084614Z
LAST-MODIFIED:20241211T140129Z
UID:10120-1737547200-1737552600@crc326gaus.de
SUMMARY:Hodge Theory
DESCRIPTION:Klaus Mattis (Universität Mainz): Mixed Hodge structures on smooth varieties II
URL:https://crc326gaus.de/event/hodge-theory-6/
LOCATION:Mainz\, Hilbertraum (05-432)
CATEGORIES:GAUS-AG
END:VEVENT
BEGIN:VEVENT
DTSTART;TZID=Europe/Berlin:20250123T140000
DTEND;TZID=Europe/Berlin:20250123T163000
DTSTAMP:20260423T162026
CREATED:20250113T085635Z
LAST-MODIFIED:20250113T085635Z
UID:10391-1737640800-1737649800@crc326gaus.de
SUMMARY:Moduli of Quiver Representations and GIT Quotients
DESCRIPTION:14:00 – 15:00 Talk 5.1: Martin Ulirsch (Goethe Universität): Algebraic Aspects of Stability \nCoffee break \n15:30 – 16:30 Talk 5.2: Andrei Bud (Goethe Universität): Further Geometric Properties of Quiver Moduli
URL:https://crc326gaus.de/event/moduli-of-quiver-representations-and-git-quotients-5/
LOCATION:Frankfurt\, Rober-Mayer-Str. 10\, Raum 711 klein
CATEGORIES:GAUS-AG
END:VEVENT
BEGIN:VEVENT
DTSTART;TZID=Europe/Berlin:20250124T090000
DTEND;TZID=Europe/Berlin:20250124T110000
DTSTAMP:20260423T162026
CREATED:20241211T124329Z
LAST-MODIFIED:20250117T132458Z
UID:10157-1737709200-1737716400@crc326gaus.de
SUMMARY:Congruence Modules and the Wiles–Lenstra–Diamond Numerical Criterion in Higher Codimension
DESCRIPTION:Andrea Conti (Universität Heidelberg): Hecke eigensystems and Galois representations for PGL_2
URL:https://crc326gaus.de/event/congruence-modules-and-the-wiles-lenstra-diamond-numerical-criterion-in-higher-codimension-9/
LOCATION:Heidelberg\, Mathematikon\, SR 8 and Zoom\, INF 205\, Heidelberg\, Germany
CATEGORIES:GAUS-AG
END:VEVENT
BEGIN:VEVENT
DTSTART;TZID=Europe/Berlin:20250128T140000
DTEND;TZID=Europe/Berlin:20250128T153000
DTSTAMP:20260423T162026
CREATED:20241108T103538Z
LAST-MODIFIED:20241108T103547Z
UID:9777-1738072800-1738078200@crc326gaus.de
SUMMARY:Vector bundles on curves
DESCRIPTION:Paul Siemon: Geometry of BunX\,n \nZoom (612 2072 7363\, Password: largest six digit prime number)
URL:https://crc326gaus.de/event/vector-bundles-on-curves-9/
LOCATION:Darmstadt\, Room 401 and Zoom\, Schlossgartenstraße 7\, Darmstadt\, 64289\, Germany
CATEGORIES:GAUS-AG
END:VEVENT
BEGIN:VEVENT
DTSTART;TZID=Europe/Berlin:20250129T120000
DTEND;TZID=Europe/Berlin:20250129T133000
DTSTAMP:20260423T162026
CREATED:20241209T084740Z
LAST-MODIFIED:20241211T140205Z
UID:10117-1738152000-1738157400@crc326gaus.de
SUMMARY:Hodge Theory
DESCRIPTION:Georg Tamme (Universität Mainz): Mixed Hodge structures on smooth varieties III
URL:https://crc326gaus.de/event/hodge-theory-7/
LOCATION:Mainz\, Hilbertraum (05-432)
CATEGORIES:GAUS-AG
END:VEVENT
BEGIN:VEVENT
DTSTART;TZID=Europe/Berlin:20250130T140000
DTEND;TZID=Europe/Berlin:20250130T173000
DTSTAMP:20260423T162026
CREATED:20241105T091819Z
LAST-MODIFIED:20241120T141734Z
UID:9648-1738245600-1738258200@crc326gaus.de
SUMMARY:Anabelian geometry - Mochizuki’s proof of the Hom-Conjecture [d’après Faltings]
DESCRIPTION:14:00 – 15:30 Talk 8: Amine Koubaa (Goethe Universität): Preparations for Proposition 11: the Tate conjecture \nCoffee break \n16:00 – 17:30 Talk 9: Magnus Carlson (Goethe Universität): Sections geometric up to torsion \n 
URL:https://crc326gaus.de/event/anabelian-geometry-mochizukis-proof-of-the-hom-conjecture-dapres-faltings-4/
LOCATION:Frankfurt\, Robert-Mayer-Str. 6-8\, Raum 309
CATEGORIES:GAUS-AG
END:VEVENT
BEGIN:VEVENT
DTSTART;TZID=Europe/Berlin:20250131T090000
DTEND;TZID=Europe/Berlin:20250131T110000
DTSTAMP:20260423T162026
CREATED:20241211T124459Z
LAST-MODIFIED:20241211T124459Z
UID:10159-1738314000-1738321200@crc326gaus.de
SUMMARY:Congruence Modules and the Wiles–Lenstra–Diamond Numerical Criterion in Higher Codimension
DESCRIPTION:Alireza Shavali (Universität Heidelberg): Hecke eigensystems and Galois representations for quaternion\nalgebras
URL:https://crc326gaus.de/event/congruence-modules-and-the-wiles-lenstra-diamond-numerical-criterion-in-higher-codimension-10/
LOCATION:Heidelberg\, Mathematikon\, SR 8 and Zoom\, INF 205\, Heidelberg\, Germany
CATEGORIES:GAUS-AG
END:VEVENT
BEGIN:VEVENT
DTSTART;TZID=Europe/Berlin:20250204T140000
DTEND;TZID=Europe/Berlin:20250204T153000
DTSTAMP:20260423T162026
CREATED:20241108T103649Z
LAST-MODIFIED:20250131T072624Z
UID:9779-1738677600-1738683000@crc326gaus.de
SUMMARY:Vector bundles on curves
DESCRIPTION:Jon Miles: tCohomology of Bun_n \nZoom (612 2072 7363\, Password: largest six digit prime number)
URL:https://crc326gaus.de/event/vector-bundles-on-curves-10/
LOCATION:Darmstadt\, Room 401 and Zoom\, Schlossgartenstraße 7\, Darmstadt\, 64289\, Germany
CATEGORIES:GAUS-AG
END:VEVENT
BEGIN:VEVENT
DTSTART;TZID=Europe/Berlin:20250205T120000
DTEND;TZID=Europe/Berlin:20250205T133000
DTSTAMP:20260423T162026
CREATED:20241209T084846Z
LAST-MODIFIED:20241211T140234Z
UID:10123-1738756800-1738762200@crc326gaus.de
SUMMARY:Hodge Theory
DESCRIPTION:Tom Bachmann (Universität Mainz): Mixed Hodge structures on singular varieties
URL:https://crc326gaus.de/event/hodge-theory-8/
LOCATION:Mainz\, Hilbertraum (05-432)
CATEGORIES:GAUS-AG
END:VEVENT
BEGIN:VEVENT
DTSTART;TZID=Europe/Berlin:20250206T140000
DTEND;TZID=Europe/Berlin:20250206T163000
DTSTAMP:20260423T162026
CREATED:20250113T090222Z
LAST-MODIFIED:20250114T123259Z
UID:10326-1738850400-1738859400@crc326gaus.de
SUMMARY:Moduli of Quiver Representations and GIT Quotients
DESCRIPTION:14:00 – 15:00 Talk 6.1: Andreas Gross (Goethe Universität): Framed Representations \nCoffee break \n15:30 – 16:30 Talk 6.2: Pedro Souza (Goethe Universität): Symplectic Geometry and Double Quivers
URL:https://crc326gaus.de/event/moduli-of-quiver-representations-and-git-quotients-6/
LOCATION:Frankfurt\, Rober-Mayer-Str. 10\, Raum 711 klein
CATEGORIES:GAUS-AG
END:VEVENT
BEGIN:VEVENT
DTSTART;TZID=Europe/Berlin:20250206T140000
DTEND;TZID=Europe/Berlin:20250206T173000
DTSTAMP:20260423T162026
CREATED:20241120T142351Z
LAST-MODIFIED:20241120T142351Z
UID:9923-1738850400-1738863000@crc326gaus.de
SUMMARY:Anabelian geometry - Mochizuki’s proof of the Hom-Conjecture [d’après Faltings]
DESCRIPTION:14:00 – 15:30 Talk 10: Tim Holzschuh (Universität Heidelberg): Proof of the Hom conjecture \n 
URL:https://crc326gaus.de/event/anabelian-geometry-mochizukis-proof-of-the-hom-conjecture-dapres-faltings-5/
LOCATION:Heidelberg
CATEGORIES:GAUS-AG
END:VEVENT
BEGIN:VEVENT
DTSTART;TZID=Europe/Berlin:20250207T090000
DTEND;TZID=Europe/Berlin:20250207T110000
DTSTAMP:20260423T162026
CREATED:20241211T124607Z
LAST-MODIFIED:20250117T132602Z
UID:10161-1738918800-1738926000@crc326gaus.de
SUMMARY:Congruence Modules and the Wiles–Lenstra–Diamond Numerical Criterion in Higher Codimension
DESCRIPTION:Alireza Shavali (Universität Heidelberg): Modularity
URL:https://crc326gaus.de/event/congruence-modules-and-the-wiles-lenstra-diamond-numerical-criterion-in-higher-codimension-11/
LOCATION:Heidelberg\, Mathematikon\, SR 8 and Zoom\, INF 205\, Heidelberg\, Germany
CATEGORIES:GAUS-AG
END:VEVENT
BEGIN:VEVENT
DTSTART;TZID=Europe/Berlin:20250211T140000
DTEND;TZID=Europe/Berlin:20250211T153000
DTSTAMP:20260423T162026
CREATED:20241108T103748Z
LAST-MODIFIED:20241213T085803Z
UID:9781-1739282400-1739287800@crc326gaus.de
SUMMARY:Vector bundles on curves
DESCRIPTION:Jon Miles (Goethe Universität Frankfurt): talk 12 \nZoom (612 2072 7363\, Password: largest six digit prime number)
URL:https://crc326gaus.de/event/vector-bundles-on-curves-11/
LOCATION:Darmstadt\, Room 401 and Zoom\, Schlossgartenstraße 7\, Darmstadt\, 64289\, Germany
CATEGORIES:GAUS-AG
END:VEVENT
BEGIN:VEVENT
DTSTART;TZID=Europe/Berlin:20250213T140000
DTEND;TZID=Europe/Berlin:20250213T163000
DTSTAMP:20260423T162026
CREATED:20250113T090705Z
LAST-MODIFIED:20250113T090705Z
UID:10328-1739455200-1739464200@crc326gaus.de
SUMMARY:Moduli of Quiver Representations and GIT Quotients
DESCRIPTION:14:00 – 15:00 Talk 7.1: Rızacan Çiloğlu (TU Darmstadt): Nakajima Quiver Varieties \nCoffee break \n15:30 – 16:30 Talk 7.2: Martin Möller (Goethe Universität): Reincarnations of Quiver Moduli
URL:https://crc326gaus.de/event/moduli-of-quiver-representations-and-git-quotients-7/
LOCATION:Frankfurt\, Rober-Mayer-Str. 10\, Raum 711 klein
CATEGORIES:GAUS-AG
END:VEVENT
BEGIN:VEVENT
DTSTART;TZID=Europe/Berlin:20250414T101500
DTEND;TZID=Europe/Berlin:20250414T114500
DTSTAMP:20260423T162026
CREATED:20250409T092915Z
LAST-MODIFIED:20250514T084853Z
UID:10976-1744625700-1744631100@crc326gaus.de
SUMMARY:Motivic Spectra
DESCRIPTION:Talk 1: Definition of motivic spectra (Andreas Gieringer)\nDefine elementary and smooth blowup excision [AHI25\, Definition 2.1]\, and prove that Nisnevich-locally they agree [AHI25\, Proposition 2.2]. Explain how to invert and object c in a presentable symmetric monoidal ∞-category C\, i.e. explain [AI22\, Proposition 1.3.14].\nNote that in general\, this is not given by the c-telescope colimPrL(C−⊗c −−→ C → . . . ). End the talk by giving the definition of MSS\, as in the beginning of [AHI25\, Section 4]. If time permits\, explain the basic functoriality of MSS.
URL:https://crc326gaus.de/event/definition-of-motivic-spectra-andreas-gieringer-easy/
LOCATION:Mainz\, Hilbertraum (05-432) and Zoom
CATEGORIES:GAUS-AG
ORGANIZER;CN="Georg Tamme":MAILTO:georg.tamme@uni-mainz.de
END:VEVENT
BEGIN:VEVENT
DTSTART;TZID=Europe/Berlin:20250422T140000
DTEND;TZID=Europe/Berlin:20250422T153000
DTSTAMP:20260423T162026
CREATED:20250328T082321Z
LAST-MODIFIED:20250506T085721Z
UID:10834-1745330400-1745335800@crc326gaus.de
SUMMARY:Categorical Deligne–Langlands correspondence
DESCRIPTION:Yanik Kleibrink (TU Darmstadt): Talk 1* – Weil–Deligne representations \nZoom (612 2072 7363\, Password: largest six digit prime number)
URL:https://crc326gaus.de/event/categorical-deligne-langlands-correspondence/
LOCATION:Darmstadt\, Room 401 and Zoom\, Schlossgartenstraße 7\, Darmstadt\, 64289\, Germany
CATEGORIES:GAUS-AG
END:VEVENT
BEGIN:VEVENT
DTSTART;TZID=Europe/Berlin:20250424T111500
DTEND;TZID=Europe/Berlin:20250424T131500
DTSTAMP:20260423T162026
CREATED:20250410T090600Z
LAST-MODIFIED:20250705T142923Z
UID:11012-1745493300-1745500500@crc326gaus.de
SUMMARY:Locally analytic vector bundles on the Fargues-Fontaine-Curve
DESCRIPTION:The adic Fargue-Fontaine curve \nspeaker: Max Witzelsperger (Heidelberg)
URL:https://crc326gaus.de/event/locally-analytic-vector-bundles-on-the-fargues-fontaine-curve/
LOCATION:Heidelberg\, Mathematikon\, SR 8 and Zoom\, INF 205\, Heidelberg\, Germany
CATEGORIES:GAUS-AG
END:VEVENT
BEGIN:VEVENT
DTSTART;TZID=Europe/Berlin:20250424T130000
DTEND;TZID=Europe/Berlin:20250424T133000
DTSTAMP:20260423T162026
CREATED:20250415T220356Z
LAST-MODIFIED:20250415T220356Z
UID:11048-1745499600-1745501400@crc326gaus.de
SUMMARY:Berkovich motives
DESCRIPTION:Talk 0: Overview (15min) ( Alberto Merici)
URL:https://crc326gaus.de/event/berkovich-motives-12/
LOCATION:Darmstadt\, Room 315 and Zoom\, Schlossgartenstraße 7\, Darmstadt\, 64289\, Germany
CATEGORIES:GAUS-AG
END:VEVENT
BEGIN:VEVENT
DTSTART;TZID=Europe/Berlin:20250424T133000
DTEND;TZID=Europe/Berlin:20250424T150000
DTSTAMP:20260423T162026
CREATED:20250415T220356Z
LAST-MODIFIED:20250415T220356Z
UID:11050-1745501400-1745506800@crc326gaus.de
SUMMARY:Berkovich motives
DESCRIPTION:Talk 1: Motives (Christian Dahlhausen)
URL:https://crc326gaus.de/event/berkovich-motives-11/
LOCATION:Darmstadt\, Room 315 and Zoom\, Schlossgartenstraße 7\, Darmstadt\, 64289\, Germany
CATEGORIES:GAUS-AG
END:VEVENT
BEGIN:VEVENT
DTSTART;TZID=Europe/Berlin:20250424T153000
DTEND;TZID=Europe/Berlin:20250424T163000
DTSTAMP:20260423T162026
CREATED:20250415T220355Z
LAST-MODIFIED:20250415T220355Z
UID:11054-1745508600-1745512200@crc326gaus.de
SUMMARY:Berkovich motives
DESCRIPTION:Talk 2: Cancellation Theorem (75min) ( Alberto Merici)
URL:https://crc326gaus.de/event/berkovich-motives-10/
LOCATION:Darmstadt\, Room 315 and Zoom\, Schlossgartenstraße 7\, Darmstadt\, 64289\, Germany
CATEGORIES:GAUS-AG
END:VEVENT
BEGIN:VEVENT
DTSTART;TZID=Europe/Berlin:20250425T090000
DTEND;TZID=Europe/Berlin:20250425T110000
DTSTAMP:20260423T162026
CREATED:20250408T083340Z
LAST-MODIFIED:20250408T084433Z
UID:10939-1745571600-1745578800@crc326gaus.de
SUMMARY:D-elliptic sheaves and the Hasse principle
DESCRIPTION:Overview \nSriram Chinthalagiri Venkata (Heidelberg) \nBegin by recalling Drinfeld’s theory of elliptic sheaves (or Shtukas) ([Mumford; Dri87])\, andexplain briefly the importance of considering generalizations of them equipped with an action of D\, namely D-elliptic sheaves. Then motivate and explain the main result in [Ara+24]\, by summarizing each talk of the seminar.
URL:https://crc326gaus.de/event/overview/
LOCATION:Heidelberg\, Mathematikon\, SR 8 and Zoom\, INF 205\, Heidelberg\, Germany
CATEGORIES:GAUS-AG
END:VEVENT
BEGIN:VEVENT
DTSTART;TZID=Europe/Berlin:20250428T101500
DTEND;TZID=Europe/Berlin:20250428T114500
DTSTAMP:20260423T162026
CREATED:20250409T093126Z
LAST-MODIFIED:20250611T065119Z
UID:10978-1745835300-1745840700@crc326gaus.de
SUMMARY:Motivic Spectra
DESCRIPTION:Talk 2: Thom-spaces (Timo Weiß)
URL:https://crc326gaus.de/event/talk-2-thom-spaces-timo-weis-hard/
LOCATION:Mainz\, Hilbertraum (05-432) and Zoom
CATEGORIES:GAUS-AG
ORGANIZER;CN="Georg Tamme":MAILTO:georg.tamme@uni-mainz.de
END:VEVENT
END:VCALENDAR