BEGIN:VCALENDAR
VERSION:2.0
PRODID:-//CRC 326 - GAUS - ECPv6.15.20//NONSGML v1.0//EN
CALSCALE:GREGORIAN
METHOD:PUBLISH
X-ORIGINAL-URL:https://crc326gaus.de
X-WR-CALDESC:Events for CRC 326 - GAUS
REFRESH-INTERVAL;VALUE=DURATION:PT1H
X-Robots-Tag:noindex
X-PUBLISHED-TTL:PT1H
BEGIN:VTIMEZONE
TZID:Europe/Berlin
BEGIN:DAYLIGHT
TZOFFSETFROM:+0100
TZOFFSETTO:+0200
TZNAME:CEST
DTSTART:20230326T010000
END:DAYLIGHT
BEGIN:STANDARD
TZOFFSETFROM:+0200
TZOFFSETTO:+0100
TZNAME:CET
DTSTART:20231029T010000
END:STANDARD
BEGIN:DAYLIGHT
TZOFFSETFROM:+0100
TZOFFSETTO:+0200
TZNAME:CEST
DTSTART:20240331T010000
END:DAYLIGHT
BEGIN:STANDARD
TZOFFSETFROM:+0200
TZOFFSETTO:+0100
TZNAME:CET
DTSTART:20241027T010000
END:STANDARD
BEGIN:DAYLIGHT
TZOFFSETFROM:+0100
TZOFFSETTO:+0200
TZNAME:CEST
DTSTART:20250330T010000
END:DAYLIGHT
BEGIN:STANDARD
TZOFFSETFROM:+0200
TZOFFSETTO:+0100
TZNAME:CET
DTSTART:20251026T010000
END:STANDARD
END:VTIMEZONE
BEGIN:VEVENT
DTSTART;TZID=Europe/Berlin:20241114T140000
DTEND;TZID=Europe/Berlin:20241114T163000
DTSTAMP:20260424T115729
CREATED:20241105T092227Z
LAST-MODIFIED:20241105T092227Z
UID:9651-1731592800-1731601800@crc326gaus.de
SUMMARY:Moduli of Quiver Representations and GIT Quotients
DESCRIPTION:14:00 – 15:00 Talk 2.1: Nicole Müller (Goethe Universität): Affine GIT \nCoffee break \n15:30 – 16:30 Talk 2.2: Felix Göbler (Goethe Universität): Projective GIT
URL:https://crc326gaus.de/event/moduli-of-quiver-representations-and-git-quotients-2/
LOCATION:Frankfurt\, Robert-Mayer-Str. 6-8\, Raum 309
CATEGORIES:GAUS-AG
END:VEVENT
BEGIN:VEVENT
DTSTART;TZID=Europe/Berlin:20241114T111500
DTEND;TZID=Europe/Berlin:20241114T124500
DTSTAMP:20260424T115729
CREATED:20241105T131134Z
LAST-MODIFIED:20241105T131134Z
UID:9678-1731582900-1731588300@crc326gaus.de
SUMMARY:The direct summand theorem
DESCRIPTION:Talk 5: Lars Wüste-Schmülling (Universität Heidelberg): Adic spaces I
URL:https://crc326gaus.de/event/the-direct-summand-theorem-2/
LOCATION:Heidelberg\, Mathematikon\, SR 8 and Zoom\, INF 205\, Heidelberg\, Germany
CATEGORIES:GAUS-AG
END:VEVENT
BEGIN:VEVENT
DTSTART;TZID=Europe/Berlin:20241113T120000
DTEND;TZID=Europe/Berlin:20241113T133000
DTSTAMP:20260424T115729
CREATED:20241107T105323Z
LAST-MODIFIED:20241111T090419Z
UID:9743-1731499200-1731504600@crc326gaus.de
SUMMARY:Hodge Theory
DESCRIPTION:Timon Tausendpfund (Universität Mainz): Kähler metrics
URL:https://crc326gaus.de/event/kahler-metrics/
LOCATION:Mainz\, Hilbertraum (05-432)
CATEGORIES:GAUS-AG
END:VEVENT
BEGIN:VEVENT
DTSTART;TZID=Europe/Berlin:20241112T140000
DTEND;TZID=Europe/Berlin:20241112T153000
DTSTAMP:20260424T115729
CREATED:20241108T102637Z
LAST-MODIFIED:20241108T102637Z
UID:9760-1731420000-1731425400@crc326gaus.de
SUMMARY:Vector bundles on curves
DESCRIPTION:Mingkuan Zhang: Construction of vector bundles \nZoom (612 2072 7363\, Password: largest six digit prime number)
URL:https://crc326gaus.de/event/vector-bundles-on-curves-3/
LOCATION:Darmstadt\, Room 401 and Zoom\, Schlossgartenstraße 7\, Darmstadt\, 64289\, Germany
CATEGORIES:GAUS-AG
END:VEVENT
BEGIN:VEVENT
DTSTART;TZID=Europe/Berlin:20241107T140000
DTEND;TZID=Europe/Berlin:20241107T163000
DTSTAMP:20260424T115729
CREATED:20241104T143957Z
LAST-MODIFIED:20241104T144333Z
UID:9630-1730988000-1730997000@crc326gaus.de
SUMMARY:Moduli of Quiver Representations and GIT Quotients
DESCRIPTION:14:00 – 15:00 Talk 1.1: Kevin Kühn (Goethe Universität): Introduction to Moduli \nCoffee break \n15:30 – 16:30 Talk 1.2: Yiu-Man Wong (Goethe Universität): Algebraic Group Actions and Quotients
URL:https://crc326gaus.de/event/moduli-of-quiver-representations-and-git-quotients/
LOCATION:Frankfurt\, Robert-Mayer-Str. 6-8\, Raum 309
CATEGORIES:GAUS-AG
END:VEVENT
BEGIN:VEVENT
DTSTART;TZID=Europe/Berlin:20241107T111500
DTEND;TZID=Europe/Berlin:20241107T124500
DTSTAMP:20260424T115729
CREATED:20241105T130925Z
LAST-MODIFIED:20241105T130925Z
UID:9676-1730978100-1730983500@crc326gaus.de
SUMMARY:The direct summand theorem
DESCRIPTION:Talk 4: Anna Blanco Cabanillas(Universität Heidelberg): Perfectoid algebras
URL:https://crc326gaus.de/event/the-direct-summand-theorem/
LOCATION:Heidelberg\, Mathematikon\, SR 8 and Zoom\, INF 205\, Heidelberg\, Germany
CATEGORIES:GAUS-AG
END:VEVENT
BEGIN:VEVENT
DTSTART;TZID=Europe/Berlin:20241105T140000
DTEND;TZID=Europe/Berlin:20241105T153000
DTSTAMP:20260424T115729
CREATED:20241108T102414Z
LAST-MODIFIED:20241108T102518Z
UID:9759-1730815200-1730820600@crc326gaus.de
SUMMARY:Vector bundles on curves
DESCRIPTION:Aaron Rauchfuß : Algebraic curves \nZoom (612 2072 7363\, Password: largest six digit prime number)
URL:https://crc326gaus.de/event/vector-bundles-on-curves-2/
LOCATION:Darmstadt\, Room 401 and Zoom\, Schlossgartenstraße 7\, Darmstadt\, 64289\, Germany
CATEGORIES:GAUS-AG
END:VEVENT
BEGIN:VEVENT
DTSTART;TZID=Europe/Berlin:20241031T140000
DTEND;TZID=Europe/Berlin:20241031T173000
DTSTAMP:20260424T115729
CREATED:20241025T092600Z
LAST-MODIFIED:20241025T092600Z
UID:9536-1730383200-1730395800@crc326gaus.de
SUMMARY:Anabelian geometry - Mochizuki’s proof of the Hom-Conjecture [d’après Faltings]
DESCRIPTION:14:00 – 15:30 Talk 1: Jakob Stix (Goethe Universität): Introduction \nCoffee break \n16:00 – 17:30 Talk 2: Jonathan Miles (Goethe Universität): Galois cohomology and Hodge-Tate decomposition
URL:https://crc326gaus.de/event/anabelian-geometry-gaus-ag-2024-25/
LOCATION:Frankfurt\, Robert-Mayer-Str. 6-8\, Raum 309
CATEGORIES:GAUS-AG
END:VEVENT
BEGIN:VEVENT
DTSTART;TZID=Europe/Berlin:20241031T111500
DTEND;TZID=Europe/Berlin:20241031T124500
DTSTAMP:20260424T115729
CREATED:20241105T140505Z
LAST-MODIFIED:20241105T140505Z
UID:9701-1730373300-1730378700@crc326gaus.de
SUMMARY:The direct summand theorem
DESCRIPTION:Talk 3: Nils Witt (Universität Heidelberg): Non-Archimedean Banach Algebras
URL:https://crc326gaus.de/event/the-direct-summand-theorem-10/
LOCATION:Heidelberg\, Mathematikon\, SR 8 and Zoom\, INF 205\, Heidelberg\, Germany
CATEGORIES:GAUS-AG
END:VEVENT
BEGIN:VEVENT
DTSTART;TZID=Europe/Berlin:20241029T140000
DTEND;TZID=Europe/Berlin:20241029T153000
DTSTAMP:20260424T115729
CREATED:20241108T104140Z
LAST-MODIFIED:20241108T104140Z
UID:9783-1730210400-1730215800@crc326gaus.de
SUMMARY:Vector bundles on curves
DESCRIPTION:Julian Born: Vector bundles \nZoom (612 2072 7363\, Password: largest six digit prime number)
URL:https://crc326gaus.de/event/vector-bundles-on-curves-12/
LOCATION:Darmstadt\, Room 401 and Zoom\, Schlossgartenstraße 7\, Darmstadt\, 64289\, Germany
CATEGORIES:GAUS-AG
END:VEVENT
BEGIN:VEVENT
DTSTART;TZID=Europe/Berlin:20241024T111500
DTEND;TZID=Europe/Berlin:20241024T124500
DTSTAMP:20260424T115729
CREATED:20241105T140328Z
LAST-MODIFIED:20241105T140328Z
UID:9698-1729768500-1729773900@crc326gaus.de
SUMMARY:The direct summand theorem
DESCRIPTION:Talk 2: Nils Tietke (Universität Heidelberg): Almost étale extensions and the almost purity theorem in characteristic
URL:https://crc326gaus.de/event/the-direct-summand-theorem-9/
LOCATION:Heidelberg\, Mathematikon\, SR 8 and Zoom\, INF 205\, Heidelberg\, Germany
CATEGORIES:GAUS-AG
END:VEVENT
BEGIN:VEVENT
DTSTART;TZID=Europe/Berlin:20241017T111500
DTEND;TZID=Europe/Berlin:20241017T124500
DTSTAMP:20260424T115729
CREATED:20241105T140154Z
LAST-MODIFIED:20241105T140154Z
UID:9695-1729163700-1729169100@crc326gaus.de
SUMMARY:The direct summand theorem
DESCRIPTION:Talk 1: Immanuel Klevesath (Universität Heidelberg): Almost modules and almost commutative algebra
URL:https://crc326gaus.de/event/the-direct-summand-theorem-8/
LOCATION:Heidelberg\, Mathematikon\, SR 8 and Zoom\, INF 205\, Heidelberg\, Germany
CATEGORIES:GAUS-AG
END:VEVENT
BEGIN:VEVENT
DTSTART;TZID=Europe/Berlin:20241015T140000
DTEND;TZID=Europe/Berlin:20241015T153000
DTSTAMP:20260424T115729
CREATED:20241108T102215Z
LAST-MODIFIED:20241108T102215Z
UID:9755-1729000800-1729006200@crc326gaus.de
SUMMARY:Vector bundles on curves
DESCRIPTION:Timo Richarz (TU Darmstadt): Introduction and distribution of talks \nZoom (612 2072 7363\, Password: largest six digit prime number)
URL:https://crc326gaus.de/event/vector-bundles-on-curves/
LOCATION:Darmstadt\, Room 401 and Zoom\, Schlossgartenstraße 7\, Darmstadt\, 64289\, Germany
CATEGORIES:GAUS-AG
END:VEVENT
BEGIN:VEVENT
DTSTART;VALUE=DATE:20241014
DTEND;VALUE=DATE:20241015
DTSTAMP:20260424T115729
CREATED:20240325T081345Z
LAST-MODIFIED:20240422T123520Z
UID:7932-1728864000-1728950399@crc326gaus.de
SUMMARY:GAUS Junior Symposium
DESCRIPTION:
URL:https://crc326gaus.de/event/gaus-junior-symposium/
LOCATION:Frankfurt\, Robert-Mayer-Str. 10\, Raum 711 groß
CATEGORIES:GAUS-AG
END:VEVENT
BEGIN:VEVENT
DTSTART;TZID=Europe/Berlin:20240719T090000
DTEND;TZID=Europe/Berlin:20240719T110000
DTSTAMP:20260424T115729
CREATED:20240507T103314Z
LAST-MODIFIED:20240625T124152Z
UID:8510-1721379600-1721386800@crc326gaus.de
SUMMARY:Shtukas for reductive groups and global Langlands correspondence after Vincent Lafforgue
DESCRIPTION:Gebhard Böckle: Talk 12: Moduli of representations and global Langlands parametrization (Part II) \n 
URL:https://crc326gaus.de/event/shtukas-for-reductive-groups-and-global-langlands-correspondence-after-vincent-lafforgue-11/
LOCATION:Heidelberg\, Mathematikon\, SR 8 and Zoom\, INF 205\, Heidelberg\, Germany
CATEGORIES:GAUS-AG
ORGANIZER;CN="Gebhard B%C3%B6ckle":MAILTO:gebhard.boeckle iwr.uni-heidelberg.de
END:VEVENT
BEGIN:VEVENT
DTSTART;TZID=Europe/Berlin:20240716T140000
DTEND;TZID=Europe/Berlin:20240716T183000
DTSTAMP:20260424T115729
CREATED:20240405T102007Z
LAST-MODIFIED:20240419T120447Z
UID:8109-1721138400-1721154600@crc326gaus.de
SUMMARY:Chromatic Homotopy Theory
DESCRIPTION:Ruth Wild (Uni Frankfurt) \nTalks 14 & 15 – Proof of Theorem B \nZoom meeting ID: 612 2072 7363\, Password: Largest six digit prime number
URL:https://crc326gaus.de/event/chromatic-homotopy-theory-14/
LOCATION:Darmstadt\, Room 401\, Mainz Room 04-432 and Zoom\, Darmstadt and Mainz\, Darmstadt and Mainz
CATEGORIES:GAUS-AG
END:VEVENT
BEGIN:VEVENT
DTSTART;TZID=Europe/Berlin:20240711T110000
DTEND;TZID=Europe/Berlin:20240711T130000
DTSTAMP:20260424T115729
CREATED:20240619T141458Z
LAST-MODIFIED:20240628T134232Z
UID:8836-1720695600-1720702800@crc326gaus.de
SUMMARY:Arithmetic of critical p-adic L-functions
DESCRIPTION:Talk 11: Gautier Ponsinet: Thick Selmer groups and Bloch-Kato Selmer groups
URL:https://crc326gaus.de/event/arithmetic-of-critical-p-adic-l-functions-11/
LOCATION:Heidelberg\, Mathematikon\, SR 8 and Zoom\, INF 205\, Heidelberg\, Germany
CATEGORIES:GAUS-AG
END:VEVENT
BEGIN:VEVENT
DTSTART;TZID=Europe/Berlin:20240711T091500
DTEND;TZID=Europe/Berlin:20240711T104500
DTSTAMP:20260424T115729
CREATED:20240429T092517Z
LAST-MODIFIED:20240430T083504Z
UID:8352-1720689300-1720694700@crc326gaus.de
SUMMARY:Purity for the flat cohomology
DESCRIPTION:Talk 9: Morten Lüders (Universität Heidelberg): Purity for flat cohomology of local complete intersections
URL:https://crc326gaus.de/event/purity-for-the-flat-cohomology-9/
LOCATION:Heidelberg\, Mathematikon\, SR tba
CATEGORIES:GAUS-AG
END:VEVENT
BEGIN:VEVENT
DTSTART;TZID=Europe/Berlin:20240709T140000
DTEND;TZID=Europe/Berlin:20240709T153000
DTSTAMP:20260424T115729
CREATED:20240405T101832Z
LAST-MODIFIED:20240419T120337Z
UID:8107-1720533600-1720539000@crc326gaus.de
SUMMARY:Chromatic Homotopy Theory
DESCRIPTION:Thibaud van den Hove (TU Darmstadt) \nTalk 13 – The isomorphism between the two towers \nZoom meeting ID: 612 2072 7363\, Password: Largest six digit prime number
URL:https://crc326gaus.de/event/chromatic-homotopy-theory-13/
LOCATION:Darmstadt\, Room 401\, Mainz Room 04-432 and Zoom\, Darmstadt and Mainz\, Darmstadt and Mainz
CATEGORIES:GAUS-AG
END:VEVENT
BEGIN:VEVENT
DTSTART;TZID=Europe/Berlin:20240705T090000
DTEND;TZID=Europe/Berlin:20240705T110000
DTSTAMP:20260424T115729
CREATED:20240507T103052Z
LAST-MODIFIED:20240625T124241Z
UID:8508-1720170000-1720177200@crc326gaus.de
SUMMARY:Shtukas for reductive groups and global Langlands correspondence after Vincent Lafforgue
DESCRIPTION:Alireza Shavali (Universität Heidelberg) Talk 11: Moduli of representations and global Langlands parametrization (Part I) \n 
URL:https://crc326gaus.de/event/shtukas-for-reductive-groups-and-global-langlands-correspondence-after-vincent-lafforgue-10/
LOCATION:Heidelberg\, Mathematikon\, SR 8 and Zoom\, INF 205\, Heidelberg\, Germany
CATEGORIES:GAUS-AG
ORGANIZER;CN="Gebhard B%C3%B6ckle":MAILTO:gebhard.boeckle iwr.uni-heidelberg.de
END:VEVENT
BEGIN:VEVENT
DTSTART;TZID=Europe/Berlin:20240704T140000
DTEND;TZID=Europe/Berlin:20240704T170000
DTSTAMP:20260424T115729
CREATED:20240326T150206Z
LAST-MODIFIED:20240418T132902Z
UID:7997-1720101600-1720112400@crc326gaus.de
SUMMARY:Anabelian geometry
DESCRIPTION:14:00 – 15:00 Talk 8: Magnus Carlson (Goethe Universität): Finishing the proof \nCoffee break \n15:30 – 17:00 Talk 9: Marius Leonhardt (Universität Heidelberg): Frobenius eigenvalues
URL:https://crc326gaus.de/event/anabelian-geometry-10/
LOCATION:Frankfurt\, Robert-Mayer-Str. 10\, Raum 711 groß
CATEGORIES:GAUS-AG
END:VEVENT
BEGIN:VEVENT
DTSTART;TZID=Europe/Berlin:20240704T091500
DTEND;TZID=Europe/Berlin:20240704T104500
DTSTAMP:20260424T115729
CREATED:20240429T092411Z
LAST-MODIFIED:20240430T083357Z
UID:8350-1720084500-1720089900@crc326gaus.de
SUMMARY:Purity for the flat cohomology
DESCRIPTION:Talk 8: Amine Koubaa (Goethe-Universität Frankfurt): The key formula for perfectoid rings
URL:https://crc326gaus.de/event/purity-for-the-flat-cohomology-8/
LOCATION:Heidelberg\, Mathematikon\, SR tba
CATEGORIES:GAUS-AG
END:VEVENT
BEGIN:VEVENT
DTSTART;TZID=Europe/Berlin:20240702T140000
DTEND;TZID=Europe/Berlin:20240702T153000
DTSTAMP:20260424T115729
CREATED:20240405T101538Z
LAST-MODIFIED:20240419T120259Z
UID:8105-1719928800-1719934200@crc326gaus.de
SUMMARY:Chromatic Homotopy Theory
DESCRIPTION:Timo Richarz (TU Darmstadt) \nTalk 12 – Chromatic splitting & vanishing conjectures \nZoom meeting ID: 612 2072 7363\, Password: Largest six digit prime number
URL:https://crc326gaus.de/event/chromatic-homotopy-theory-12/
LOCATION:Darmstadt\, Room 401\, Mainz Room 04-432 and Zoom\, Darmstadt and Mainz\, Darmstadt and Mainz
CATEGORIES:GAUS-AG
END:VEVENT
BEGIN:VEVENT
DTSTART;TZID=Europe/Berlin:20240628T090000
DTEND;TZID=Europe/Berlin:20240628T110000
DTSTAMP:20260424T115729
CREATED:20240507T102827Z
LAST-MODIFIED:20240625T124348Z
UID:8506-1719565200-1719572400@crc326gaus.de
SUMMARY:Shtukas for reductive groups and global Langlands correspondence after Vincent Lafforgue
DESCRIPTION:Sriram C. Venkata (Universität Heidelberg): Talk 10: Drinfeld’s Lemma \n 
URL:https://crc326gaus.de/event/shtukas-for-reductive-groups-and-global-langlands-correspondence-after-vincent-lafforgue-9/
LOCATION:Heidelberg\, Mathematikon\, SR 8 and Zoom\, INF 205\, Heidelberg\, Germany
CATEGORIES:GAUS-AG
ORGANIZER;CN="Gebhard B%C3%B6ckle":MAILTO:gebhard.boeckle iwr.uni-heidelberg.de
END:VEVENT
BEGIN:VEVENT
DTSTART;TZID=Europe/Berlin:20240627T110000
DTEND;TZID=Europe/Berlin:20240627T130000
DTSTAMP:20260424T115729
CREATED:20240619T141211Z
LAST-MODIFIED:20240619T141211Z
UID:8832-1719486000-1719493200@crc326gaus.de
SUMMARY:Arithmetic of critical p-adic L-functions
DESCRIPTION:Talk 9: Otmar Venjakob : Iwasawa theoretic invariants
URL:https://crc326gaus.de/event/arithmetic-of-critical-p-adic-l-functions-9/
LOCATION:Heidelberg\, Mathematikon\, SR 8 and Zoom\, INF 205\, Heidelberg\, Germany
CATEGORIES:GAUS-AG
END:VEVENT
BEGIN:VEVENT
DTSTART;TZID=Europe/Berlin:20240627T091500
DTEND;TZID=Europe/Berlin:20240627T104500
DTSTAMP:20260424T115729
CREATED:20240429T092319Z
LAST-MODIFIED:20240430T083313Z
UID:8348-1719479700-1719485100@crc326gaus.de
SUMMARY:Purity for the flat cohomology
DESCRIPTION:Talk 7: Christian Dahlhausen (Universität Heidelberg): Excision for flat cohomology
URL:https://crc326gaus.de/event/purity-for-the-flat-cohomology-7/
LOCATION:Heidelberg\, Mathematikon\, SR tba
CATEGORIES:GAUS-AG
END:VEVENT
BEGIN:VEVENT
DTSTART;TZID=Europe/Berlin:20240625T140000
DTEND;TZID=Europe/Berlin:20240625T153000
DTSTAMP:20260424T115729
CREATED:20240405T101414Z
LAST-MODIFIED:20240422T111127Z
UID:8103-1719324000-1719329400@crc326gaus.de
SUMMARY:Chromatic Homotopy Theory
DESCRIPTION:Rizacan Ciloglu (TU Darmstadt) \nTalk 11 – Thick subcategories of finite p-local spectra \nZoom meeting ID: 612 2072 7363\, Password: Largest six digit prime number
URL:https://crc326gaus.de/event/chromatic-homotopy-theory-11/
LOCATION:Darmstadt\, Room 401\, Mainz Room 04-432 and Zoom\, Darmstadt and Mainz\, Darmstadt and Mainz
CATEGORIES:GAUS-AG
END:VEVENT
BEGIN:VEVENT
DTSTART;TZID=Europe/Berlin:20240621T090000
DTEND;TZID=Europe/Berlin:20240621T110000
DTSTAMP:20260424T115729
CREATED:20240507T102631Z
LAST-MODIFIED:20240607T132958Z
UID:8504-1718960400-1718967600@crc326gaus.de
SUMMARY:Shtukas for reductive groups and global Langlands correspondence after Vincent Lafforgue
DESCRIPTION:Talk 9: Theresa Kaiser: Specialization to the diagonal (Part II) \n 
URL:https://crc326gaus.de/event/shtukas-for-reductive-groups-and-global-langlands-correspondence-after-vincent-lafforgue-8/
LOCATION:Heidelberg\, Mathematikon\, SR 8 and Zoom\, INF 205\, Heidelberg\, Germany
CATEGORIES:GAUS-AG
ORGANIZER;CN="Gebhard B%C3%B6ckle":MAILTO:gebhard.boeckle iwr.uni-heidelberg.de
END:VEVENT
BEGIN:VEVENT
DTSTART;TZID=Europe/Berlin:20240620T140000
DTEND;TZID=Europe/Berlin:20240620T170000
DTSTAMP:20260424T115729
CREATED:20240326T150111Z
LAST-MODIFIED:20240418T111059Z
UID:7995-1718892000-1718902800@crc326gaus.de
SUMMARY:Anabelian geometry
DESCRIPTION:14:00 – 15:00 Talk 6: Jon Miles (Goethe Universität): Artin motives and H 1 \nCoffee break \n15:30 – 17:00 Talk 7: Jakob Stix (Goethe Universität): Dual representations and Hodge-Tate characters
URL:https://crc326gaus.de/event/anabelian-geometry-9/
LOCATION:Frankfurt\, Robert-Mayer-Str. 10\, Raum 711 groß
CATEGORIES:GAUS-AG
END:VEVENT
BEGIN:VEVENT
DTSTART;TZID=Europe/Berlin:20240620T110000
DTEND;TZID=Europe/Berlin:20240620T130000
DTSTAMP:20260424T115729
CREATED:20240619T140957Z
LAST-MODIFIED:20240628T133956Z
UID:8830-1718881200-1718888400@crc326gaus.de
SUMMARY:Arithmetic of critical p-adic L-functions
DESCRIPTION:Talk 8: Arithmetic construction of p-adic L-functions on the eigencurve (Reading session)
URL:https://crc326gaus.de/event/arithmetic-of-critical-p-adic-l-functions-8/
LOCATION:Heidelberg\, Mathematikon\, SR 8 and Zoom\, INF 205\, Heidelberg\, Germany
CATEGORIES:GAUS-AG
END:VEVENT
END:VCALENDAR