BEGIN:VCALENDAR
VERSION:2.0
PRODID:-//CRC 326 - GAUS - ECPv6.15.20//NONSGML v1.0//EN
CALSCALE:GREGORIAN
METHOD:PUBLISH
X-ORIGINAL-URL:https://crc326gaus.de
X-WR-CALDESC:Events for CRC 326 - GAUS
REFRESH-INTERVAL;VALUE=DURATION:PT1H
X-Robots-Tag:noindex
X-PUBLISHED-TTL:PT1H
BEGIN:VTIMEZONE
TZID:Europe/Berlin
BEGIN:DAYLIGHT
TZOFFSETFROM:+0100
TZOFFSETTO:+0200
TZNAME:CEST
DTSTART:20240331T010000
END:DAYLIGHT
BEGIN:STANDARD
TZOFFSETFROM:+0200
TZOFFSETTO:+0100
TZNAME:CET
DTSTART:20241027T010000
END:STANDARD
BEGIN:DAYLIGHT
TZOFFSETFROM:+0100
TZOFFSETTO:+0200
TZNAME:CEST
DTSTART:20250330T010000
END:DAYLIGHT
BEGIN:STANDARD
TZOFFSETFROM:+0200
TZOFFSETTO:+0100
TZNAME:CET
DTSTART:20251026T010000
END:STANDARD
BEGIN:DAYLIGHT
TZOFFSETFROM:+0100
TZOFFSETTO:+0200
TZNAME:CEST
DTSTART:20260329T010000
END:DAYLIGHT
BEGIN:STANDARD
TZOFFSETFROM:+0200
TZOFFSETTO:+0100
TZNAME:CET
DTSTART:20261025T010000
END:STANDARD
END:VTIMEZONE
BEGIN:VEVENT
DTSTART;TZID=Europe/Berlin:20250502T090000
DTEND;TZID=Europe/Berlin:20250502T110000
DTSTAMP:20260423T110002
CREATED:20250408T085242Z
LAST-MODIFIED:20250506T075707Z
UID:10948-1746176400-1746183600@crc326gaus.de
SUMMARY:D-elliptic sheaves and the Hasse principle
DESCRIPTION:Stacks I \nspeaker: Chia-Fu Yu (Academia Sinica\, Taiwan) \n 
URL:https://crc326gaus.de/event/d-elliptic-sheaves-and-the-hasse-principle/
LOCATION:Heidelberg\, Mathematikon\, SR 8 and Zoom\, INF 205\, Heidelberg\, Germany
CATEGORIES:GAUS-AG
END:VEVENT
BEGIN:VEVENT
DTSTART;TZID=Europe/Berlin:20250506T140000
DTEND;TZID=Europe/Berlin:20250506T153000
DTSTAMP:20260423T110002
CREATED:20250328T083206Z
LAST-MODIFIED:20250506T085824Z
UID:10842-1746540000-1746545400@crc326gaus.de
SUMMARY:Categorical Deligne–Langlands correspondence
DESCRIPTION:Saskia Kern : Talk 3 – Derived categories of quasi-coherent sheaves \nZoom (612 2072 7363\, Password: largest six digit prime number)
URL:https://crc326gaus.de/event/categorical-deligne-langlands-correspondence-3/
LOCATION:Darmstadt\, Room 401 and Zoom\, Schlossgartenstraße 7\, Darmstadt\, 64289\, Germany
CATEGORIES:GAUS-AG
END:VEVENT
BEGIN:VEVENT
DTSTART;TZID=Europe/Berlin:20250507T141500
DTEND;TZID=Europe/Berlin:20250507T170000
DTSTAMP:20260423T110002
CREATED:20250430T091935Z
LAST-MODIFIED:20250430T091935Z
UID:11189-1746627300-1746637200@crc326gaus.de
SUMMARY:Gromov-Witten theory and real enumerative geometry
DESCRIPTION:14:15 – 15:15 Talk 3: Nicole Müller (Universität Frankfurt): Shifted Symmetric functions and quasimodular forms \n15:45 – 16:45 Talk 4: Lukas Schneider (Universität Frankfurt): Quick start to M g\,n and its intersection theory \n 
URL:https://crc326gaus.de/event/gromov-witten-theory-and-real-enumerative-geometry-2/
LOCATION:Frankfurt\, Robert-Mayer-Str. 6-8\, Raum 309
CATEGORIES:GAUS-AG
END:VEVENT
BEGIN:VEVENT
DTSTART;TZID=Europe/Berlin:20250508T111500
DTEND;TZID=Europe/Berlin:20250508T131500
DTSTAMP:20260423T110002
CREATED:20250410T091017Z
LAST-MODIFIED:20250705T142917Z
UID:11016-1746702900-1746710100@crc326gaus.de
SUMMARY:Locally analytic vector bundles on the Fargues-Fontaine-Curve
DESCRIPTION:(Equivariant) vector bundles \nspeaker: Otmar Venjakob (Heidelberg)
URL:https://crc326gaus.de/event/locally-analytic-vector-bundles-on-the-fargues-fontaine-curve-2/
LOCATION:Heidelberg\, Mathematikon\, SR 8 and Zoom\, INF 205\, Heidelberg\, Germany
CATEGORIES:GAUS-AG
END:VEVENT
BEGIN:VEVENT
DTSTART;TZID=Europe/Berlin:20250508T140000
DTEND;TZID=Europe/Berlin:20250508T173000
DTSTAMP:20260423T110002
CREATED:20250327T085149Z
LAST-MODIFIED:20250416T121219Z
UID:10790-1746712800-1746725400@crc326gaus.de
SUMMARY:Anabelian geometry - Daniel Litt "Arithmetic representations of fundamental groups II"
DESCRIPTION:14:00 – 15:15 Talk 0: Marius Leonhardt (Universität Heidelberg): Introduction \n15:45 – 17:00 Talk 1: Benjamin Steklov (Universität Frankfurt): Deformation spaces \n 
URL:https://crc326gaus.de/event/anabelian-geometry-arithmetic-representations-of-fundamental-groups-after-daniel-litt-arithmetic-representations-of-fundamental-groups-ii/
LOCATION:Heidelberg
CATEGORIES:GAUS-AG
END:VEVENT
BEGIN:VEVENT
DTSTART;TZID=Europe/Berlin:20250509T090000
DTEND;TZID=Europe/Berlin:20250509T110000
DTSTAMP:20260423T110002
CREATED:20250408T085639Z
LAST-MODIFIED:20250506T075628Z
UID:10950-1746781200-1746788400@crc326gaus.de
SUMMARY:D-elliptic sheaves and the Hasse principle
DESCRIPTION:D-elliptic sheaves \nspeaker: Theresa Kaiser (Heidelberg) \n 
URL:https://crc326gaus.de/event/d-elliptic-sheaves-and-the-hasse-principle-2/
LOCATION:Heidelberg\, Mathematikon\, SR 8 and Zoom\, INF 205\, Heidelberg\, Germany
CATEGORIES:GAUS-AG
END:VEVENT
BEGIN:VEVENT
DTSTART;TZID=Europe/Berlin:20250513T140000
DTEND;TZID=Europe/Berlin:20250513T153000
DTSTAMP:20260423T110002
CREATED:20250328T083249Z
LAST-MODIFIED:20250506T085903Z
UID:10841-1747144800-1747150200@crc326gaus.de
SUMMARY:Categorical Deligne–Langlands correspondence
DESCRIPTION:Paul Siemon : Talk 4 – Self-duality of derived push forwards \nZoom (612 2072 7363\, Password: largest six digit prime number)
URL:https://crc326gaus.de/event/categorical-deligne-langlands-correspondence-4/
LOCATION:Darmstadt\, Room 401 and Zoom\, Schlossgartenstraße 7\, Darmstadt\, 64289\, Germany
CATEGORIES:GAUS-AG
END:VEVENT
BEGIN:VEVENT
DTSTART;TZID=Europe/Berlin:20250514T141500
DTEND;TZID=Europe/Berlin:20250514T170000
DTSTAMP:20260423T110002
CREATED:20250430T092352Z
LAST-MODIFIED:20250515T072428Z
UID:11191-1747232100-1747242000@crc326gaus.de
SUMMARY:Gromov-Witten theory and real enumerative geometry
DESCRIPTION:14:15 – 15:15 Talk 5: Moritz Frohwein (Universität Frankfurt): Cohomology of the moduli space of pointed rational curves \n15:45 – 16:45 Talk 6.1: Miguel Prado (Universität Frankfurt): Moduli of stable maps I \n 
URL:https://crc326gaus.de/event/gromov-witten-theory-and-real-enumerative-geometry-3/
LOCATION:Frankfurt\, Robert-Mayer-Str. 6-8\, Raum 309
CATEGORIES:GAUS-AG
END:VEVENT
BEGIN:VEVENT
DTSTART;TZID=Europe/Berlin:20250515T111500
DTEND;TZID=Europe/Berlin:20250515T131500
DTSTAMP:20260423T110002
CREATED:20250410T091218Z
LAST-MODIFIED:20250705T142912Z
UID:11018-1747307700-1747314900@crc326gaus.de
SUMMARY:Locally analytic vector bundles on the Fargues-Fontaine-Curve
DESCRIPTION:Comparison to (φ\, Γ)-modules \nMarvin Schneider (Heidelberg)
URL:https://crc326gaus.de/event/locally-analytic-vector-bundles-on-the-fargues-fontaine-curve-3/
LOCATION:Heidelberg\, Mathematikon\, SR 8 and Zoom\, INF 205\, Heidelberg\, Germany
CATEGORIES:GAUS-AG
END:VEVENT
BEGIN:VEVENT
DTSTART;TZID=Europe/Berlin:20250515T130000
DTEND;TZID=Europe/Berlin:20250515T143000
DTSTAMP:20260423T110002
CREATED:20250415T220355Z
LAST-MODIFIED:20250506T153419Z
UID:11056-1747314000-1747319400@crc326gaus.de
SUMMARY:Berkovich motives
DESCRIPTION:Talk 3: Berkovich spaces (Katharina Hübner)
URL:https://crc326gaus.de/event/berkovich-motives-9/
LOCATION:Heidelberg\, MATHEMATIKON\, SR 12\, INF 205\, Heidelberg\, BW\, 69124\, Germany
CATEGORIES:GAUS-AG
END:VEVENT
BEGIN:VEVENT
DTSTART;TZID=Europe/Berlin:20250515T140000
DTEND;TZID=Europe/Berlin:20250515T173000
DTSTAMP:20260423T110002
CREATED:20250327T085337Z
LAST-MODIFIED:20250430T145815Z
UID:10794-1747317600-1747330200@crc326gaus.de
SUMMARY:Anabelian geometry - Daniel Litt "Arithmetic representations of fundamental groups II"
DESCRIPTION:14:00 – 15:15 Talk 2: Nils Witt (Universität Heidelberg): Basics on arithmetic representations \n15:45 – 17:00 Talk 3: Alireza Shavali (Universität Heidelberg): Determinants à la Chenevier \n 
URL:https://crc326gaus.de/event/anabelian-geometry-arithmetic-representations-of-fundamental-groups-after-daniel-litt-arithmetic-representations-of-fundamental-groups-ii-copy/
LOCATION:Frankfurt\, Robert-Mayer-Str. 6-8\, Raum 309
CATEGORIES:GAUS-AG
END:VEVENT
BEGIN:VEVENT
DTSTART;TZID=Europe/Berlin:20250515T150000
DTEND;TZID=Europe/Berlin:20250515T163000
DTSTAMP:20260423T110002
CREATED:20250415T220355Z
LAST-MODIFIED:20250506T153525Z
UID:11058-1747321200-1747326600@crc326gaus.de
SUMMARY:Berkovich motives
DESCRIPTION:Talk 4: The arc-topology (Jon Miles)
URL:https://crc326gaus.de/event/berkovich-motives-8/
LOCATION:Heidelberg\, MATHEMATIKON\, SR 11\, INF 205\, Heidelberg\, Germany
CATEGORIES:GAUS-AG
END:VEVENT
BEGIN:VEVENT
DTSTART;TZID=Europe/Berlin:20250516T090000
DTEND;TZID=Europe/Berlin:20250516T110000
DTSTAMP:20260423T110002
CREATED:20250408T085805Z
LAST-MODIFIED:20250506T075552Z
UID:10952-1747386000-1747393200@crc326gaus.de
SUMMARY:D-elliptic sheaves and the Hasse principle
DESCRIPTION:Stacks II \nspeaker: Sriram Chinthalagiri Venkata (Heidelberg) \n 
URL:https://crc326gaus.de/event/d-elliptic-sheaves-and-the-hasse-principle-3/
LOCATION:Heidelberg\, Mathematikon\, SR 8 and Zoom\, INF 205\, Heidelberg\, Germany
CATEGORIES:GAUS-AG
END:VEVENT
BEGIN:VEVENT
DTSTART;TZID=Europe/Berlin:20250519T101500
DTEND;TZID=Europe/Berlin:20250519T114500
DTSTAMP:20260423T110002
CREATED:20250409T093355Z
LAST-MODIFIED:20250611T065044Z
UID:10980-1747649700-1747655100@crc326gaus.de
SUMMARY:Motivic Spectra
DESCRIPTION:Talk 3: Properties of motivic spectra (Timon Tausendpfung)
URL:https://crc326gaus.de/event/talk-3-properties-of-motivic-spectra-timon-tausendpfung-medium/
LOCATION:Mainz\, Hilbertraum (05-432) and Zoom
CATEGORIES:GAUS-AG
ORGANIZER;CN="Georg Tamme":MAILTO:georg.tamme@uni-mainz.de
END:VEVENT
BEGIN:VEVENT
DTSTART;TZID=Europe/Berlin:20250519T101500
DTEND;TZID=Europe/Berlin:20250519T114500
DTSTAMP:20260423T110002
CREATED:20250409T094042Z
LAST-MODIFIED:20250611T064902Z
UID:10991-1747649700-1747655100@crc326gaus.de
SUMMARY:Motivic Spectra
DESCRIPTION:Talk 3: Properties of motivic Spectra (Timon Tausendpfund)
URL:https://crc326gaus.de/event/gaus-ag-motivic-spectra-2/
LOCATION:Mainz\, Hilbertraum (05-432) and Zoom
CATEGORIES:GAUS-AG
ORGANIZER;CN="Georg Tamme":MAILTO:georg.tamme@uni-mainz.de
END:VEVENT
BEGIN:VEVENT
DTSTART;TZID=Europe/Berlin:20250522T111500
DTEND;TZID=Europe/Berlin:20250522T131500
DTSTAMP:20260423T110002
CREATED:20250410T091411Z
LAST-MODIFIED:20250705T142900Z
UID:11020-1747912500-1747919700@crc326gaus.de
SUMMARY:Locally analytic vector bundles on the Fargues-Fontaine-Curve
DESCRIPTION:Locally analytic vectors \nAnna Blanco-Cabanillas (Heidelberg)
URL:https://crc326gaus.de/event/locally-analytic-vector-bundles-on-the-fargues-fontaine-curve-4/
LOCATION:Heidelberg\, Mathematikon\, SR 8 and Zoom\, INF 205\, Heidelberg\, Germany
CATEGORIES:GAUS-AG
END:VEVENT
BEGIN:VEVENT
DTSTART;TZID=Europe/Berlin:20250522T130000
DTEND;TZID=Europe/Berlin:20250522T143000
DTSTAMP:20260423T110002
CREATED:20250415T220355Z
LAST-MODIFIED:20250415T220355Z
UID:11060-1747918800-1747924200@crc326gaus.de
SUMMARY:Berkovich motives
DESCRIPTION:Talk 5: Effective motives (Christian Dahlhausen)
URL:https://crc326gaus.de/event/berkovich-motives-7/
CATEGORIES:GAUS-AG
END:VEVENT
BEGIN:VEVENT
DTSTART;TZID=Europe/Berlin:20250522T140000
DTEND;TZID=Europe/Berlin:20250522T173000
DTSTAMP:20260423T110002
CREATED:20250327T085537Z
LAST-MODIFIED:20250512T132228Z
UID:10797-1747922400-1747935000@crc326gaus.de
SUMMARY:Anabelian geometry - Daniel Litt "Arithmetic representations of fundamental groups II"
DESCRIPTION:14:00 – 15:15 Talk 4: Immanuel Klevesath (Universität Heidelberg): Basics of rigid analytic geometry \n15:45 – 17:00 Talk 5: Andrea Conti (Universität Heidelberg): Construction of the character variety \n 
URL:https://crc326gaus.de/event/anabelian-geometry-arithmetic-representations-of-fundamental-groups-after-daniel-litt-arithmetic-representations-of-fundamental-groups-ii-2/
LOCATION:Heidelberg
CATEGORIES:GAUS-AG
END:VEVENT
BEGIN:VEVENT
DTSTART;TZID=Europe/Berlin:20250522T150000
DTEND;TZID=Europe/Berlin:20250522T163000
DTSTAMP:20260423T110002
CREATED:20250415T220355Z
LAST-MODIFIED:20250415T220355Z
UID:11063-1747926000-1747931400@crc326gaus.de
SUMMARY:Berkovich motives
DESCRIPTION:Talk 6: Free motivic sheaves (NN)
URL:https://crc326gaus.de/event/berkovich-motives-6/
CATEGORIES:GAUS-AG
END:VEVENT
BEGIN:VEVENT
DTSTART;TZID=Europe/Berlin:20250523T090000
DTEND;TZID=Europe/Berlin:20250523T110000
DTSTAMP:20260423T110002
CREATED:20250408T085921Z
LAST-MODIFIED:20250506T075501Z
UID:10954-1747990800-1747998000@crc326gaus.de
SUMMARY:D-elliptic sheaves and the Hasse principle
DESCRIPTION:The Drinfeld-Stuhler variety \nspeaker: Andrea Conti (Heidelberg) \n 
URL:https://crc326gaus.de/event/d-elliptic-sheaves-and-the-hasse-principle-4/
LOCATION:Heidelberg\, Mathematikon\, SR 8 and Zoom\, INF 205\, Heidelberg\, Germany
CATEGORIES:GAUS-AG
END:VEVENT
BEGIN:VEVENT
DTSTART;TZID=Europe/Berlin:20250527T140000
DTEND;TZID=Europe/Berlin:20250527T153000
DTSTAMP:20260423T110002
CREATED:20250506T091028Z
LAST-MODIFIED:20250509T084055Z
UID:11241-1748354400-1748359800@crc326gaus.de
SUMMARY:Categorical Deligne–Langlands correspondence
DESCRIPTION:Niklas Ludwig: Talk 5*: Smooth representations of p-adic groups \nZoom (612 2072 7363\, Password: largest six digit prime number)
URL:https://crc326gaus.de/event/categorical-deligne-langlands-correspondence-copy-4/
LOCATION:Darmstadt\, Room 401 and Zoom\, Schlossgartenstraße 7\, Darmstadt\, 64289\, Germany
CATEGORIES:GAUS-AG
END:VEVENT
BEGIN:VEVENT
DTSTART;TZID=Europe/Berlin:20250528T141500
DTEND;TZID=Europe/Berlin:20250528T170000
DTSTAMP:20260423T110002
CREATED:20250514T080407Z
LAST-MODIFIED:20250526T081021Z
UID:11296-1748441700-1748451600@crc326gaus.de
SUMMARY:Gromov-Witten theory and real enumerative geometry
DESCRIPTION:14:15 – 15:15 Talk 6.2: Miguel Prado (Universität Frankfurt): Moduli of stable maps II \n 
URL:https://crc326gaus.de/event/gromov-witten-theory-and-real-enumerative-geometry-4/
LOCATION:Frankfurt\, Robert-Mayer-Str. 6-8\, Raum 309
CATEGORIES:GAUS-AG
END:VEVENT
BEGIN:VEVENT
DTSTART;TZID=Europe/Berlin:20250530T090000
DTEND;TZID=Europe/Berlin:20250530T110000
DTSTAMP:20260423T110002
CREATED:20250408T090418Z
LAST-MODIFIED:20250506T075224Z
UID:10956-1748595600-1748602800@crc326gaus.de
SUMMARY:D-elliptic sheaves and the Hasse principle
DESCRIPTION:D-elliptic sheaves over finite fields \nspeaker: Hsin-Yi Yang (Utrecht) \n 
URL:https://crc326gaus.de/event/d-elliptic-sheaves-and-the-hasse-principle-5/
LOCATION:Heidelberg\, Mathematikon\, SR 8 and Zoom\, INF 205\, Heidelberg\, Germany
CATEGORIES:GAUS-AG
END:VEVENT
END:VCALENDAR