BEGIN:VCALENDAR
VERSION:2.0
PRODID:-//CRC 326 - GAUS - ECPv6.15.20//NONSGML v1.0//EN
CALSCALE:GREGORIAN
METHOD:PUBLISH
X-ORIGINAL-URL:https://crc326gaus.de
X-WR-CALDESC:Events for CRC 326 - GAUS
REFRESH-INTERVAL;VALUE=DURATION:PT1H
X-Robots-Tag:noindex
X-PUBLISHED-TTL:PT1H
BEGIN:VTIMEZONE
TZID:Europe/Berlin
BEGIN:DAYLIGHT
TZOFFSETFROM:+0100
TZOFFSETTO:+0200
TZNAME:CEST
DTSTART:20230326T010000
END:DAYLIGHT
BEGIN:STANDARD
TZOFFSETFROM:+0200
TZOFFSETTO:+0100
TZNAME:CET
DTSTART:20231029T010000
END:STANDARD
BEGIN:DAYLIGHT
TZOFFSETFROM:+0100
TZOFFSETTO:+0200
TZNAME:CEST
DTSTART:20240331T010000
END:DAYLIGHT
BEGIN:STANDARD
TZOFFSETFROM:+0200
TZOFFSETTO:+0100
TZNAME:CET
DTSTART:20241027T010000
END:STANDARD
BEGIN:DAYLIGHT
TZOFFSETFROM:+0100
TZOFFSETTO:+0200
TZNAME:CEST
DTSTART:20250330T010000
END:DAYLIGHT
BEGIN:STANDARD
TZOFFSETFROM:+0200
TZOFFSETTO:+0100
TZNAME:CET
DTSTART:20251026T010000
END:STANDARD
END:VTIMEZONE
BEGIN:VEVENT
DTSTART;TZID=Europe/Berlin:20241203T140000
DTEND;TZID=Europe/Berlin:20241203T153000
DTSTAMP:20260423T125710
CREATED:20241108T103025Z
LAST-MODIFIED:20241108T103025Z
UID:9767-1733234400-1733239800@crc326gaus.de
SUMMARY:Vector bundles on curves
DESCRIPTION:Rizacan Ciloglu : Existence of semi-stable vector bundles and examples \nZoom (612 2072 7363\, Password: largest six digit prime number)
URL:https://crc326gaus.de/event/vector-bundles-on-curves-6/
LOCATION:Darmstadt\, Room 401 and Zoom\, Schlossgartenstraße 7\, Darmstadt\, 64289\, Germany
CATEGORIES:GAUS-AG
END:VEVENT
BEGIN:VEVENT
DTSTART;TZID=Europe/Berlin:20241205T111500
DTEND;TZID=Europe/Berlin:20241205T124500
DTSTAMP:20260423T125710
CREATED:20241105T134729Z
LAST-MODIFIED:20241105T134729Z
UID:9687-1733397300-1733402700@crc326gaus.de
SUMMARY:The direct summand theorem
DESCRIPTION:Talk 8: Marvin Schneider (Universität Heidelberg): Perfectoid spaces II: Tate acyclicity
URL:https://crc326gaus.de/event/the-direct-summand-theorem-5/
LOCATION:Heidelberg\, Mathematikon\, SR 8 and Zoom\, INF 205\, Heidelberg\, Germany
CATEGORIES:GAUS-AG
END:VEVENT
BEGIN:VEVENT
DTSTART;TZID=Europe/Berlin:20241206T090000
DTEND;TZID=Europe/Berlin:20241206T110000
DTSTAMP:20260423T125710
CREATED:20241211T123516Z
LAST-MODIFIED:20241211T123516Z
UID:10147-1733475600-1733482800@crc326gaus.de
SUMMARY:Congruence Modules and the Wiles–Lenstra–Diamond Numerical Criterion in Higher Codimension
DESCRIPTION:Sriram Chinthalagiri Venkata (Universität Heidelberg): Tate resolutions
URL:https://crc326gaus.de/event/congruence-modules-and-the-wiles-lenstra-diamond-numerical-criterion-in-higher-codimension-4/
LOCATION:Heidelberg\, Mathematikon\, SR 8 and Zoom\, INF 205\, Heidelberg\, Germany
CATEGORIES:GAUS-AG
END:VEVENT
BEGIN:VEVENT
DTSTART;TZID=Europe/Berlin:20241210T140000
DTEND;TZID=Europe/Berlin:20241210T153000
DTSTAMP:20260423T125710
CREATED:20241108T103213Z
LAST-MODIFIED:20241108T103213Z
UID:9766-1733839200-1733844600@crc326gaus.de
SUMMARY:Vector bundles on curves
DESCRIPTION:Christopher Lang: Vector bundles in families \nZoom (612 2072 7363\, Password: largest six digit prime number)
URL:https://crc326gaus.de/event/vector-bundles-on-curves-7/
LOCATION:Darmstadt\, Room 401 and Zoom\, Schlossgartenstraße 7\, Darmstadt\, 64289\, Germany
CATEGORIES:GAUS-AG
END:VEVENT
BEGIN:VEVENT
DTSTART;TZID=Europe/Berlin:20241211T120000
DTEND;TZID=Europe/Berlin:20241211T133000
DTSTAMP:20260423T125710
CREATED:20241209T081958Z
LAST-MODIFIED:20241211T135949Z
UID:10110-1733918400-1733923800@crc326gaus.de
SUMMARY:Hodge Theory
DESCRIPTION:Tom Bachmann (Universität Mainz): Pure Hodge structures
URL:https://crc326gaus.de/event/hodge-theory-2/
LOCATION:Mainz\, Hilbertraum (05-432)
CATEGORIES:GAUS-AG
END:VEVENT
BEGIN:VEVENT
DTSTART;TZID=Europe/Berlin:20241212T111500
DTEND;TZID=Europe/Berlin:20241212T124500
DTSTAMP:20260423T125710
CREATED:20241105T134933Z
LAST-MODIFIED:20241105T134933Z
UID:9689-1734002100-1734007500@crc326gaus.de
SUMMARY:The direct summand theorem
DESCRIPTION:Talk 9:  Christian Dahlhausen (Universität Heidelberg): The almost purity theorem
URL:https://crc326gaus.de/event/the-direct-summand-theorem-6/
LOCATION:Heidelberg\, Mathematikon\, SR 8 and Zoom\, INF 205\, Heidelberg\, Germany
CATEGORIES:GAUS-AG
END:VEVENT
BEGIN:VEVENT
DTSTART;TZID=Europe/Berlin:20241212T140000
DTEND;TZID=Europe/Berlin:20241212T163000
DTSTAMP:20260423T125710
CREATED:20241105T092951Z
LAST-MODIFIED:20241105T092951Z
UID:9653-1734012000-1734021000@crc326gaus.de
SUMMARY:Moduli of Quiver Representations and GIT Quotients
DESCRIPTION:14:00 – 15:00 Talk 3.1: Miguel Prado (Goethe Universität): Introduction to Quivers and Properties I \nCoffee break \n15:30 – 16:30 Talk 3.2: Jeonghoon So (Goethe Universität): Introduction to Quivers and Properties II
URL:https://crc326gaus.de/event/moduli-of-quiver-representations-and-git-quotients-3/
LOCATION:Frankfurt\, Robert-Mayer-Str. 6-8\, Raum 309
CATEGORIES:GAUS-AG
END:VEVENT
BEGIN:VEVENT
DTSTART;TZID=Europe/Berlin:20241213T090000
DTEND;TZID=Europe/Berlin:20241213T110000
DTSTAMP:20260423T125710
CREATED:20241211T123651Z
LAST-MODIFIED:20241211T123651Z
UID:10149-1734080400-1734087600@crc326gaus.de
SUMMARY:Congruence Modules and the Wiles–Lenstra–Diamond Numerical Criterion in Higher Codimension
DESCRIPTION:Gebhard Böckle (Universität Heidelberg): Congruence modules and Wiles defect under surjections
URL:https://crc326gaus.de/event/congruence-modules-and-the-wiles-lenstra-diamond-numerical-criterion-in-higher-codimension-5/
LOCATION:Heidelberg\, Mathematikon\, SR 8 and Zoom\, INF 205\, Heidelberg\, Germany
CATEGORIES:GAUS-AG
END:VEVENT
BEGIN:VEVENT
DTSTART;TZID=Europe/Berlin:20241218T120000
DTEND;TZID=Europe/Berlin:20241218T133000
DTSTAMP:20260423T125710
CREATED:20241209T083017Z
LAST-MODIFIED:20241211T142525Z
UID:10113-1734523200-1734528600@crc326gaus.de
SUMMARY:Hodge Theory
DESCRIPTION:Nutsa Gegelia (Universität Mainz): Variations of Hodge structures I
URL:https://crc326gaus.de/event/hodge-theory-3/
LOCATION:Mainz\, Hilbertraum (05-432)
CATEGORIES:GAUS-AG
END:VEVENT
BEGIN:VEVENT
DTSTART;TZID=Europe/Berlin:20241219T111500
DTEND;TZID=Europe/Berlin:20241219T124500
DTSTAMP:20260423T125710
CREATED:20241105T135912Z
LAST-MODIFIED:20241105T135912Z
UID:9693-1734606900-1734612300@crc326gaus.de
SUMMARY:The direct summand theorem
DESCRIPTION:Talk 10: Max Witzelsperger (Universität Heidelberg): The direct summand theorem
URL:https://crc326gaus.de/event/the-direct-summand-theorem-7/
LOCATION:Heidelberg\, Mathematikon\, SR 8 and Zoom\, INF 205\, Heidelberg\, Germany
CATEGORIES:GAUS-AG
END:VEVENT
BEGIN:VEVENT
DTSTART;TZID=Europe/Berlin:20241219T140000
DTEND;TZID=Europe/Berlin:20241219T163000
DTSTAMP:20260423T125710
CREATED:20241105T093821Z
LAST-MODIFIED:20241105T093821Z
UID:9655-1734616800-1734625800@crc326gaus.de
SUMMARY:Moduli of Quiver Representations and GIT Quotients
DESCRIPTION:14:00 – 15:00 Talk 4.1: Arne Kuhrs (Goethe Universität): Affine Moduli Spaces of Quiver Representations \nCoffee break \n15:30 – 16:30 Talk 4.2: Johannes Horn (Goethe Universität): Moduli Spaces of Quiver Representations
URL:https://crc326gaus.de/event/moduli-of-quiver-representations-and-git-quotients-4/
LOCATION:Frankfurt\, Rober-Mayer-Str. 10\, Raum 711 klein
CATEGORIES:GAUS-AG
END:VEVENT
BEGIN:VEVENT
DTSTART;TZID=Europe/Berlin:20241219T140000
DTEND;TZID=Europe/Berlin:20241219T173000
DTSTAMP:20260423T125710
CREATED:20241105T091029Z
LAST-MODIFIED:20241120T141311Z
UID:9644-1734616800-1734629400@crc326gaus.de
SUMMARY:Anabelian geometry - Mochizuki’s proof of the Hom-Conjecture [d’après Faltings]
DESCRIPTION:14:00 – 15:30 Talk 4: Marius Leonhardt (Goethe Universität): Construction of 𝔥 and Hodge-Tateness of rational sections \nCoffee break \n16:00 – 17:30 Talk 5: Morten Lüders (Universität Heidelberg): Bloch-Kato Selmer groups
URL:https://crc326gaus.de/event/anabelian-geometry-mochizukis-proof-of-the-hom-conjecture-dapres-faltings-2/
LOCATION:Frankfurt\, Robert-Mayer-Str. 6-8\, Raum 309
CATEGORIES:GAUS-AG
END:VEVENT
BEGIN:VEVENT
DTSTART;TZID=Europe/Berlin:20241220T090000
DTEND;TZID=Europe/Berlin:20241220T110000
DTSTAMP:20260423T125710
CREATED:20241211T123827Z
LAST-MODIFIED:20241211T123827Z
UID:10151-1734685200-1734692400@crc326gaus.de
SUMMARY:Congruence Modules and the Wiles–Lenstra–Diamond Numerical Criterion in Higher Codimension
DESCRIPTION:Junyan Xu (Universität Heidelberg): Wiles defect and free direct summands
URL:https://crc326gaus.de/event/congruence-modules-and-the-wiles-lenstra-diamond-numerical-criterion-in-higher-codimension-6/
LOCATION:Heidelberg\, Mathematikon\, SR 8 and Zoom\, INF 205\, Heidelberg\, Germany
CATEGORIES:GAUS-AG
END:VEVENT
END:VCALENDAR